BEGIN:VCALENDAR
VERSION:2.0
PRODID:-//MilTRAC - ECPv6.15.20//NONSGML v1.0//EN
CALSCALE:GREGORIAN
METHOD:PUBLISH
X-ORIGINAL-URL:https://miltrac.org
X-WR-CALDESC:Events for MilTRAC
REFRESH-INTERVAL;VALUE=DURATION:PT1H
X-Robots-Tag:noindex
X-PUBLISHED-TTL:PT1H
BEGIN:VTIMEZONE
TZID:America/Chicago
BEGIN:DAYLIGHT
TZOFFSETFROM:-0600
TZOFFSETTO:-0500
TZNAME:CDT
DTSTART:20240310T080000
END:DAYLIGHT
BEGIN:STANDARD
TZOFFSETFROM:-0500
TZOFFSETTO:-0600
TZNAME:CST
DTSTART:20241103T070000
END:STANDARD
BEGIN:DAYLIGHT
TZOFFSETFROM:-0600
TZOFFSETTO:-0500
TZNAME:CDT
DTSTART:20250309T080000
END:DAYLIGHT
BEGIN:STANDARD
TZOFFSETFROM:-0500
TZOFFSETTO:-0600
TZNAME:CST
DTSTART:20251102T070000
END:STANDARD
BEGIN:DAYLIGHT
TZOFFSETFROM:-0600
TZOFFSETTO:-0500
TZNAME:CDT
DTSTART:20260308T080000
END:DAYLIGHT
BEGIN:STANDARD
TZOFFSETFROM:-0500
TZOFFSETTO:-0600
TZNAME:CST
DTSTART:20261101T070000
END:STANDARD
END:VTIMEZONE
BEGIN:VEVENT
DTSTART;TZID=America/Chicago:20250611T120000
DTEND;TZID=America/Chicago:20250611T133000
DTSTAMP:20260423T005457
CREATED:20250510T152447Z
LAST-MODIFIED:20250510T152821Z
UID:10001326-1749643200-1749648600@miltrac.org
SUMMARY:Real Talk:  Life & Love With PTSD
DESCRIPTION:The Veterans spouse Network hosts this virtual meeting. \nTime:  May 14\, noon \nRegistration link:  Please click on the graphic below to register. \n \n  \nShare this:Post
URL:https://miltrac.org/event/real-talk-life-love-with-ptsd/2025-06-11/
CATEGORIES:Aviation,Georgia,Georgia Event,JBSA,Texas,Texas Event
END:VEVENT
BEGIN:VEVENT
DTSTART;TZID=America/Chicago:20250612T193000
DTEND;TZID=America/Chicago:20250612T203000
DTSTAMP:20260423T005457
CREATED:20250612T112019Z
LAST-MODIFIED:20250612T112019Z
UID:10001641-1749756600-1749760200@miltrac.org
SUMMARY:Join the Military Transition Roundtable for this virtual MasterMind program
DESCRIPTION:The Military Transition Roundtable welcomes veterans in transition to join us. \nTime:  June 12\, 7:30 p.m. \nPlease click on the graphic below for the Zoom Link \n  \n \n  \nShare this:Post
URL:https://miltrac.org/event/join-the-military-transition-roundtable-for-this-virtual-mastermind-program/
CATEGORIES:Aviation,Georgia,Georgia Event,JBSA,Texas,Texas Event
ATTACH;FMTTYPE=image/png:https://miltrac.org/wp-content/uploads/2025/06/mtr.invite.png
END:VEVENT
BEGIN:VEVENT
DTSTART;TZID=America/Chicago:20250625T120000
DTEND;TZID=America/Chicago:20250625T133000
DTSTAMP:20260423T005457
CREATED:20250510T152447Z
LAST-MODIFIED:20250510T152821Z
UID:10001331-1750852800-1750858200@miltrac.org
SUMMARY:Real Talk:  Life & Love With PTSD
DESCRIPTION:The Veterans spouse Network hosts this virtual meeting. \nTime:  May 14\, noon \nRegistration link:  Please click on the graphic below to register. \n \n  \nShare this:Post
URL:https://miltrac.org/event/real-talk-life-love-with-ptsd/2025-06-25/
CATEGORIES:Aviation,Georgia,Georgia Event,JBSA,Texas,Texas Event
END:VEVENT
END:VCALENDAR