BEGIN:VCALENDAR
VERSION:2.0
PRODID:-//MilTRAC - ECPv6.15.20//NONSGML v1.0//EN
CALSCALE:GREGORIAN
METHOD:PUBLISH
X-WR-CALNAME:MilTRAC
X-ORIGINAL-URL:https://miltrac.org
X-WR-CALDESC:Events for MilTRAC
REFRESH-INTERVAL;VALUE=DURATION:PT1H
X-Robots-Tag:noindex
X-PUBLISHED-TTL:PT1H
BEGIN:VTIMEZONE
TZID:America/Chicago
BEGIN:DAYLIGHT
TZOFFSETFROM:-0600
TZOFFSETTO:-0500
TZNAME:CDT
DTSTART:20240310T080000
END:DAYLIGHT
BEGIN:STANDARD
TZOFFSETFROM:-0500
TZOFFSETTO:-0600
TZNAME:CST
DTSTART:20241103T070000
END:STANDARD
BEGIN:DAYLIGHT
TZOFFSETFROM:-0600
TZOFFSETTO:-0500
TZNAME:CDT
DTSTART:20250309T080000
END:DAYLIGHT
BEGIN:STANDARD
TZOFFSETFROM:-0500
TZOFFSETTO:-0600
TZNAME:CST
DTSTART:20251102T070000
END:STANDARD
BEGIN:DAYLIGHT
TZOFFSETFROM:-0600
TZOFFSETTO:-0500
TZNAME:CDT
DTSTART:20260308T080000
END:DAYLIGHT
BEGIN:STANDARD
TZOFFSETFROM:-0500
TZOFFSETTO:-0600
TZNAME:CST
DTSTART:20261101T070000
END:STANDARD
END:VTIMEZONE
BEGIN:VEVENT
DTSTART;TZID=America/Chicago:20250722T080000
DTEND;TZID=America/Chicago:20250722T153000
DTSTAMP:20260421T050826
CREATED:20250718T182759Z
LAST-MODIFIED:20250718T184138Z
UID:10001954-1753171200-1753198200@miltrac.org
SUMMARY:Virtual Amplify
DESCRIPTION:This virtual event provides an exclusive\, one-day workshop designed for military spouses.  The program includes career prep\, professional development and strategic networking events. \nDate:  July 22 \nTime:  8 a.m.. CDT \nRegistration:  Please use this link \nShare this:Post
URL:https://miltrac.org/event/virtual-amplify/
CATEGORIES:Aviation,Georgia,Georgia Event,JBSA,Texas,Texas Event
ATTACH;FMTTYPE=image/png:https://miltrac.org/wp-content/uploads/2025/07/event.logo_.final_.png
END:VEVENT
BEGIN:VEVENT
DTSTART;TZID=America/Chicago:20250722T190000
DTEND;TZID=America/Chicago:20250722T193000
DTSTAMP:20260421T050826
CREATED:20250718T183804Z
LAST-MODIFIED:20250718T183804Z
UID:10001956-1753210800-1753212600@miltrac.org
SUMMARY:Hire Our Heroes offers corporate fellow program info session
DESCRIPTION:Hire Our Heroes is offering a corporate fellowship program info session. \nThe organization invites transitioning service members to learn more about our SkillBridge fellowships\, which provide professional training and hands-on experience in the civilian workforce. \nDate: July 22 \nTime: 6 p.m. CDT \nRegistration:  Please use this link \nShare this:Post
URL:https://miltrac.org/event/hire-our-heroes-offers-corporate-fellow-program-info-session/
CATEGORIES:Aviation,Georgia,Georgia Event,JBSA,Texas,Texas Event
ATTACH;FMTTYPE=image/png:https://miltrac.org/wp-content/uploads/2025/07/event.logo_.final2_.png
END:VEVENT
BEGIN:VEVENT
DTSTART;TZID=America/Chicago:20250723T120000
DTEND;TZID=America/Chicago:20250723T163000
DTSTAMP:20260421T050826
CREATED:20250718T184829Z
LAST-MODIFIED:20250718T184844Z
UID:10001957-1753272000-1753288200@miltrac.org
SUMMARY:Hire Our Heroes offer virtual military spouse hiring event
DESCRIPTION:Hire Our Heroes will offer a virtual military spouse hiring event.  This event provides employment opportunities across a wide range of industries. \nFeatured employers include:  Amazon\, Andrews Federal Credit Union\, Aretum\, BMO Harris\, City of San Antonio\, CommonSpirit Health\, CVS Health\, Delta Dental Insurance\, Department of the Army Criminal Investigation Division (Army CID)\, Disney\, FL\, DLH Holdings Corp.\, Emplify Health\, Experian\, First Command Financial Services\, Inc.\, Gainwell Technologies\, General Dynamics Missions Systems\, Goldbelt Inc.\, GPC – Napa Auto Parts\, Intuit\, JP Morgan Chase & Co.\, J.S. Held\, Leidos\, Link Solutions Inc.\, Optum Care\, Prime Therapeutics\, Sonepar USA\, Sonic Healthcare USA\, Spectrum / Charter Communications\, Starbucks\, Teleperformance\, The Hanover Insurance Group\, T-Mobile\, Truist Financial\, United Rentals\, University of Maryland Global Campus\, Vectrus\, Verizon\, Wells Fargo\, and Workday. \nDate: July 23 \nTime:  Noon \nRegistration link:  Please click on this link \nShare this:Post
URL:https://miltrac.org/event/hire-our-heroes-offer-virtual-military-spouse-hiring-event/
CATEGORIES:Aviation,Georgia,Georgia Event,JBSA,Texas,Texas Event
ATTACH;FMTTYPE=image/png:https://miltrac.org/wp-content/uploads/2025/07/event.logo_.final3_.png
END:VEVENT
BEGIN:VEVENT
DTSTART;TZID=America/Chicago:20250729T080000
DTEND;TZID=America/Chicago:20250729T170000
DTSTAMP:20260421T050826
CREATED:20250510T152447Z
LAST-MODIFIED:20250510T152821Z
UID:10001332-1753776000-1753808400@miltrac.org
SUMMARY:Real Talk:  Life & Love With PTSD
DESCRIPTION:The Veterans spouse Network hosts this virtual meeting. \nTime:  May 14\, noon \nRegistration link:  Please click on the graphic below to register. \n \n  \nShare this:Post
URL:https://miltrac.org/event/real-talk-life-love-with-ptsd/2025-07-29/
CATEGORIES:Aviation,Georgia,Georgia Event,JBSA,Texas,Texas Event
END:VEVENT
BEGIN:VEVENT
DTSTART;TZID=America/Chicago:20250730T080000
DTEND;TZID=America/Chicago:20250730T120000
DTSTAMP:20260421T050826
CREATED:20250718T185423Z
LAST-MODIFIED:20250718T185552Z
UID:10001958-1753862400-1753876800@miltrac.org
SUMMARY:Hire Our Heroes to host virtual workshop
DESCRIPTION:Hire  Our Heroes will host a Virtual Amplify workshop with a focus on career and professional development for those moving from federal to the private sector. \nDate:  July 30 \nTime:  8 a.m.-noon \nRegistration event:  Please use this link \nShare this:Post
URL:https://miltrac.org/event/hire-our-heroes-to-host-virtual-workshop/
CATEGORIES:Aviation,Georgia,Georgia Event,JBSA,Texas,Texas Event
END:VEVENT
BEGIN:VEVENT
DTSTART;TZID=America/Chicago:20250731T150000
DTEND;TZID=America/Chicago:20250731T170000
DTSTAMP:20260421T050826
CREATED:20250718T190229Z
LAST-MODIFIED:20250718T190229Z
UID:10001959-1753974000-1753981200@miltrac.org
SUMMARY:Hiring Our Heroes to offer interview practice workshop
DESCRIPTION:Hiring Our Heroes will host an interview practice workshop.  This workshop places people in small groups with human resource professionals. \nDate:  July 31 \nTime: 3 p.m. \nRegistration link: please use this link \nRelated:   The Many Steps of a Job Interview \nShare this:Post
URL:https://miltrac.org/event/hiring-our-heroes-to-offer-interview-practice-workshop/
CATEGORIES:Aviation,Georgia,Georgia Event,JBSA,Texas,Texas Event
ATTACH;FMTTYPE=image/png:https://miltrac.org/wp-content/uploads/2024/09/interview.png
END:VEVENT
BEGIN:VEVENT
DTSTART;TZID=America/Chicago:20250920T140000
DTEND;TZID=America/Chicago:20250920T170000
DTSTAMP:20260421T050826
CREATED:20250827T053708Z
LAST-MODIFIED:20250827T054156Z
UID:10001980-1758376800-1758387600@miltrac.org
SUMMARY:VETS2INDUSTRY 69th Virtual Networking Circuit Event
DESCRIPTION:  \n  \nVETS2INDUSTRY will host D. Matt Scherer in a three-hour\, virtual symposium\, Sept. 20 from 2 to 5 p.m. CDT. \nScherer\, the publisher of the Military Transition Roundtable\, will share how veterans can capitalize on LinkedIn as a networking tool. \nDate:  Sept. 20 \nTime:  2 to 5 p.m. \nRegistration:  RSVP@vets2industry.org/event-page. \nShare this:Post
URL:https://miltrac.org/event/vets2industry-69th-virtual-networking-circuit-event/
CATEGORIES:Georgia Event,JBSA,Texas,Texas Event
ATTACH;FMTTYPE=image/png:https://miltrac.org/wp-content/uploads/2025/08/canva.vets_.industry.2.png
END:VEVENT
BEGIN:VEVENT
DTSTART;TZID=America/Chicago:20251104T123000
DTEND;TZID=America/Chicago:20251104T143000
DTSTAMP:20260421T050826
CREATED:20251010T191358Z
LAST-MODIFIED:20251010T191358Z
UID:10002011-1762259400-1762266600@miltrac.org
SUMMARY:Interview skills workshop
DESCRIPTION:Join the Department of Labor as it host an interview skills workshop. \nDate:  Nov. 4 \nTime:  12:30-2:30 p.m. \nLocation:  American GI Forum /Lulus: 918 N. Main \nShare this:Post
URL:https://miltrac.org/event/interview-skills-workshop-3/
CATEGORIES:Georgia Event,JBSA,Texas,Texas Event
ATTACH;FMTTYPE=image/png:https://miltrac.org/wp-content/uploads/2025/04/key.job_.interview.png
END:VEVENT
BEGIN:VEVENT
DTSTART;TZID=America/Chicago:20251216T090000
DTEND;TZID=America/Chicago:20251216T160000
DTSTAMP:20260421T050826
CREATED:20251203T175843Z
LAST-MODIFIED:20251204T230947Z
UID:10002026-1765875600-1765900800@miltrac.org
SUMMARY:OBTT Workshop
DESCRIPTION:Date: December 16\nLocation: Virtual\nPoint of Contact:  (210) 608-1814 \n\nAre you looking for an edge in today’s job market? These workshops can help you gain a better understanding of the hiring process\, whether it’s cracking the code of an effective resume or understanding the gears of the federal job market. \nKnowledge is power. And since these courses are online\, you can learn from the comfort of home. \n\nResume Basics\n9:00  – 11:00 am \nLearn to recognize the elements of an effective resume. This is your quick-start guide to building a resume\nthat will help you get noticed and hired.\n\nResume Writing\n11:30 am – 1:30 pm\n \nCraft an initial resume or revise a current one in this workshop. Highlight your work history in a resume\ntargeted to a specific job posting. \nFederal Hiring Basics\n2:00 – 4:00 pm\n\nLearn to navigate your federal job search. This workshop covers the basics of the hiring process and\nexplores resources to help you obtain federal employment.\n\nREGISTER ONLINE \n\nRelated Articles: \nIs there a limit on having too many resumes? \nShare this:Post
URL:https://miltrac.org/event/obtt-workshop-3/
CATEGORIES:Georgia Event,Texas Event
ATTACH;FMTTYPE=image/png:https://miltrac.org/wp-content/uploads/2025/12/Untitled-design.png
END:VEVENT
END:VCALENDAR