BEGIN:VCALENDAR
VERSION:2.0
PRODID:-//MilTRAC - ECPv6.15.20//NONSGML v1.0//EN
CALSCALE:GREGORIAN
METHOD:PUBLISH
X-WR-CALNAME:MilTRAC
X-ORIGINAL-URL:https://miltrac.org
X-WR-CALDESC:Events for MilTRAC
REFRESH-INTERVAL;VALUE=DURATION:PT1H
X-Robots-Tag:noindex
X-PUBLISHED-TTL:PT1H
BEGIN:VTIMEZONE
TZID:America/Chicago
BEGIN:DAYLIGHT
TZOFFSETFROM:-0600
TZOFFSETTO:-0500
TZNAME:CDT
DTSTART:20240310T080000
END:DAYLIGHT
BEGIN:STANDARD
TZOFFSETFROM:-0500
TZOFFSETTO:-0600
TZNAME:CST
DTSTART:20241103T070000
END:STANDARD
BEGIN:DAYLIGHT
TZOFFSETFROM:-0600
TZOFFSETTO:-0500
TZNAME:CDT
DTSTART:20250309T080000
END:DAYLIGHT
BEGIN:STANDARD
TZOFFSETFROM:-0500
TZOFFSETTO:-0600
TZNAME:CST
DTSTART:20251102T070000
END:STANDARD
BEGIN:DAYLIGHT
TZOFFSETFROM:-0600
TZOFFSETTO:-0500
TZNAME:CDT
DTSTART:20260308T080000
END:DAYLIGHT
BEGIN:STANDARD
TZOFFSETFROM:-0500
TZOFFSETTO:-0600
TZNAME:CST
DTSTART:20261101T070000
END:STANDARD
END:VTIMEZONE
BEGIN:VEVENT
DTSTART;TZID=America/Chicago:20250529T190000
DTEND;TZID=America/Chicago:20250529T200000
DTSTAMP:20260424T021114
CREATED:20250406T202142Z
LAST-MODIFIED:20250406T202239Z
UID:10001076-1748545200-1748548800@miltrac.org
SUMMARY:A podcast with John Bates
DESCRIPTION:Join Shawn Welsh\, the host of S.O.S. Podcast\, as he interviews John Bates\, Executive Speaking Success. \nDate/Time:  May 29\, 7 p.m. \nVideo Link: https://www.linkedin.com/safety/go?url=https%3A%2F%2Fyoutu.be%2FPuF4l_mMeZk&trk=flagship-messaging-web&messageThreadUrn=urn%3Ali%3AmessagingThread%3A2-Y2FlMjBlNTUtZWRhNy00ZThhLThiYjctOTVjOWFlYjlkMTIyXzAxMg%3D%3D&lipi=urn%3Ali%3Apage%3Ad_flagship3_profile_view_base%3BJOKopFUfRLGMEotHAN8ttg%3D%3D \nShare this:Post
URL:https://miltrac.org/event/a-podcast-with-john-bates/
CATEGORIES:Georgia Event,JBSA,Texas,Texas Event
ATTACH;FMTTYPE=image/png:https://miltrac.org/wp-content/uploads/2025/04/Podcasts-we-love.png
END:VEVENT
BEGIN:VEVENT
DTSTART;TZID=America/Chicago:20250529T170000
DTEND;TZID=America/Chicago:20250529T190000
DTSTAMP:20260424T021114
CREATED:20250509T122439Z
LAST-MODIFIED:20250509T122439Z
UID:10001311-1748538000-1748545200@miltrac.org
SUMMARY:Join Soldiers' Angels for a speed networking event
DESCRIPTION:Soldiers’ Angels will host a speed networking event  The event brings veterans to meet others in a relaxed\, engaging setting. \nDate:  May 29\, 5-7 pm. \nLocation:  Cherrity Bar\, 302 Montana Street\, San Antonio \nShare this:Post
URL:https://miltrac.org/event/join-soldiers-angels-for-a-speed-networking-event/
CATEGORIES:JBSA,Texas,Texas Event
ATTACH;FMTTYPE=image/png:https://miltrac.org/wp-content/uploads/2024/12/networking.png
END:VEVENT
BEGIN:VEVENT
DTSTART;TZID=America/Chicago:20250529T073000
DTEND;TZID=America/Chicago:20250529T080000
DTSTAMP:20260424T021114
CREATED:20250510T190717Z
LAST-MODIFIED:20250510T191001Z
UID:10001335-1748503800-1748505600@miltrac.org
SUMMARY:Morning breath workshop
DESCRIPTION:The Veteran Spouse Network hosts a virtual ‘Morning Breath Work” webinar. \nTime:  Each Thursday\, 7:30 p.m.  This program is geared for military spouses of active duty and retirees. \nRegistration:  Please click on the graphic below. \n \n  \nShare this:Post
URL:https://miltrac.org/event/morning-breath-work-workshop/2025-05-29/
END:VEVENT
BEGIN:VEVENT
DTSTART;TZID=America/Chicago:20250528T190000
DTEND;TZID=America/Chicago:20250528T200000
DTSTAMP:20260424T021114
CREATED:20250406T201614Z
LAST-MODIFIED:20250406T201614Z
UID:10001075-1748458800-1748462400@miltrac.org
SUMMARY:A S.O.S. podcast with Steve Papas
DESCRIPTION:Join Shawn Welsh\, the host of S.O.S. podcast\, as he interviews Steve Papas\, University of Florida’s Leon Haley Brain Wellness Center.. \nTime/Day:  May 28\, 7 p.m.  Video link: https://www.linkedin.com/safety/go?url=https%3A%2F%2Fyoutu.be%2FtwC4N8doHw0&trk=flagship-messaging-web&messageThreadUrn=urn%3Ali%3AmessagingThread%3A2-Y2FlMjBlNTUtZWRhNy00ZThhLThiYjctOTVjOWFlYjlkMTIyXzAxMg%3D%3D&lipi=urn%3Ali%3Apage%3Ad_flagship3_profile_view_base%3BJOKopFUfRLGMEotHAN8ttg%3D%3D \nShare this:Post
URL:https://miltrac.org/event/a-s-o-s-podcast-with-steve-papas/
CATEGORIES:Georgia Event,Texas,Texas Event
ATTACH;FMTTYPE=image/png:https://miltrac.org/wp-content/uploads/2025/04/Podcasts-we-love.png
END:VEVENT
BEGIN:VEVENT
DTSTART;TZID=America/Chicago:20250528T150000
DTEND;TZID=America/Chicago:20250528T190000
DTSTAMP:20260424T021114
CREATED:20250510T120225Z
LAST-MODIFIED:20250514T152014Z
UID:10001318-1748444400-1748458800@miltrac.org
SUMMARY:VIA onsite job fair
DESCRIPTION:San Antonio’s VIA transportation is hosting a job fair. \nTime:  May 28\, 3-7 p.m. \nLocation:  VIA office\, 1021 San Pedro. \nRELATED:  Elevator Pitch 101 – a guide to making a pitch at a job fair \nFor current openings\, please click on the graphic below. \n \nShare this:Post
URL:https://miltrac.org/event/via-onsite-job-fair/
CATEGORIES:JBSA,Texas,Texas Event
ATTACH;FMTTYPE=image/png:https://miltrac.org/wp-content/uploads/2025/05/job.fair_.png
END:VEVENT
BEGIN:VEVENT
DTSTART;TZID=America/Chicago:20250528T100000
DTEND;TZID=America/Chicago:20250528T120000
DTSTAMP:20260424T021114
CREATED:20250510T143137Z
LAST-MODIFIED:20250510T143159Z
UID:10001321-1748426400-1748433600@miltrac.org
SUMMARY:Resume workshop
DESCRIPTION:The Department of Labor OBTT will host a resume workshop. \nTime: May 28\,  10 a.m. \nLocation:  Good Samaritan Veterans and Outreach Center \nRELATED:  10 resume tips to help those in transition \nShare this:Post
URL:https://miltrac.org/event/resume-workshop/
CATEGORIES:JBSA,Texas,Texas Event
ATTACH;FMTTYPE=image/png:https://miltrac.org/wp-content/uploads/2025/05/resume.1.png
END:VEVENT
BEGIN:VEVENT
DTSTART;TZID=America/Chicago:20250527T190000
DTEND;TZID=America/Chicago:20250527T200000
DTSTAMP:20260424T021114
CREATED:20250406T200941Z
LAST-MODIFIED:20250406T200941Z
UID:10001074-1748372400-1748376000@miltrac.org
SUMMARY:A podcast with Algrish Williams
DESCRIPTION:Shawn Welsh\, the host of S.O.S. Podcast\, will interview Algrish Williams\, a veteran advocate and the author of several books on transition. \nDate/time:  May 27\, 7 p.m.  Video link:  https://www.linkedin.com/safety/go?url=https%3A%2F%2Fyoutu.be%2Fl1k9TAijhno&trk=flagship-messaging-web&messageThreadUrn=urn%3Ali%3AmessagingThread%3A2-Y2FlMjBlNTUtZWRhNy00ZThhLThiYjctOTVjOWFlYjlkMTIyXzAxMg%3D%3D&lipi=urn%3Ali%3Apage%3Ad_flagship3_profile_view_base%3BJOKopFUfRLGMEotHAN8ttg%3D%3D \nShare this:Post
URL:https://miltrac.org/event/a-podcast-with-algrish-williams/
CATEGORIES:Georgia Event,JBSA,Texas,Texas Event
ATTACH;FMTTYPE=image/png:https://miltrac.org/wp-content/uploads/2025/02/Transition-podcasts.png
END:VEVENT
BEGIN:VEVENT
DTSTART;TZID=America/Chicago:20250527T130000
DTEND;TZID=America/Chicago:20250527T150000
DTSTAMP:20260424T021114
CREATED:20250510T151012Z
LAST-MODIFIED:20250512T134442Z
UID:10001324-1748350800-1748358000@miltrac.org
SUMMARY:How to do an effective job search
DESCRIPTION:The Lackland Military and Family Readiness Center will host a “How To do an effective job search” seminar. \nDate:  May 27\, 1 p.m. \nLocation:  Lackland AFB Military and Family Readiness Center \nShare this:Post
URL:https://miltrac.org/event/how-todo-an-effective-job-search/
ATTACH;FMTTYPE=image/png:https://miltrac.org/wp-content/uploads/2025/05/virtual.health.png
END:VEVENT
BEGIN:VEVENT
DTSTART;TZID=America/Chicago:20250527T120000
DTEND;TZID=America/Chicago:20250527T133000
DTSTAMP:20260424T021114
CREATED:20250510T152447Z
LAST-MODIFIED:20250510T152821Z
UID:10001330-1748347200-1748352600@miltrac.org
SUMMARY:Real Talk:  Life & Love With PTSD
DESCRIPTION:The Veterans spouse Network hosts this virtual meeting. \nTime:  May 14\, noon \nRegistration link:  Please click on the graphic below to register. \n \n  \nShare this:Post
URL:https://miltrac.org/event/real-talk-life-love-with-ptsd/2025-05-27/
CATEGORIES:Aviation,Georgia,Georgia Event,JBSA,Texas,Texas Event
END:VEVENT
BEGIN:VEVENT
DTSTART;TZID=America/Chicago:20250527T090000
DTEND;TZID=America/Chicago:20250527T110000
DTSTAMP:20260424T021114
CREATED:20240820T210953Z
LAST-MODIFIED:20240902T173818Z
UID:10000468-1748336400-1748343600@miltrac.org
SUMMARY:Doughnuts\, coffee and fellowship
DESCRIPTION:Post 593 hosts veterans and their families for doughnuts\, coffee and fellowship every Tuesday.   According to the post organizers\, this weekly event is designed to get veterans out of the house and mingling with others who have served in the military. \nDate:  Tuesdays\, 9 to 11 a.m. \nAddress:  326 Legion Drive\,  Converse \nShare this:Post
URL:https://miltrac.org/event/doughnuts-and-fellowship/2025-05-27/
ATTACH;FMTTYPE=image/png:https://miltrac.org/wp-content/uploads/2024/08/doughnut.png
END:VEVENT
BEGIN:VEVENT
DTSTART;TZID=America/Chicago:20250525T150000
DTEND;TZID=America/Chicago:20250525T170000
DTSTAMP:20260424T021114
CREATED:20241028T111339Z
LAST-MODIFIED:20241028T111339Z
UID:10000645-1748185200-1748192400@miltrac.org
SUMMARY:VFW Post 8541 Sick Call
DESCRIPTION:VFW Post 8541 hosts a sick call for homeless veterans. \nTime:  Nov. 3\, 3-5 p.m. \nLocation:  VFW Post 8541\, 2222 Austin Highway\, San Antonio \nShare this:Post
URL:https://miltrac.org/event/vfw-post-8541-sick-call/2025-05-25/
ATTACH;FMTTYPE=image/png:https://miltrac.org/wp-content/uploads/2024/10/sick.call_.png
END:VEVENT
BEGIN:VEVENT
DTSTART;TZID=America/Chicago:20250524T080000
DTEND;TZID=America/Chicago:20250524T130000
DTSTAMP:20260424T021114
CREATED:20250518T110654Z
LAST-MODIFIED:20250518T110734Z
UID:10001600-1748073600-1748091600@miltrac.org
SUMMARY:American Legion to honor vets with "Reading of Names"
DESCRIPTION:American Legion Post #10 will host the 2025 “Reading of the Names” at the Fort Sam Houston National Cemetery. \nVolunteers will read off the names of those interred at the San Antonio military burial ground. \nRELATED:  Remember retired Sergeant Major Bob Masten and others on Memorial Day \nTime:  May 24\, 8 a.m. \nLocation:  Shelter #5\, Fort Sam Houston\, 1520 Harry Wurzbach Road \n  \nShare this:Post
URL:https://miltrac.org/event/american-legion-to-honor-vets-with-reading-of-names/
CATEGORIES:JBSA,Texas,Texas Event
ATTACH;FMTTYPE=image/png:https://miltrac.org/wp-content/uploads/2025/05/cemetery.png
END:VEVENT
BEGIN:VEVENT
DTSTART;TZID=America/Chicago:20250523T180000
DTEND;TZID=America/Chicago:20250523T210000
DTSTAMP:20260424T021114
CREATED:20240723T190904Z
LAST-MODIFIED:20240723T235556Z
UID:10000258-1748023200-1748034000@miltrac.org
SUMMARY:Please Join Us to support the American Legion Riders fund raiser
DESCRIPTION:The American Legion Riders at Post 309\, 8795 FM-1560 in Helotes\, will host a pork chop dinner to support their mission to help and honor veterans.  The cost for a one-inch pork chop\, with a baked potato\, a vegetable\, salad\, roll and desert is $20. \n  \nShare this:Post
URL:https://miltrac.org/event/please-join-us-to-support-the-american-legion-riders-program/2025-05-23/
ATTACH;FMTTYPE=image/png:https://miltrac.org/wp-content/uploads/2024/07/pork.choip_.png
END:VEVENT
BEGIN:VEVENT
DTSTART;TZID=America/Chicago:20250522T120000
DTEND;TZID=America/Chicago:20250522T133000
DTSTAMP:20260424T021114
CREATED:20250520T033823Z
LAST-MODIFIED:20250520T033823Z
UID:10001603-1747915200-1747920600@miltrac.org
SUMMARY:How to Build a Personal Brand on LinkedIn
DESCRIPTION:Join Jan Tegze as he presents this virtual workshop. \nTime:  May 22\, noon \nRELATED:  MILTrac team offers virtual LinkedIn course \nRegistration:  Please click on the graphic below to register. \nShare this:Post
URL:https://miltrac.org/event/how-to-build-a-personal-brand-on-linkedin/
CATEGORIES:Georgia,Georgia Event,JBSA,Texas,Texas Event
ATTACH;FMTTYPE=image/png:https://miltrac.org/wp-content/uploads/2024/08/Linkedin.search.png
END:VEVENT
BEGIN:VEVENT
DTSTART;TZID=America/Chicago:20250522T080000
DTEND;TZID=America/Chicago:20250522T170000
DTSTAMP:20260424T021114
CREATED:20250510T190717Z
LAST-MODIFIED:20250510T191001Z
UID:10001334-1747900800-1747933200@miltrac.org
SUMMARY:Morning breath workshop
DESCRIPTION:The Veteran Spouse Network hosts a virtual ‘Morning Breath Work” webinar. \nTime:  Each Thursday\, 7:30 p.m.  This program is geared for military spouses of active duty and retirees. \nRegistration:  Please click on the graphic below. \n \n  \nShare this:Post
URL:https://miltrac.org/event/morning-breath-work-workshop/2025-05-22/2/
END:VEVENT
BEGIN:VEVENT
DTSTART;TZID=America/Chicago:20250522T080000
DTEND;TZID=America/Chicago:20250522T120000
DTSTAMP:20260424T021114
CREATED:20250509T123656Z
LAST-MODIFIED:20250509T123656Z
UID:10001312-1747900800-1747915200@miltrac.org
SUMMARY:15th annual Texas veterans summit
DESCRIPTION:The Texas Leadership Consortium will host their 15th annual Texas Veterans Summit at Palo Alto College’s Auditorium. \nDate:  May 22\, 8 a.m.-noon \nLocation:  Palo Alto College Auditorium \n \nShare this:Post
URL:https://miltrac.org/event/15th-annual-texas-veterans-summit/
CATEGORIES:JBSA,Texas,Texas Event
ATTACH;FMTTYPE=image/png:https://miltrac.org/wp-content/uploads/2025/05/vets.png
END:VEVENT
BEGIN:VEVENT
DTSTART;TZID=America/Chicago:20250522T073000
DTEND;TZID=America/Chicago:20250522T080000
DTSTAMP:20260424T021114
CREATED:20250510T190717Z
LAST-MODIFIED:20250510T191001Z
UID:10001333-1747899000-1747900800@miltrac.org
SUMMARY:Morning breath workshop
DESCRIPTION:The Veteran Spouse Network hosts a virtual ‘Morning Breath Work” webinar. \nTime:  Each Thursday\, 7:30 p.m.  This program is geared for military spouses of active duty and retirees. \nRegistration:  Please click on the graphic below. \n \n  \nShare this:Post
URL:https://miltrac.org/event/morning-breath-work-workshop/2025-05-22/1/
END:VEVENT
BEGIN:VEVENT
DTSTART;TZID=America/Chicago:20250520T130000
DTEND;TZID=America/Chicago:20250520T150000
DTSTAMP:20260424T021114
CREATED:20250510T150356Z
LAST-MODIFIED:20250510T150356Z
UID:10001323-1747746000-1747753200@miltrac.org
SUMMARY:LinkedIn Optimized
DESCRIPTION:The Lackland AFB Military and Family Readiness Center will hold a LinkedIn optimized workshop. \nDate:  May 20\, 1 p.m. \nLocation:  Lackland Family Support Center \nRELATED: MILTrac team offers virtual LinkedIn course \nShare this:Post
URL:https://miltrac.org/event/linkedin-optimized/
CATEGORIES:JBSA,Texas,Texas Event
ATTACH;FMTTYPE=image/png:https://miltrac.org/wp-content/uploads/2024/08/Linkedin.search.png
END:VEVENT
BEGIN:VEVENT
DTSTART;TZID=America/Chicago:20250520T090000
DTEND;TZID=America/Chicago:20250520T110000
DTSTAMP:20260424T021114
CREATED:20240820T210953Z
LAST-MODIFIED:20240902T173818Z
UID:10000467-1747731600-1747738800@miltrac.org
SUMMARY:Doughnuts\, coffee and fellowship
DESCRIPTION:Post 593 hosts veterans and their families for doughnuts\, coffee and fellowship every Tuesday.   According to the post organizers\, this weekly event is designed to get veterans out of the house and mingling with others who have served in the military. \nDate:  Tuesdays\, 9 to 11 a.m. \nAddress:  326 Legion Drive\,  Converse \nShare this:Post
URL:https://miltrac.org/event/doughnuts-and-fellowship/2025-05-20/
ATTACH;FMTTYPE=image/png:https://miltrac.org/wp-content/uploads/2024/08/doughnut.png
END:VEVENT
BEGIN:VEVENT
DTSTART;TZID=America/Chicago:20250518T150000
DTEND;TZID=America/Chicago:20250518T170000
DTSTAMP:20260424T021114
CREATED:20241028T111339Z
LAST-MODIFIED:20241028T111339Z
UID:10000644-1747580400-1747587600@miltrac.org
SUMMARY:VFW Post 8541 Sick Call
DESCRIPTION:VFW Post 8541 hosts a sick call for homeless veterans. \nTime:  Nov. 3\, 3-5 p.m. \nLocation:  VFW Post 8541\, 2222 Austin Highway\, San Antonio \nShare this:Post
URL:https://miltrac.org/event/vfw-post-8541-sick-call/2025-05-18/
ATTACH;FMTTYPE=image/png:https://miltrac.org/wp-content/uploads/2024/10/sick.call_.png
END:VEVENT
BEGIN:VEVENT
DTSTART;TZID=America/Chicago:20250517T100000
DTEND;TZID=America/Chicago:20250517T150000
DTSTAMP:20260424T021114
CREATED:20250509T204729Z
LAST-MODIFIED:20250509T205051Z
UID:10001313-1747476000-1747494000@miltrac.org
SUMMARY:Love muscle cars?  Join the Dominion Rotary for their car show and blood drive
DESCRIPTION:The Dominion Rotary Club will host a car show and blood drive\, May 17\, 10 a.m.-3 p.m. at the South Texas Blood and Tissue Donor Pavilion. \nTime: ; May 17\, 10 a.m.- 3 p.m. \nLocation:  South Texas Blood and Tissue Center. \nCost:  $25 for show cars that preregister.  (Please click on the Q/R code in the flyer to register your car.) $30\, the day of the event. \nNote:  all veterans will get admission for $25. \nRELATED: Rotary International Provides Gateway to Transition \n \n  \nShare this:Post
URL:https://miltrac.org/event/love-muscle-cars-join-the-dominion-rotary-for-their-car-show-and-blood-drive/
CATEGORIES:JBSA,Texas,Texas Event
ATTACH;FMTTYPE=image/png:https://miltrac.org/wp-content/uploads/2025/05/muscle.car_.png
END:VEVENT
BEGIN:VEVENT
DTSTART;TZID=America/Chicago:20250517T090000
DTEND;TZID=America/Chicago:20250517T140000
DTSTAMP:20260424T021114
CREATED:20250510T115110Z
LAST-MODIFIED:20250510T134900Z
UID:10001317-1747472400-1747490400@miltrac.org
SUMMARY:Boeing job fair
DESCRIPTION:Boeing and Workforce Solutions will host a hiring event.   The graphic below has the openings listed on the Boeing website. \nDate:  May 17\, 9 a.m.-2 p.m. \nLocation: 638 Davy Crockett Suite\, Suite 160. \nRELATED:  Elevator Pitch 101 – A guide to making a pitch at a job fair \n \nShare this:Post
URL:https://miltrac.org/event/boeing-job-fair-2/
CATEGORIES:JBSA,Texas,Texas Event
ATTACH;FMTTYPE=image/png:https://miltrac.org/wp-content/uploads/2025/02/job.search.png
END:VEVENT
BEGIN:VEVENT
DTSTART;TZID=America/Chicago:20250515T100000
DTEND;TZID=America/Chicago:20250515T140000
DTSTAMP:20260424T021114
CREATED:20250509T213058Z
LAST-MODIFIED:20250509T213058Z
UID:10001316-1747303200-1747317600@miltrac.org
SUMMARY:VA Community hosts wellness fair
DESCRIPTION:The South Texas Veterans Health Care System will host a wellness fair. \nDate:  May 15\, 10 a.m.-2 p.m. \nLocation: Wonderland Mall. \n \nShare this:Post
URL:https://miltrac.org/event/va-community-hosts-wellness-fair/
CATEGORIES:JBSA,Texas,Texas Event
ATTACH;FMTTYPE=image/png:https://miltrac.org/wp-content/uploads/2024/08/home.health.png
END:VEVENT
BEGIN:VEVENT
DTSTART;TZID=America/Chicago:20250515T100000
DTEND;TZID=America/Chicago:20250515T130000
DTSTAMP:20260424T021114
CREATED:20250512T210703Z
LAST-MODIFIED:20250513T104913Z
UID:10001595-1747303200-1747314000@miltrac.org
SUMMARY:American GI Forum job fair
DESCRIPTION:The American GI Forum will host a job fair for veterans of all ages and experiences. \nTime:  May 15\, 10 a.m-1 p.m. \nLocation:  610 N. Main Avenue\, San Antonio \nRELATED:  Interviewing for a Job?  Use these sample questions to prepare for this encounter \nShare this:Post
URL:https://miltrac.org/event/american-gi-forum-job-fair/
CATEGORIES:JBSA,Texas,Texas Event
ATTACH;FMTTYPE=image/png:https://miltrac.org/wp-content/uploads/2025/05/job.fair_.png
END:VEVENT
BEGIN:VEVENT
DTSTART;TZID=America/Chicago:20250514T180000
DTEND;TZID=America/Chicago:20250514T210000
DTSTAMP:20260424T021114
CREATED:20250509T210437Z
LAST-MODIFIED:20250509T210437Z
UID:10001314-1747245600-1747256400@miltrac.org
SUMMARY:Rotary Crawfish Boil and Social
DESCRIPTION:The Dominion Rotary Club will host a crawfish boil and social. \nAccording to Otis “Scotty” Scott\, the club is hosting this with Rotary Club of Boerne Noon\, the Rotary Club of Fair Oaks and the Boerne Sunrise Rotary. \nTime:  May 14\, 6 p.m. \nLocation:  25665 Boerne Stage Road\, San Antonio\, Texas \nRELATED: Rotary International provides gateway to transition  \nShare this:Post
URL:https://miltrac.org/event/rotary-crawfish-boil-and-social/
CATEGORIES:JBSA,Texas,Texas Event
ATTACH;FMTTYPE=image/png:https://miltrac.org/wp-content/uploads/2025/05/crawfish.png
END:VEVENT
BEGIN:VEVENT
DTSTART;TZID=America/Chicago:20250514T120000
DTEND;TZID=America/Chicago:20250514T140000
DTSTAMP:20260424T021114
CREATED:20250510T152447Z
LAST-MODIFIED:20250510T152821Z
UID:10001325-1747224000-1747231200@miltrac.org
SUMMARY:Real Talk:  Life & Love With PTSD
DESCRIPTION:The Veterans spouse Network hosts this virtual meeting. \nTime:  May 14\, noon \nRegistration link:  Please click on the graphic below to register. \n \n  \nShare this:Post
URL:https://miltrac.org/event/real-talk-life-love-with-ptsd/2025-05-14/2/
CATEGORIES:Aviation,Georgia,Georgia Event,JBSA,Texas,Texas Event
END:VEVENT
BEGIN:VEVENT
DTSTART;TZID=America/Chicago:20250514T120000
DTEND;TZID=America/Chicago:20250514T130000
DTSTAMP:20260424T021114
CREATED:20250509T113203Z
LAST-MODIFIED:20250509T113203Z
UID:10001300-1747224000-1747227600@miltrac.org
SUMMARY:Qs and As with the Texas Veterans Commission
DESCRIPTION:The Texas Veterans Commission hosts a live Zoom meeting at noon on the second Tuesday of every month. \nThis a chance for veterans to learn about their services and also get experts from experts. \nThe Zoom link is available on the graphic below. \n \nShare this:Post
URL:https://miltrac.org/event/qs-and-as-with-the-texas-veterans-commission/2025-05-14/2/
CATEGORIES:JBSA,Texas,Texas Event
ATTACH;FMTTYPE=image/jpeg:https://miltrac.org/wp-content/uploads/2025/05/tvc.1.jpg
END:VEVENT
BEGIN:VEVENT
DTSTART;TZID=America/Chicago:20250514T080000
DTEND;TZID=America/Chicago:20250514T170000
DTSTAMP:20260424T021114
CREATED:20250510T152447Z
LAST-MODIFIED:20250510T152821Z
UID:10001329-1747209600-1747242000@miltrac.org
SUMMARY:Real Talk:  Life & Love With PTSD
DESCRIPTION:The Veterans spouse Network hosts this virtual meeting. \nTime:  May 14\, noon \nRegistration link:  Please click on the graphic below to register. \n \n  \nShare this:Post
URL:https://miltrac.org/event/real-talk-life-love-with-ptsd/2025-05-14/1/
CATEGORIES:Aviation,Georgia,Georgia Event,JBSA,Texas,Texas Event
END:VEVENT
BEGIN:VEVENT
DTSTART;TZID=America/Chicago:20250514T080000
DTEND;TZID=America/Chicago:20250514T170000
DTSTAMP:20260424T021114
CREATED:20250509T113203Z
LAST-MODIFIED:20250509T113203Z
UID:10001299-1747209600-1747242000@miltrac.org
SUMMARY:Qs and As with the Texas Veterans Commission
DESCRIPTION:The Texas Veterans Commission hosts a live Zoom meeting at noon on the second Tuesday of every month. \nThis a chance for veterans to learn about their services and also get experts from experts. \nThe Zoom link is available on the graphic below. \n \nShare this:Post
URL:https://miltrac.org/event/qs-and-as-with-the-texas-veterans-commission/2025-05-14/1/
CATEGORIES:JBSA,Texas,Texas Event
ATTACH;FMTTYPE=image/jpeg:https://miltrac.org/wp-content/uploads/2025/05/tvc.1.jpg
END:VEVENT
BEGIN:VEVENT
DTSTART;TZID=America/Chicago:20250513T190000
DTEND;TZID=America/Chicago:20250513T210000
DTSTAMP:20260424T021114
CREATED:20250430T233315Z
LAST-MODIFIED:20250430T233514Z
UID:10001238-1747162800-1747170000@miltrac.org
SUMMARY:American Legion riders meeting
DESCRIPTION:The American Legion Riders meet on the second Tuesday of the month from 7 to 9 p.m. at 326 Legion Drive W in Converse\, Texas. \nEd Richards\, an retired Army NCO\, said the Riders welcome veterans and others.  Veterans are asked to join an American Legion post.  Non-veterans can also join as an auxiliary member.  If they are the son or daughter of a veteran\, they can also join the post Sons of the American Legion as well. \nPost 593 address \nRELATED:  Legacy Run: Healing on the Run \n \n  \nShare this:Post
URL:https://miltrac.org/event/american-legion-riders-meeting/2025-05-13/
ATTACH;FMTTYPE=image/png:https://miltrac.org/wp-content/uploads/2025/04/american.legion.riders.png
END:VEVENT
END:VCALENDAR