BEGIN:VCALENDAR
VERSION:2.0
PRODID:-//MilTRAC - ECPv6.15.20//NONSGML v1.0//EN
CALSCALE:GREGORIAN
METHOD:PUBLISH
X-WR-CALNAME:MilTRAC
X-ORIGINAL-URL:https://miltrac.org
X-WR-CALDESC:Events for MilTRAC
REFRESH-INTERVAL;VALUE=DURATION:PT1H
X-Robots-Tag:noindex
X-PUBLISHED-TTL:PT1H
BEGIN:VTIMEZONE
TZID:America/Chicago
BEGIN:DAYLIGHT
TZOFFSETFROM:-0600
TZOFFSETTO:-0500
TZNAME:CDT
DTSTART:20260308T080000
END:DAYLIGHT
BEGIN:STANDARD
TZOFFSETFROM:-0500
TZOFFSETTO:-0600
TZNAME:CST
DTSTART:20261101T070000
END:STANDARD
BEGIN:DAYLIGHT
TZOFFSETFROM:-0600
TZOFFSETTO:-0500
TZNAME:CDT
DTSTART:20270314T080000
END:DAYLIGHT
BEGIN:STANDARD
TZOFFSETFROM:-0500
TZOFFSETTO:-0600
TZNAME:CST
DTSTART:20271107T070000
END:STANDARD
BEGIN:DAYLIGHT
TZOFFSETFROM:-0600
TZOFFSETTO:-0500
TZNAME:CDT
DTSTART:20280312T080000
END:DAYLIGHT
BEGIN:STANDARD
TZOFFSETFROM:-0500
TZOFFSETTO:-0600
TZNAME:CST
DTSTART:20281105T070000
END:STANDARD
END:VTIMEZONE
BEGIN:VEVENT
DTSTART;TZID=America/Chicago:20270708T073000
DTEND;TZID=America/Chicago:20270708T080000
DTSTAMP:20260422T175325
CREATED:20250510T190717Z
LAST-MODIFIED:20250510T191001Z
UID:10001445-1815031800-1815033600@miltrac.org
SUMMARY:Morning breath workshop
DESCRIPTION:The Veteran Spouse Network hosts a virtual ‘Morning Breath Work” webinar. \nTime:  Each Thursday\, 7:30 p.m.  This program is geared for military spouses of active duty and retirees. \nRegistration:  Please click on the graphic below. \n \n  \nShare this:Post
URL:https://miltrac.org/event/morning-breath-work-workshop/2027-07-08/
END:VEVENT
BEGIN:VEVENT
DTSTART;TZID=America/Chicago:20270711T080000
DTEND;TZID=America/Chicago:20270711T170000
DTSTAMP:20260422T175325
CREATED:20240723T112312Z
LAST-MODIFIED:20240723T112312Z
UID:10000163-1815292800-1815325200@miltrac.org
SUMMARY:It's time for a Buddy Check
DESCRIPTION:If  you served in the military\, you had a friend who had your back.  This was someone you could vent about things\, when something happened to upset  you. \nThe military\, as a rule\, doesn’t allow us to vent\, except for what our Navy colleagues call “shipmate” or Air Force term as their “wing man.” \nThat’s why we at MilTRAC are setting aside the second Sunday of every month to call those comrades in arm. \n  \nShare this:Post
URL:https://miltrac.org/event/its-time-for-a-buddy-check/2027-07-11/
ATTACH;FMTTYPE=image/png:https://miltrac.org/wp-content/uploads/2024/07/mentor.png
END:VEVENT
BEGIN:VEVENT
DTSTART;TZID=America/Chicago:20270711T150000
DTEND;TZID=America/Chicago:20270711T170000
DTSTAMP:20260422T175325
CREATED:20241028T111339Z
LAST-MODIFIED:20241028T111339Z
UID:10000756-1815318000-1815325200@miltrac.org
SUMMARY:VFW Post 8541 Sick Call
DESCRIPTION:VFW Post 8541 hosts a sick call for homeless veterans. \nTime:  Nov. 3\, 3-5 p.m. \nLocation:  VFW Post 8541\, 2222 Austin Highway\, San Antonio \nShare this:Post
URL:https://miltrac.org/event/vfw-post-8541-sick-call/2027-07-11/
ATTACH;FMTTYPE=image/png:https://miltrac.org/wp-content/uploads/2024/10/sick.call_.png
END:VEVENT
BEGIN:VEVENT
DTSTART;TZID=America/Chicago:20270713T190000
DTEND;TZID=America/Chicago:20270713T210000
DTSTAMP:20260422T175325
CREATED:20250430T233315Z
LAST-MODIFIED:20250430T233514Z
UID:10001264-1815505200-1815512400@miltrac.org
SUMMARY:American Legion riders meeting
DESCRIPTION:The American Legion Riders meet on the second Tuesday of the month from 7 to 9 p.m. at 326 Legion Drive W in Converse\, Texas. \nEd Richards\, an retired Army NCO\, said the Riders welcome veterans and others.  Veterans are asked to join an American Legion post.  Non-veterans can also join as an auxiliary member.  If they are the son or daughter of a veteran\, they can also join the post Sons of the American Legion as well. \nPost 593 address \nRELATED:  Legacy Run: Healing on the Run \n \n  \nShare this:Post
URL:https://miltrac.org/event/american-legion-riders-meeting/2027-07-13/
ATTACH;FMTTYPE=image/png:https://miltrac.org/wp-content/uploads/2025/04/american.legion.riders.png
END:VEVENT
BEGIN:VEVENT
DTSTART;TZID=America/Chicago:20270715T073000
DTEND;TZID=America/Chicago:20270715T080000
DTSTAMP:20260422T175325
CREATED:20250510T190717Z
LAST-MODIFIED:20250510T191001Z
UID:10001446-1815636600-1815638400@miltrac.org
SUMMARY:Morning breath workshop
DESCRIPTION:The Veteran Spouse Network hosts a virtual ‘Morning Breath Work” webinar. \nTime:  Each Thursday\, 7:30 p.m.  This program is geared for military spouses of active duty and retirees. \nRegistration:  Please click on the graphic below. \n \n  \nShare this:Post
URL:https://miltrac.org/event/morning-breath-work-workshop/2027-07-15/
END:VEVENT
BEGIN:VEVENT
DTSTART;TZID=America/Chicago:20270718T150000
DTEND;TZID=America/Chicago:20270718T170000
DTSTAMP:20260422T175325
CREATED:20241028T111339Z
LAST-MODIFIED:20241028T111339Z
UID:10000757-1815922800-1815930000@miltrac.org
SUMMARY:VFW Post 8541 Sick Call
DESCRIPTION:VFW Post 8541 hosts a sick call for homeless veterans. \nTime:  Nov. 3\, 3-5 p.m. \nLocation:  VFW Post 8541\, 2222 Austin Highway\, San Antonio \nShare this:Post
URL:https://miltrac.org/event/vfw-post-8541-sick-call/2027-07-18/
ATTACH;FMTTYPE=image/png:https://miltrac.org/wp-content/uploads/2024/10/sick.call_.png
END:VEVENT
BEGIN:VEVENT
DTSTART;TZID=America/Chicago:20270722T073000
DTEND;TZID=America/Chicago:20270722T080000
DTSTAMP:20260422T175325
CREATED:20250510T190717Z
LAST-MODIFIED:20250510T191001Z
UID:10001447-1816241400-1816243200@miltrac.org
SUMMARY:Morning breath workshop
DESCRIPTION:The Veteran Spouse Network hosts a virtual ‘Morning Breath Work” webinar. \nTime:  Each Thursday\, 7:30 p.m.  This program is geared for military spouses of active duty and retirees. \nRegistration:  Please click on the graphic below. \n \n  \nShare this:Post
URL:https://miltrac.org/event/morning-breath-work-workshop/2027-07-22/
END:VEVENT
BEGIN:VEVENT
DTSTART;TZID=America/Chicago:20270723T180000
DTEND;TZID=America/Chicago:20270723T210000
DTSTAMP:20260422T175325
CREATED:20240723T190904Z
LAST-MODIFIED:20240723T235556Z
UID:10000284-1816365600-1816376400@miltrac.org
SUMMARY:Please Join Us to support the American Legion Riders fund raiser
DESCRIPTION:The American Legion Riders at Post 309\, 8795 FM-1560 in Helotes\, will host a pork chop dinner to support their mission to help and honor veterans.  The cost for a one-inch pork chop\, with a baked potato\, a vegetable\, salad\, roll and desert is $20. \n  \nShare this:Post
URL:https://miltrac.org/event/please-join-us-to-support-the-american-legion-riders-program/2027-07-23/
ATTACH;FMTTYPE=image/png:https://miltrac.org/wp-content/uploads/2024/07/pork.choip_.png
END:VEVENT
BEGIN:VEVENT
DTSTART;TZID=America/Chicago:20270725T150000
DTEND;TZID=America/Chicago:20270725T170000
DTSTAMP:20260422T175325
CREATED:20241028T111339Z
LAST-MODIFIED:20241028T111339Z
UID:10000758-1816527600-1816534800@miltrac.org
SUMMARY:VFW Post 8541 Sick Call
DESCRIPTION:VFW Post 8541 hosts a sick call for homeless veterans. \nTime:  Nov. 3\, 3-5 p.m. \nLocation:  VFW Post 8541\, 2222 Austin Highway\, San Antonio \nShare this:Post
URL:https://miltrac.org/event/vfw-post-8541-sick-call/2027-07-25/
ATTACH;FMTTYPE=image/png:https://miltrac.org/wp-content/uploads/2024/10/sick.call_.png
END:VEVENT
BEGIN:VEVENT
DTSTART;TZID=America/Chicago:20270729T073000
DTEND;TZID=America/Chicago:20270729T080000
DTSTAMP:20260422T175325
CREATED:20250510T190717Z
LAST-MODIFIED:20250510T191001Z
UID:10001448-1816846200-1816848000@miltrac.org
SUMMARY:Morning breath workshop
DESCRIPTION:The Veteran Spouse Network hosts a virtual ‘Morning Breath Work” webinar. \nTime:  Each Thursday\, 7:30 p.m.  This program is geared for military spouses of active duty and retirees. \nRegistration:  Please click on the graphic below. \n \n  \nShare this:Post
URL:https://miltrac.org/event/morning-breath-work-workshop/2027-07-29/
END:VEVENT
BEGIN:VEVENT
DTSTART;TZID=America/Chicago:20270731T060000
DTEND;TZID=America/Chicago:20270731T060000
DTSTAMP:20260422T175325
CREATED:20250428T102421Z
LAST-MODIFIED:20250428T103410Z
UID:10001158-1817013600-1817013600@miltrac.org
SUMMARY:MILCountry Meetup
DESCRIPTION:Live outside of San Antonio near Bulverde and New Braunfels and want to network with other military professionals? \nJoin others at MILCountry Meetup.  The event is held  at the District\, 15000 Texas-46 on the last Friday of every month. \n“This is where the Military City USA meets the Texas Hill Country\,” said Stephan Porter\, the event’s organizer noted in a post. \nTime:  May 30\, 7 to 10 p.m. \nAddress:  15000 Texas 46\, Spring Branch \n  \nShare this:Post
URL:https://miltrac.org/event/milcountry-meetup-2/2027-07-31/
CATEGORIES:JBSA,Texas
ATTACH;FMTTYPE=image/png:https://miltrac.org/wp-content/uploads/2025/04/milcountry.in_.png
END:VEVENT
BEGIN:VEVENT
DTSTART;TZID=America/Chicago:20270801T150000
DTEND;TZID=America/Chicago:20270801T170000
DTSTAMP:20260422T175325
CREATED:20241028T111339Z
LAST-MODIFIED:20241028T111339Z
UID:10000759-1817132400-1817139600@miltrac.org
SUMMARY:VFW Post 8541 Sick Call
DESCRIPTION:VFW Post 8541 hosts a sick call for homeless veterans. \nTime:  Nov. 3\, 3-5 p.m. \nLocation:  VFW Post 8541\, 2222 Austin Highway\, San Antonio \nShare this:Post
URL:https://miltrac.org/event/vfw-post-8541-sick-call/2027-08-01/
ATTACH;FMTTYPE=image/png:https://miltrac.org/wp-content/uploads/2024/10/sick.call_.png
END:VEVENT
BEGIN:VEVENT
DTSTART;TZID=America/Chicago:20270803T190000
DTEND;TZID=America/Chicago:20270803T210000
DTSTAMP:20260422T175325
CREATED:20250430T232451Z
LAST-MODIFIED:20250430T233707Z
UID:10001205-1817319600-1817326800@miltrac.org
SUMMARY:Join the American Legion riders in Bexar County
DESCRIPTION:Post 593 of the American Legion Riders meets the first and second Tuesday at the organization’s canteen. \nAccording to Ed Richards\, an active American Legion rider\, the post plans rallies and other rides throughout the year. \nRichards\, an Army NCO\, can attest to the value of these rides in what he calls roadside therapy for his PTSD conditions. \nRELATED:  Legacy Run:  Healing on the Road \nPost 593 directions \n\n  \nShare this:Post
URL:https://miltrac.org/event/join-the-american-legion-riders-in-bexar-county/2027-08-03/
ATTACH;FMTTYPE=image/png:https://miltrac.org/wp-content/uploads/2025/04/american.legion.riders.png
END:VEVENT
BEGIN:VEVENT
DTSTART;TZID=America/Chicago:20270805T073000
DTEND;TZID=America/Chicago:20270805T080000
DTSTAMP:20260422T175325
CREATED:20250510T190717Z
LAST-MODIFIED:20250510T191001Z
UID:10001449-1817451000-1817452800@miltrac.org
SUMMARY:Morning breath workshop
DESCRIPTION:The Veteran Spouse Network hosts a virtual ‘Morning Breath Work” webinar. \nTime:  Each Thursday\, 7:30 p.m.  This program is geared for military spouses of active duty and retirees. \nRegistration:  Please click on the graphic below. \n \n  \nShare this:Post
URL:https://miltrac.org/event/morning-breath-work-workshop/2027-08-05/
END:VEVENT
BEGIN:VEVENT
DTSTART;TZID=America/Chicago:20270808T080000
DTEND;TZID=America/Chicago:20270808T170000
DTSTAMP:20260422T175325
CREATED:20240723T112312Z
LAST-MODIFIED:20240723T112312Z
UID:10000164-1817712000-1817744400@miltrac.org
SUMMARY:It's time for a Buddy Check
DESCRIPTION:If  you served in the military\, you had a friend who had your back.  This was someone you could vent about things\, when something happened to upset  you. \nThe military\, as a rule\, doesn’t allow us to vent\, except for what our Navy colleagues call “shipmate” or Air Force term as their “wing man.” \nThat’s why we at MilTRAC are setting aside the second Sunday of every month to call those comrades in arm. \n  \nShare this:Post
URL:https://miltrac.org/event/its-time-for-a-buddy-check/2027-08-08/
ATTACH;FMTTYPE=image/png:https://miltrac.org/wp-content/uploads/2024/07/mentor.png
END:VEVENT
BEGIN:VEVENT
DTSTART;TZID=America/Chicago:20270808T150000
DTEND;TZID=America/Chicago:20270808T170000
DTSTAMP:20260422T175325
CREATED:20241028T111339Z
LAST-MODIFIED:20241028T111339Z
UID:10000760-1817737200-1817744400@miltrac.org
SUMMARY:VFW Post 8541 Sick Call
DESCRIPTION:VFW Post 8541 hosts a sick call for homeless veterans. \nTime:  Nov. 3\, 3-5 p.m. \nLocation:  VFW Post 8541\, 2222 Austin Highway\, San Antonio \nShare this:Post
URL:https://miltrac.org/event/vfw-post-8541-sick-call/2027-08-08/
ATTACH;FMTTYPE=image/png:https://miltrac.org/wp-content/uploads/2024/10/sick.call_.png
END:VEVENT
BEGIN:VEVENT
DTSTART;TZID=America/Chicago:20270810T190000
DTEND;TZID=America/Chicago:20270810T210000
DTSTAMP:20260422T175325
CREATED:20250430T233315Z
LAST-MODIFIED:20250430T233514Z
UID:10001265-1817924400-1817931600@miltrac.org
SUMMARY:American Legion riders meeting
DESCRIPTION:The American Legion Riders meet on the second Tuesday of the month from 7 to 9 p.m. at 326 Legion Drive W in Converse\, Texas. \nEd Richards\, an retired Army NCO\, said the Riders welcome veterans and others.  Veterans are asked to join an American Legion post.  Non-veterans can also join as an auxiliary member.  If they are the son or daughter of a veteran\, they can also join the post Sons of the American Legion as well. \nPost 593 address \nRELATED:  Legacy Run: Healing on the Run \n \n  \nShare this:Post
URL:https://miltrac.org/event/american-legion-riders-meeting/2027-08-10/
ATTACH;FMTTYPE=image/png:https://miltrac.org/wp-content/uploads/2025/04/american.legion.riders.png
END:VEVENT
BEGIN:VEVENT
DTSTART;TZID=America/Chicago:20270812T073000
DTEND;TZID=America/Chicago:20270812T080000
DTSTAMP:20260422T175325
CREATED:20250510T190717Z
LAST-MODIFIED:20250510T191001Z
UID:10001450-1818055800-1818057600@miltrac.org
SUMMARY:Morning breath workshop
DESCRIPTION:The Veteran Spouse Network hosts a virtual ‘Morning Breath Work” webinar. \nTime:  Each Thursday\, 7:30 p.m.  This program is geared for military spouses of active duty and retirees. \nRegistration:  Please click on the graphic below. \n \n  \nShare this:Post
URL:https://miltrac.org/event/morning-breath-work-workshop/2027-08-12/
END:VEVENT
BEGIN:VEVENT
DTSTART;TZID=America/Chicago:20270815T150000
DTEND;TZID=America/Chicago:20270815T170000
DTSTAMP:20260422T175325
CREATED:20241028T111339Z
LAST-MODIFIED:20241028T111339Z
UID:10000761-1818342000-1818349200@miltrac.org
SUMMARY:VFW Post 8541 Sick Call
DESCRIPTION:VFW Post 8541 hosts a sick call for homeless veterans. \nTime:  Nov. 3\, 3-5 p.m. \nLocation:  VFW Post 8541\, 2222 Austin Highway\, San Antonio \nShare this:Post
URL:https://miltrac.org/event/vfw-post-8541-sick-call/2027-08-15/
ATTACH;FMTTYPE=image/png:https://miltrac.org/wp-content/uploads/2024/10/sick.call_.png
END:VEVENT
BEGIN:VEVENT
DTSTART;TZID=America/Chicago:20270819T073000
DTEND;TZID=America/Chicago:20270819T080000
DTSTAMP:20260422T175325
CREATED:20250510T190717Z
LAST-MODIFIED:20250510T191001Z
UID:10001451-1818660600-1818662400@miltrac.org
SUMMARY:Morning breath workshop
DESCRIPTION:The Veteran Spouse Network hosts a virtual ‘Morning Breath Work” webinar. \nTime:  Each Thursday\, 7:30 p.m.  This program is geared for military spouses of active duty and retirees. \nRegistration:  Please click on the graphic below. \n \n  \nShare this:Post
URL:https://miltrac.org/event/morning-breath-work-workshop/2027-08-19/
END:VEVENT
BEGIN:VEVENT
DTSTART;TZID=America/Chicago:20270822T150000
DTEND;TZID=America/Chicago:20270822T170000
DTSTAMP:20260422T175325
CREATED:20241028T111339Z
LAST-MODIFIED:20241028T111339Z
UID:10000762-1818946800-1818954000@miltrac.org
SUMMARY:VFW Post 8541 Sick Call
DESCRIPTION:VFW Post 8541 hosts a sick call for homeless veterans. \nTime:  Nov. 3\, 3-5 p.m. \nLocation:  VFW Post 8541\, 2222 Austin Highway\, San Antonio \nShare this:Post
URL:https://miltrac.org/event/vfw-post-8541-sick-call/2027-08-22/
ATTACH;FMTTYPE=image/png:https://miltrac.org/wp-content/uploads/2024/10/sick.call_.png
END:VEVENT
BEGIN:VEVENT
DTSTART;TZID=America/Chicago:20270826T073000
DTEND;TZID=America/Chicago:20270826T080000
DTSTAMP:20260422T175325
CREATED:20250510T190717Z
LAST-MODIFIED:20250510T191001Z
UID:10001452-1819265400-1819267200@miltrac.org
SUMMARY:Morning breath workshop
DESCRIPTION:The Veteran Spouse Network hosts a virtual ‘Morning Breath Work” webinar. \nTime:  Each Thursday\, 7:30 p.m.  This program is geared for military spouses of active duty and retirees. \nRegistration:  Please click on the graphic below. \n \n  \nShare this:Post
URL:https://miltrac.org/event/morning-breath-work-workshop/2027-08-26/
END:VEVENT
BEGIN:VEVENT
DTSTART;TZID=America/Chicago:20270827T180000
DTEND;TZID=America/Chicago:20270827T210000
DTSTAMP:20260422T175325
CREATED:20240723T190904Z
LAST-MODIFIED:20240723T235556Z
UID:10000285-1819389600-1819400400@miltrac.org
SUMMARY:Please Join Us to support the American Legion Riders fund raiser
DESCRIPTION:The American Legion Riders at Post 309\, 8795 FM-1560 in Helotes\, will host a pork chop dinner to support their mission to help and honor veterans.  The cost for a one-inch pork chop\, with a baked potato\, a vegetable\, salad\, roll and desert is $20. \n  \nShare this:Post
URL:https://miltrac.org/event/please-join-us-to-support-the-american-legion-riders-program/2027-08-27/
ATTACH;FMTTYPE=image/png:https://miltrac.org/wp-content/uploads/2024/07/pork.choip_.png
END:VEVENT
BEGIN:VEVENT
DTSTART;TZID=America/Chicago:20270829T150000
DTEND;TZID=America/Chicago:20270829T170000
DTSTAMP:20260422T175325
CREATED:20241028T111339Z
LAST-MODIFIED:20241028T111339Z
UID:10000763-1819551600-1819558800@miltrac.org
SUMMARY:VFW Post 8541 Sick Call
DESCRIPTION:VFW Post 8541 hosts a sick call for homeless veterans. \nTime:  Nov. 3\, 3-5 p.m. \nLocation:  VFW Post 8541\, 2222 Austin Highway\, San Antonio \nShare this:Post
URL:https://miltrac.org/event/vfw-post-8541-sick-call/2027-08-29/
ATTACH;FMTTYPE=image/png:https://miltrac.org/wp-content/uploads/2024/10/sick.call_.png
END:VEVENT
BEGIN:VEVENT
DTSTART;TZID=America/Chicago:20270831T060000
DTEND;TZID=America/Chicago:20270831T060000
DTSTAMP:20260422T175325
CREATED:20250428T102421Z
LAST-MODIFIED:20250428T103410Z
UID:10001159-1819692000-1819692000@miltrac.org
SUMMARY:MILCountry Meetup
DESCRIPTION:Live outside of San Antonio near Bulverde and New Braunfels and want to network with other military professionals? \nJoin others at MILCountry Meetup.  The event is held  at the District\, 15000 Texas-46 on the last Friday of every month. \n“This is where the Military City USA meets the Texas Hill Country\,” said Stephan Porter\, the event’s organizer noted in a post. \nTime:  May 30\, 7 to 10 p.m. \nAddress:  15000 Texas 46\, Spring Branch \n  \nShare this:Post
URL:https://miltrac.org/event/milcountry-meetup-2/2027-08-31/
CATEGORIES:JBSA,Texas
ATTACH;FMTTYPE=image/png:https://miltrac.org/wp-content/uploads/2025/04/milcountry.in_.png
END:VEVENT
BEGIN:VEVENT
DTSTART;TZID=America/Chicago:20270902T073000
DTEND;TZID=America/Chicago:20270902T080000
DTSTAMP:20260422T175325
CREATED:20250510T190717Z
LAST-MODIFIED:20250510T191001Z
UID:10001453-1819870200-1819872000@miltrac.org
SUMMARY:Morning breath workshop
DESCRIPTION:The Veteran Spouse Network hosts a virtual ‘Morning Breath Work” webinar. \nTime:  Each Thursday\, 7:30 p.m.  This program is geared for military spouses of active duty and retirees. \nRegistration:  Please click on the graphic below. \n \n  \nShare this:Post
URL:https://miltrac.org/event/morning-breath-work-workshop/2027-09-02/
END:VEVENT
BEGIN:VEVENT
DTSTART;TZID=America/Chicago:20270905T150000
DTEND;TZID=America/Chicago:20270905T170000
DTSTAMP:20260422T175325
CREATED:20241028T111339Z
LAST-MODIFIED:20241028T111339Z
UID:10000764-1820156400-1820163600@miltrac.org
SUMMARY:VFW Post 8541 Sick Call
DESCRIPTION:VFW Post 8541 hosts a sick call for homeless veterans. \nTime:  Nov. 3\, 3-5 p.m. \nLocation:  VFW Post 8541\, 2222 Austin Highway\, San Antonio \nShare this:Post
URL:https://miltrac.org/event/vfw-post-8541-sick-call/2027-09-05/
ATTACH;FMTTYPE=image/png:https://miltrac.org/wp-content/uploads/2024/10/sick.call_.png
END:VEVENT
BEGIN:VEVENT
DTSTART;TZID=America/Chicago:20270907T190000
DTEND;TZID=America/Chicago:20270907T210000
DTSTAMP:20260422T175325
CREATED:20250430T232451Z
LAST-MODIFIED:20250430T233707Z
UID:10001206-1820343600-1820350800@miltrac.org
SUMMARY:Join the American Legion riders in Bexar County
DESCRIPTION:Post 593 of the American Legion Riders meets the first and second Tuesday at the organization’s canteen. \nAccording to Ed Richards\, an active American Legion rider\, the post plans rallies and other rides throughout the year. \nRichards\, an Army NCO\, can attest to the value of these rides in what he calls roadside therapy for his PTSD conditions. \nRELATED:  Legacy Run:  Healing on the Road \nPost 593 directions \n\n  \nShare this:Post
URL:https://miltrac.org/event/join-the-american-legion-riders-in-bexar-county/2027-09-07/
ATTACH;FMTTYPE=image/png:https://miltrac.org/wp-content/uploads/2025/04/american.legion.riders.png
END:VEVENT
BEGIN:VEVENT
DTSTART;TZID=America/Chicago:20270909T073000
DTEND;TZID=America/Chicago:20270909T080000
DTSTAMP:20260422T175325
CREATED:20250510T190717Z
LAST-MODIFIED:20250510T191001Z
UID:10001454-1820475000-1820476800@miltrac.org
SUMMARY:Morning breath workshop
DESCRIPTION:The Veteran Spouse Network hosts a virtual ‘Morning Breath Work” webinar. \nTime:  Each Thursday\, 7:30 p.m.  This program is geared for military spouses of active duty and retirees. \nRegistration:  Please click on the graphic below. \n \n  \nShare this:Post
URL:https://miltrac.org/event/morning-breath-work-workshop/2027-09-09/
END:VEVENT
BEGIN:VEVENT
DTSTART;TZID=America/Chicago:20270912T080000
DTEND;TZID=America/Chicago:20270912T170000
DTSTAMP:20260422T175325
CREATED:20240723T112312Z
LAST-MODIFIED:20240723T112312Z
UID:10000165-1820736000-1820768400@miltrac.org
SUMMARY:It's time for a Buddy Check
DESCRIPTION:If  you served in the military\, you had a friend who had your back.  This was someone you could vent about things\, when something happened to upset  you. \nThe military\, as a rule\, doesn’t allow us to vent\, except for what our Navy colleagues call “shipmate” or Air Force term as their “wing man.” \nThat’s why we at MilTRAC are setting aside the second Sunday of every month to call those comrades in arm. \n  \nShare this:Post
URL:https://miltrac.org/event/its-time-for-a-buddy-check/2027-09-12/
ATTACH;FMTTYPE=image/png:https://miltrac.org/wp-content/uploads/2024/07/mentor.png
END:VEVENT
END:VCALENDAR