BEGIN:VCALENDAR
VERSION:2.0
PRODID:-//MilTRAC - ECPv6.15.20//NONSGML v1.0//EN
CALSCALE:GREGORIAN
METHOD:PUBLISH
X-WR-CALNAME:MilTRAC
X-ORIGINAL-URL:https://miltrac.org
X-WR-CALDESC:Events for MilTRAC
REFRESH-INTERVAL;VALUE=DURATION:PT1H
X-Robots-Tag:noindex
X-PUBLISHED-TTL:PT1H
BEGIN:VTIMEZONE
TZID:America/Chicago
BEGIN:DAYLIGHT
TZOFFSETFROM:-0600
TZOFFSETTO:-0500
TZNAME:CDT
DTSTART:20240310T080000
END:DAYLIGHT
BEGIN:STANDARD
TZOFFSETFROM:-0500
TZOFFSETTO:-0600
TZNAME:CST
DTSTART:20241103T070000
END:STANDARD
BEGIN:DAYLIGHT
TZOFFSETFROM:-0600
TZOFFSETTO:-0500
TZNAME:CDT
DTSTART:20250309T080000
END:DAYLIGHT
BEGIN:STANDARD
TZOFFSETFROM:-0500
TZOFFSETTO:-0600
TZNAME:CST
DTSTART:20251102T070000
END:STANDARD
BEGIN:DAYLIGHT
TZOFFSETFROM:-0600
TZOFFSETTO:-0500
TZNAME:CDT
DTSTART:20260308T080000
END:DAYLIGHT
BEGIN:STANDARD
TZOFFSETFROM:-0500
TZOFFSETTO:-0600
TZNAME:CST
DTSTART:20261101T070000
END:STANDARD
END:VTIMEZONE
BEGIN:VEVENT
DTSTART;TZID=America/Chicago:20250720T150000
DTEND;TZID=America/Chicago:20250720T170000
DTSTAMP:20260419T093709
CREATED:20241028T111339Z
LAST-MODIFIED:20241028T111339Z
UID:10000653-1753023600-1753030800@miltrac.org
SUMMARY:VFW Post 8541 Sick Call
DESCRIPTION:VFW Post 8541 hosts a sick call for homeless veterans. \nTime:  Nov. 3\, 3-5 p.m. \nLocation:  VFW Post 8541\, 2222 Austin Highway\, San Antonio \nShare this:Post
URL:https://miltrac.org/event/vfw-post-8541-sick-call/2025-07-20/
ATTACH;FMTTYPE=image/png:https://miltrac.org/wp-content/uploads/2024/10/sick.call_.png
END:VEVENT
BEGIN:VEVENT
DTSTART;VALUE=DATE:20250719
DTEND;VALUE=DATE:20250720
DTSTAMP:20260419T093709
CREATED:20250626T121131Z
LAST-MODIFIED:20250626T121131Z
UID:10001922-1752883200-1752969599@miltrac.org
SUMMARY:SACV car show to showcase classic to current autos
DESCRIPTION:The San Antonio Coalition for Veterans and Families will host its 4th Annual Car show. \nTime:  July 19 \nCar registration:  9 a.m.-11 a.m.\, $25 per auto. \nLocation:  Cavender Grande Ford\, 3600 I-35\, San Antonio \n \nShare this:Post
URL:https://miltrac.org/event/sacv-car-show-to-showcase-classic-to-current-autos/
CATEGORIES:JBSA,Texas,Texas Event
ATTACH;FMTTYPE=image/png:https://miltrac.org/wp-content/uploads/2025/06/sacv.carshow.png
END:VEVENT
BEGIN:VEVENT
DTSTART;TZID=America/Chicago:20250717T200000
DTEND;TZID=America/Chicago:20250717T210000
DTSTAMP:20260419T093709
CREATED:20250715T184813Z
LAST-MODIFIED:20250715T184813Z
UID:10001951-1752782400-1752786000@miltrac.org
SUMMARY:Survivor Benefits & Service-Related Illness webinar
DESCRIPTION:Join our good friend Jane Babcock for this webinar on some hidden VA programs. \nHere’s what Jane posted about this event:  SURVIVORS of military/veterans\, do you know Compensation due to service related deaths\, the ADD-ON benefits to DIC\, when VA can STOP your benefits and when you can REINSTATE benefits? If your veteran served during WARTIME but their death was not service connected and you are living below poverty\, especially if it is due to medical bills\, you may be eligible for the Wartime NSC Pension. (A lot of my widow(er)s qualified for a year due to the wartime veterans final expenses.) \nVeterans & Survivors do you know all the chemical exposure illnesses that may make you eligible for Compensation/Death Compensation\, Free VA Healthcare\, Dependents/Survivors CHAMPVA\, Education benefits\,…………  \nDate:  July 17 \nTime:  8-9 p.m. \nRegistration link:  https://swvbrc.org/event-5993270/Registration \n  \n  \nShare this:Post
URL:https://miltrac.org/event/survivor-benefits-service-related-illness-webinar/
ATTACH;FMTTYPE=image/png:https://miltrac.org/wp-content/uploads/2025/07/janes.final_.flyer_.png
END:VEVENT
BEGIN:VEVENT
DTSTART;TZID=America/Chicago:20250717T183000
DTEND;TZID=America/Chicago:20250717T213000
DTSTAMP:20260419T093709
CREATED:20250715T165015Z
LAST-MODIFIED:20250715T165015Z
UID:10001944-1752777000-1752787800@miltrac.org
SUMMARY:#MilCityMeetUp
DESCRIPTION:MIlCityMeetUp will host a networking event.  According to the sponsors\, “this meetup is a monthly space where community leads the way — because someone once showed up for us\, and now it’s our turn.” \nDate:  July 17 \nTime:  6:30-9:30 p.m. \nAddress:  The Hideaway New Braunfels\, 262 W. Jahn Street\, New Braunfels \n  \nShare this:Post
URL:https://miltrac.org/event/milcitymeetup/
CATEGORIES:Texas,Texas Event
ATTACH;FMTTYPE=image/png:https://miltrac.org/wp-content/uploads/2025/07/milcity.1.png
END:VEVENT
BEGIN:VEVENT
DTSTART;TZID=America/Chicago:20250717T100000
DTEND;TZID=America/Chicago:20250717T140000
DTSTAMP:20260419T093709
CREATED:20250715T170517Z
LAST-MODIFIED:20250715T170614Z
UID:10001945-1752746400-1752760800@miltrac.org
SUMMARY:Operation Lone Star career expo
DESCRIPTION:Workforce Solutions Alamo and the Texas Veterans Leadership Program will  host a career expo. \nAccording to the Texas Veterans Leadership Program’s website: Our Veterans Resource and Referral Specialists are assigned to each of the 28 Workforce Development Board areas. They work closely with staff members from Workforce Solutions offices and the Texas Veterans Commission. These specialists understand the needs of veterans because they also are veterans. All 23 Veterans Resource and Referral Specialists are veterans who have served in Iraq and/or Afghanistan.  \nDate:  July 17 \nTime:  10 a.m.- 2p.m. \nLocation:  Workforce Solutions Datapoint Career Center \nShare this:Post
URL:https://miltrac.org/event/operation-lone-star-career-expo/
CATEGORIES:Texas,Texas Event
ATTACH;FMTTYPE=image/png:https://miltrac.org/wp-content/uploads/2025/07/Operation.lone_.star_.final_.png
END:VEVENT
BEGIN:VEVENT
DTSTART;TZID=America/Chicago:20250717T100000
DTEND;TZID=America/Chicago:20250717T130000
DTSTAMP:20260419T093709
CREATED:20250704T111147Z
LAST-MODIFIED:20250704T111147Z
UID:10001930-1752746400-1752757200@miltrac.org
SUMMARY:American GI Forum Job Fair
DESCRIPTION:The American GI Forum will host a job fair.  Over 30 employers will be on hand for this event. \nTime:  July 17\, 10 a.m.-1 p.m. \nLocation:  610 N. Main Street \nREAD MORE:  Elevator Pitch 101 – A Guide to Making a Pitch at a Job Fair \n  \nShare this:Post
URL:https://miltrac.org/event/american-gi-forum-job-fair-3/
CATEGORIES:JBSA,Texas,Texas Event
ATTACH;FMTTYPE=image/png:https://miltrac.org/wp-content/uploads/2025/05/job.fair_.png
END:VEVENT
BEGIN:VEVENT
DTSTART;TZID=America/Chicago:20250717T073000
DTEND;TZID=America/Chicago:20250717T080000
DTSTAMP:20260419T093709
CREATED:20250510T190717Z
LAST-MODIFIED:20250510T191001Z
UID:10001342-1752737400-1752739200@miltrac.org
SUMMARY:Morning breath workshop
DESCRIPTION:The Veteran Spouse Network hosts a virtual ‘Morning Breath Work” webinar. \nTime:  Each Thursday\, 7:30 p.m.  This program is geared for military spouses of active duty and retirees. \nRegistration:  Please click on the graphic below. \n \n  \nShare this:Post
URL:https://miltrac.org/event/morning-breath-work-workshop/2025-07-17/
END:VEVENT
BEGIN:VEVENT
DTSTART;TZID=America/Chicago:20250716T150000
DTEND;TZID=America/Chicago:20250716T190000
DTSTAMP:20260419T093709
CREATED:20250715T143506Z
LAST-MODIFIED:20250715T143506Z
UID:10001943-1752678000-1752692400@miltrac.org
SUMMARY:VIA hosts job fair
DESCRIPTION:The VIA Metropolitan Transition is hiring employees to help them expand their operation. \nDate:  July 16\, \nTime:  3-7 p.m. \nLocation:  VIA Metro Center\, 1021 San Pedro Avenue \nShare this:Post
URL:https://miltrac.org/event/via-hosts-job-fair/
ATTACH;FMTTYPE=image/jpeg:https://miltrac.org/wp-content/uploads/2025/07/via.jpg
END:VEVENT
BEGIN:VEVENT
DTSTART;TZID=America/Chicago:20250716T140000
DTEND;TZID=America/Chicago:20250716T170000
DTSTAMP:20260419T093709
CREATED:20250711T195718Z
LAST-MODIFIED:20250711T195718Z
UID:10001942-1752674400-1752685200@miltrac.org
SUMMARY:Information Session on Career Forward Google Certificates
DESCRIPTION:Career Forward is a free learner-to-earner program that can help take your career to the next level. Gain industry-recognized skills through a Google Career Certificate in data analytics\, cybersecurity\, digital marketing/e-commerce\, IT support\, project management\, or user experience (UX) design. \nDate: July 16\nTime: 2 PM (CST) \nRegister Online \nShare this:Post
URL:https://miltrac.org/event/information-session-on-career-forward-google-certificates/
ATTACH;FMTTYPE=image/png:https://miltrac.org/wp-content/uploads/2025/07/HOH_logo.png
END:VEVENT
BEGIN:VEVENT
DTSTART;TZID=America/Chicago:20250716T130000
DTEND;TZID=America/Chicago:20250716T170000
DTSTAMP:20260419T093709
CREATED:20250619T101326Z
LAST-MODIFIED:20250619T101326Z
UID:10001915-1752670800-1752685200@miltrac.org
SUMMARY:Post 592 weekly darts tourney
DESCRIPTION:Post 592 hosts a weekly darts tourney every Wednesday at 1:15 p.m. \nEntry fee is $10 per person.  Kevin Winchowski\, the post’s first vice commander\, said the event is open to veterans and their families. \nThe event is a double-elimination best of three contest with both a 301 game and a cricket format. \nRelated:  The American Legion home page. \nLocation: Post 592\, 1147 Wurzbach Road \nShare this:Post
URL:https://miltrac.org/event/post-592-weekly-darts-tourney/2025-07-16/
CATEGORIES:JBSA,Texas,Texas Event
ATTACH;FMTTYPE=image/png:https://miltrac.org/wp-content/uploads/2025/06/darts.png
END:VEVENT
BEGIN:VEVENT
DTSTART;TZID=America/Chicago:20250716T120000
DTEND;TZID=America/Chicago:20250716T170000
DTSTAMP:20260419T093709
CREATED:20250711T194914Z
LAST-MODIFIED:20250711T194914Z
UID:10001941-1752667200-1752685200@miltrac.org
SUMMARY:Virtual Hiring Fair: Technology and Cybersecurity
DESCRIPTION:Transitioning service members\, veterans\, military spouses\, and military caregivers are invited to register for this virtual hiring event focused on employment opportunities in technology and cybersecurity. Recruitment teams are looking for talent from the military community to fill thousands of open positions. Available roles include positions in IT support\, network engineering\, software engineering\, data analytics\, AI\, cybersecurity analytics\, and more. 65+ employers are scheduled to participate including Amazon Web Services\, Amentum\, Boots2Roots\, Booz Allen Hamilton\, Capital One\, Chewy\, City of San Antonio\, Comerica\, CVS Health\, Fiserv\, General Dynamics Information Technology\, JPMorgan Chase & Co.\, Leidos\, Merck\, Sonepar USA\, Southern Glazer’s Wine & Spirits\, Spectrum/Charter Communications\, T-Mobile\, Trane Technologies\, US Bank\, USIC\, Verizon\, Visa\, Wells Fargo\, Williams Companies\, Workday\, Zermount\, and more. \nEvent sponsored by Radancy and T-Mobile. \nDate: July 16\nTime: Noon (CST) \nRegister Online \nShare this:Post
URL:https://miltrac.org/event/virtual-hiring-fair-technology-and-cybersecurity/
ATTACH;FMTTYPE=image/png:https://miltrac.org/wp-content/uploads/2025/07/HOH_logo.png
END:VEVENT
BEGIN:VEVENT
DTSTART;TZID=America/Chicago:20250716T090000
DTEND;TZID=America/Chicago:20250716T130000
DTSTAMP:20260419T093709
CREATED:20250608T184500Z
LAST-MODIFIED:20250608T184500Z
UID:10001631-1752656400-1752670800@miltrac.org
SUMMARY:South Area Job Fair
DESCRIPTION:Workforce Solutions Rural Capital Area is hosting a monthly job fair. \nDate:  June 18\, 9 a.m.-1 p.m. \nLocation:  San Marcos Public Library\, 625 E. Hopkins \nThe event’s organizers suggest attendees bring copies of their resume\, dress professional and have their elevator pitch ready. \nRead more:  Elevator Pitch 101.  See graphic below for link to this MILTrac article. \n  \n \nShare this:Post
URL:https://miltrac.org/event/south-area-job-fair/2025-07-16/
CATEGORIES:JBSA,Texas,Texas Event
ATTACH;FMTTYPE=image/png:https://miltrac.org/wp-content/uploads/2024/08/job.fair_.2.png
END:VEVENT
BEGIN:VEVENT
DTSTART;TZID=America/Chicago:20250716T090000
DTEND;TZID=America/Chicago:20250716T100000
DTSTAMP:20260419T093709
CREATED:20250704T102242Z
LAST-MODIFIED:20250704T102719Z
UID:10001925-1752656400-1752660000@miltrac.org
SUMMARY:Unaccompanied Veterans Memorial Service
DESCRIPTION:Bexar County Military and Veteran Services will host an “Unaccompanied Veterans Memorial Service” July 16\, 9 a.ml. at the Fort Sam Houston Assembly Area. \n“This service is to honor veterans who died with no known relatives\,” said Keith Wilson\, the executive director of the Bexar County Military and Veteran Services. \nColonel Marie Slack\, the 502nd Force Support Group will speak at the event. \nLocation:  Fort Sam Houston Cemetery \nShare this:Post
URL:https://miltrac.org/event/unaccompanied-veterans-memorial-service-4/
CATEGORIES:JBSA,Texas,Texas Event
ATTACH;FMTTYPE=image/png:https://miltrac.org/wp-content/uploads/2024/12/taps.png
END:VEVENT
BEGIN:VEVENT
DTSTART;TZID=America/Chicago:20250716T080000
DTEND;TZID=America/Chicago:20250716T170000
DTSTAMP:20260419T093709
CREATED:20250711T194558Z
LAST-MODIFIED:20250711T194558Z
UID:10001940-1752652800-1752685200@miltrac.org
SUMMARY:Virtual Amplify: Career Readiness and Hiring Event Preparation
DESCRIPTION:Before attending the Virtual Hiring Fair: Technology and Cybersecurity in the afternoon\, engage in development workshops and interactive sessions designed to support your career goals! Topics include professional branding\, resume support\, interview techniques\, and networking. Amplify attendees will leave with valuable tools\, resources\, and an expanded network to facilitate their professional growth. \nEvent sponsored by USAA\, Comcast NBCUniversal\, and T-Mobile. \nDate: July 16\nTime: 8 AM (CST) \nRegister Online \nShare this:Post
URL:https://miltrac.org/event/virtual-amplify-career-readiness-and-hiring-event-preparation/
ATTACH;FMTTYPE=image/png:https://miltrac.org/wp-content/uploads/2025/07/HOH_logo.png
END:VEVENT
BEGIN:VEVENT
DTSTART;TZID=America/Chicago:20250715T150000
DTEND;TZID=America/Chicago:20250715T160000
DTSTAMP:20260419T093709
CREATED:20250711T193406Z
LAST-MODIFIED:20250711T193545Z
UID:10001939-1752591600-1752595200@miltrac.org
SUMMARY:Exploring Careers in Technology and Cybersecurity (Virtual)
DESCRIPTION:Join Hiring Our Heroes and representatives from T-Mobile to learn about in-demand skillsets\, available roles and career paths\, hiring processes\, resume and interview tips\, certification requirements\, how to be successful in a hiring fair\, and more. Bring your questions for live Q&A! \nDate: July 15\nTime:  3 PM CST\nRegister Here \nShare this:Post
URL:https://miltrac.org/event/exploring-careers-in-technology-and-cybersecurity-virtual/
ATTACH;FMTTYPE=image/png:https://miltrac.org/wp-content/uploads/2025/07/HOH_logo.png
END:VEVENT
BEGIN:VEVENT
DTSTART;TZID=America/Chicago:20250715T140000
DTEND;TZID=America/Chicago:20250715T160000
DTSTAMP:20260419T093709
CREATED:20250709T183359Z
LAST-MODIFIED:20250709T183434Z
UID:10001938-1752588000-1752595200@miltrac.org
SUMMARY:Vets2Industry offers virtual networking event
DESCRIPTION:Kim Archer\, executive director of the Cybersecurity/IT Transition RapidAscent\, will speak as the keynote for a virtual networking event. \nAbout Vets2Industry:  https://vets2industry.org/ \nDate:  July 15 \nTime:  2-4 p.m. \nRegistration Link:  https://www.eventbrite.com/e/vets2industry-66th-virtual-networking-event-tickets-1444301567869?aff=odeccpebemailcampaigns&utm_source=eventbrite&utm_medium=ebcampaigns&utm_campaign=51106093&utm_term=ctabutton&mipa=ABIdvVvjFh0J0zmWhE48zkqR1HCgQAku_3YHl39jaVSXzHt0LhMtTAQyfroLZ5hKac9llOIpMEQTBEuQC8zriYq51LLkpKb-EFzbUdIYYIVLauaTQXOlTNib5YY-g5T7K50QYgEaYI27-6s2DRV_llF1U9zOLkirUFgAmMaKoMn7F7_KIHPaeLaLCKGbLnWcodOKZLz6u05PCr7JYLCfbcmMvRFNT_A5g9zu5FRK6ZbI5DyiRHRZynFSti9E9VSIMo84Q4aW73glTFN1Ti1zffwy0b44Q180Qg \nShare this:Post
URL:https://miltrac.org/event/vets2industry-offers-virtual-networking-event/
ATTACH;FMTTYPE=image/jpeg:https://miltrac.org/wp-content/uploads/2025/07/vets2industry.jpg
END:VEVENT
BEGIN:VEVENT
DTSTART;TZID=America/Chicago:20250715T120000
DTEND;TZID=America/Chicago:20250715T140000
DTSTAMP:20260419T093709
CREATED:20250704T104558Z
LAST-MODIFIED:20250704T104558Z
UID:10001927-1752580800-1752588000@miltrac.org
SUMMARY:Salary Negotiations workshop
DESCRIPTION:The Department of Labor Off Base Transition will host a “Salary Negotiation” workshop. \nTime:  July 15\, 12:15-2:15 p.m. \nLocation:  Good Samaritan Veterans Outreach and Transition Center. \nREAD MORE:  Interpreting Your First Government Contract Position \nShare this:Post
URL:https://miltrac.org/event/salary-negotiations-workshop-4/
CATEGORIES:JBSA,Texas,Texas Event
ATTACH;FMTTYPE=image/png:https://miltrac.org/wp-content/uploads/2024/12/salary.1.png
END:VEVENT
BEGIN:VEVENT
DTSTART;TZID=America/Chicago:20250715T110000
DTEND;TZID=America/Chicago:20250715T120000
DTSTAMP:20260419T093709
CREATED:20250707T174933Z
LAST-MODIFIED:20250709T194345Z
UID:10001936-1752577200-1752580800@miltrac.org
SUMMARY:BENEFEDS.gov offers info webinar on health benefits
DESCRIPTION:The FEDVIP Team will host a live virtual webinar July 15th from 12:00–1:00 PM  EST.  According to CMSgt. (Ret.) Jason David\, the event will cover: \n✅ An overview of comprehensive dental and vision benefits\n✅ How and when to enroll\n✅ Tools to find providers\n✅ Digital resources like mobile apps and websites \nDate:  July 15 \nTime:  11 a.m. CST \nRegister here:  https://event.on24.com/wcc/r/4991678/DD123538DD534236D64833845C5F5902 \nRELATED Article:  https://miltrac.org/2025/07/09/benefeds-gov-offers-ways-for-active-duty-to-save-on-vision-and-dental-care/ \nShare this:Post
URL:https://miltrac.org/event/benefeds-gov-offers-info-webinar-on-health-benefits/
CATEGORIES:JBSA,Texas,Texas Event
ATTACH;FMTTYPE=image/png:https://miltrac.org/wp-content/uploads/2025/07/jason.med_.benefits.png
END:VEVENT
BEGIN:VEVENT
DTSTART;TZID=America/Chicago:20250715T100000
DTEND;TZID=America/Chicago:20250715T120000
DTSTAMP:20260419T093709
CREATED:20250704T103901Z
LAST-MODIFIED:20250704T104722Z
UID:10001926-1752573600-1752580800@miltrac.org
SUMMARY:Marketing Yourself to Employers
DESCRIPTION:The Department of Labor Off-Base Transition Training will host a “Marketing Yourself to Employers” workshop July 15. \nTime:  July 15\, 10 a.m.-noon \nLocation:  Good Samaritan Veterans Outreach and Transition Center \nREAD MORE:  Salary negotiations for the Military Professional in Transition \nShare this:Post
URL:https://miltrac.org/event/marketing-yourself-to-employers/
CATEGORIES:JBSA,Texas,Texas Event
ATTACH;FMTTYPE=image/png:https://miltrac.org/wp-content/uploads/2025/02/job.hiring.png
END:VEVENT
BEGIN:VEVENT
DTSTART;TZID=America/Chicago:20250715T090000
DTEND;TZID=America/Chicago:20250715T110000
DTSTAMP:20260419T093709
CREATED:20240820T210953Z
LAST-MODIFIED:20240902T173818Z
UID:10000475-1752570000-1752577200@miltrac.org
SUMMARY:Doughnuts\, coffee and fellowship
DESCRIPTION:Post 593 hosts veterans and their families for doughnuts\, coffee and fellowship every Tuesday.   According to the post organizers\, this weekly event is designed to get veterans out of the house and mingling with others who have served in the military. \nDate:  Tuesdays\, 9 to 11 a.m. \nAddress:  326 Legion Drive\,  Converse \nShare this:Post
URL:https://miltrac.org/event/doughnuts-and-fellowship/2025-07-15/
ATTACH;FMTTYPE=image/png:https://miltrac.org/wp-content/uploads/2024/08/doughnut.png
END:VEVENT
BEGIN:VEVENT
DTSTART;TZID=America/Chicago:20250713T150000
DTEND;TZID=America/Chicago:20250713T170000
DTSTAMP:20260419T093709
CREATED:20241028T111339Z
LAST-MODIFIED:20241028T111339Z
UID:10000652-1752418800-1752426000@miltrac.org
SUMMARY:VFW Post 8541 Sick Call
DESCRIPTION:VFW Post 8541 hosts a sick call for homeless veterans. \nTime:  Nov. 3\, 3-5 p.m. \nLocation:  VFW Post 8541\, 2222 Austin Highway\, San Antonio \nShare this:Post
URL:https://miltrac.org/event/vfw-post-8541-sick-call/2025-07-13/
ATTACH;FMTTYPE=image/png:https://miltrac.org/wp-content/uploads/2024/10/sick.call_.png
END:VEVENT
BEGIN:VEVENT
DTSTART;TZID=America/Chicago:20250713T080000
DTEND;TZID=America/Chicago:20250713T170000
DTSTAMP:20260419T093709
CREATED:20240723T112312Z
LAST-MODIFIED:20240723T112312Z
UID:10000139-1752393600-1752426000@miltrac.org
SUMMARY:It's time for a Buddy Check
DESCRIPTION:If  you served in the military\, you had a friend who had your back.  This was someone you could vent about things\, when something happened to upset  you. \nThe military\, as a rule\, doesn’t allow us to vent\, except for what our Navy colleagues call “shipmate” or Air Force term as their “wing man.” \nThat’s why we at MilTRAC are setting aside the second Sunday of every month to call those comrades in arm. \n  \nShare this:Post
URL:https://miltrac.org/event/its-time-for-a-buddy-check/2025-07-13/
ATTACH;FMTTYPE=image/png:https://miltrac.org/wp-content/uploads/2024/07/mentor.png
END:VEVENT
BEGIN:VEVENT
DTSTART;TZID=America/Chicago:20250711T080000
DTEND;TZID=America/Chicago:20250711T170000
DTSTAMP:20260419T093709
CREATED:20250509T114300Z
LAST-MODIFIED:20250509T114520Z
UID:10001305-1752220800-1752253200@miltrac.org
SUMMARY:Trails and Tales -- a tour of historic Fort Sam Houston
DESCRIPTION:The Fort Sam Houston Military &Family Readiness Center\, 3060 Stanley Road\, conducts a monthly tour of the base’s historic buildings and locations . \nThe tour begins at 9 a.m. for all those with a valid military ID.  Registration:  210-221-2705. \n \nShare this:Post
URL:https://miltrac.org/event/trails-and-tales-a-tour-of-historic-fort-sam-houston/2025-07-11/
CATEGORIES:JBSA,Texas Event
ATTACH;FMTTYPE=image/jpeg:https://miltrac.org/wp-content/uploads/2025/05/fort.sam_.tours_.jpg
END:VEVENT
BEGIN:VEVENT
DTSTART;TZID=America/Chicago:20250710T193000
DTEND;TZID=America/Chicago:20250710T203000
DTSTAMP:20260419T093709
CREATED:20250612T113107Z
LAST-MODIFIED:20250612T113125Z
UID:10001645-1752175800-1752179400@miltrac.org
SUMMARY:MTR welcomes you to join them for a virtual MasterMind group
DESCRIPTION:The Military Transition Roundtable meets today for a MasterMind program via a Zoom room. \nTime:  June 26\, 7:30 p.m. \nTo get the Zoom invite\, please click on the graphic below. \n \nShare this:Post
URL:https://miltrac.org/event/mtr-welcomes-you-to-join-them-for-a-virtual-mastermind-group/2025-07-10/
CATEGORIES:Georgia,Georgia Event,JBSA,Texas,Texas Event
ATTACH;FMTTYPE=image/png:https://miltrac.org/wp-content/uploads/2025/06/mtr.invite.png
END:VEVENT
BEGIN:VEVENT
DTSTART;TZID=America/Chicago:20250710T130000
DTEND;TZID=America/Chicago:20250710T160000
DTSTAMP:20260419T093709
CREATED:20250618T105118Z
LAST-MODIFIED:20250618T105302Z
UID:10001649-1752152400-1752163200@miltrac.org
SUMMARY:Nationwide TS/SCI & Above Cleared Virtual Career Fair
DESCRIPTION:Jeremaine King\, one of our LinkedIn connections\, shared this upcoming virtual job fair. \n“An Active TS/SCI\, CI Poly or Full Scope / Lifestyle Poly Security Clearance REQUIRED For This Event\,” King posted on this post. \nFor a list of job requirements\, please click on the graphic below. \nRelated: Elevator Pitch 101 – a guide to making a pitch at job fair \nTime:  July 10\, 1-4 p.m. \nRegistration:  https://app.brazenconnect.com/events/gE73K/login?force_redirect=true&expand_login=false \n \n  \nShare this:Post
URL:https://miltrac.org/event/nationwide-ts-sci-above-cleared-virtual-career-fair/
CATEGORIES:Georgia,Georgia Event,JBSA,Texas,Texas Event
ATTACH;FMTTYPE=image/png:https://miltrac.org/wp-content/uploads/2025/06/top.secret.png
END:VEVENT
BEGIN:VEVENT
DTSTART;TZID=America/Chicago:20250710T080000
DTEND;TZID=America/Chicago:20250710T170000
DTSTAMP:20260419T093709
CREATED:20250509T114300Z
LAST-MODIFIED:20250509T114520Z
UID:10001304-1752134400-1752166800@miltrac.org
SUMMARY:Trails and Tales -- a tour of historic Fort Sam Houston
DESCRIPTION:The Fort Sam Houston Military &Family Readiness Center\, 3060 Stanley Road\, conducts a monthly tour of the base’s historic buildings and locations . \nThe tour begins at 9 a.m. for all those with a valid military ID.  Registration:  210-221-2705. \n \nShare this:Post
URL:https://miltrac.org/event/trails-and-tales-a-tour-of-historic-fort-sam-houston/2025-07-10/
CATEGORIES:JBSA,Texas Event
ATTACH;FMTTYPE=image/jpeg:https://miltrac.org/wp-content/uploads/2025/05/fort.sam_.tours_.jpg
END:VEVENT
BEGIN:VEVENT
DTSTART;TZID=America/Chicago:20250710T073000
DTEND;TZID=America/Chicago:20250710T080000
DTSTAMP:20260419T093709
CREATED:20250510T190717Z
LAST-MODIFIED:20250510T191001Z
UID:10001341-1752132600-1752134400@miltrac.org
SUMMARY:Morning breath workshop
DESCRIPTION:The Veteran Spouse Network hosts a virtual ‘Morning Breath Work” webinar. \nTime:  Each Thursday\, 7:30 p.m.  This program is geared for military spouses of active duty and retirees. \nRegistration:  Please click on the graphic below. \n \n  \nShare this:Post
URL:https://miltrac.org/event/morning-breath-work-workshop/2025-07-10/
END:VEVENT
BEGIN:VEVENT
DTSTART;TZID=America/Chicago:20250709T130000
DTEND;TZID=America/Chicago:20250709T170000
DTSTAMP:20260419T093709
CREATED:20250619T101326Z
LAST-MODIFIED:20250619T101326Z
UID:10001914-1752066000-1752080400@miltrac.org
SUMMARY:Post 592 weekly darts tourney
DESCRIPTION:Post 592 hosts a weekly darts tourney every Wednesday at 1:15 p.m. \nEntry fee is $10 per person.  Kevin Winchowski\, the post’s first vice commander\, said the event is open to veterans and their families. \nThe event is a double-elimination best of three contest with both a 301 game and a cricket format. \nRelated:  The American Legion home page. \nLocation: Post 592\, 1147 Wurzbach Road \nShare this:Post
URL:https://miltrac.org/event/post-592-weekly-darts-tourney/2025-07-09/
CATEGORIES:JBSA,Texas,Texas Event
ATTACH;FMTTYPE=image/png:https://miltrac.org/wp-content/uploads/2025/06/darts.png
END:VEVENT
BEGIN:VEVENT
DTSTART;TZID=America/Chicago:20250709T120000
DTEND;TZID=America/Chicago:20250709T133000
DTSTAMP:20260419T093709
CREATED:20250510T152447Z
LAST-MODIFIED:20250510T152821Z
UID:10001327-1752062400-1752067800@miltrac.org
SUMMARY:Real Talk:  Life & Love With PTSD
DESCRIPTION:The Veterans spouse Network hosts this virtual meeting. \nTime:  May 14\, noon \nRegistration link:  Please click on the graphic below to register. \n \n  \nShare this:Post
URL:https://miltrac.org/event/real-talk-life-love-with-ptsd/2025-07-09/
CATEGORIES:Aviation,Georgia,Georgia Event,JBSA,Texas,Texas Event
END:VEVENT
BEGIN:VEVENT
DTSTART;TZID=America/Chicago:20250709T090000
DTEND;TZID=America/Chicago:20250709T160000
DTSTAMP:20260419T093709
CREATED:20250509T120500Z
LAST-MODIFIED:20250509T120534Z
UID:10001308-1752051600-1752076800@miltrac.org
SUMMARY:San Antonio Men's Mental Health Summit
DESCRIPTION:Sinclarity Consulting will host a mental health summit to help men break the silence around  mental health. \nLocation:  Rise Recovery\, 2803 Mossrock\, San Antonio \nDate: July 9\, 9 a.m.-4 p.m. \nDetails: Please click on the Q/R in the flyer below. \n  \n \nShare this:Post
URL:https://miltrac.org/event/san-antonio-mens-mental-health-summit/
CATEGORIES:JBSA,Texas,Texas Event
ATTACH;FMTTYPE=image/png:https://miltrac.org/wp-content/uploads/2025/05/mental.health.png
END:VEVENT
END:VCALENDAR