BEGIN:VCALENDAR
VERSION:2.0
PRODID:-//MilTRAC - ECPv6.15.20//NONSGML v1.0//EN
CALSCALE:GREGORIAN
METHOD:PUBLISH
X-WR-CALNAME:MilTRAC
X-ORIGINAL-URL:https://miltrac.org
X-WR-CALDESC:Events for MilTRAC
REFRESH-INTERVAL;VALUE=DURATION:PT1H
X-Robots-Tag:noindex
X-PUBLISHED-TTL:PT1H
BEGIN:VTIMEZONE
TZID:America/Chicago
BEGIN:DAYLIGHT
TZOFFSETFROM:-0600
TZOFFSETTO:-0500
TZNAME:CDT
DTSTART:20240310T080000
END:DAYLIGHT
BEGIN:STANDARD
TZOFFSETFROM:-0500
TZOFFSETTO:-0600
TZNAME:CST
DTSTART:20241103T070000
END:STANDARD
BEGIN:DAYLIGHT
TZOFFSETFROM:-0600
TZOFFSETTO:-0500
TZNAME:CDT
DTSTART:20250309T080000
END:DAYLIGHT
BEGIN:STANDARD
TZOFFSETFROM:-0500
TZOFFSETTO:-0600
TZNAME:CST
DTSTART:20251102T070000
END:STANDARD
BEGIN:DAYLIGHT
TZOFFSETFROM:-0600
TZOFFSETTO:-0500
TZNAME:CDT
DTSTART:20260308T080000
END:DAYLIGHT
BEGIN:STANDARD
TZOFFSETFROM:-0500
TZOFFSETTO:-0600
TZNAME:CST
DTSTART:20261101T070000
END:STANDARD
END:VTIMEZONE
BEGIN:VEVENT
DTSTART;TZID=America/Chicago:20250625T130000
DTEND;TZID=America/Chicago:20250625T150000
DTSTAMP:20260423T191206
CREATED:20250608T193020Z
LAST-MODIFIED:20250608T193348Z
UID:10001635-1750856400-1750863600@miltrac.org
SUMMARY:LinkedIn 101
DESCRIPTION:The Fort Sam Houston Family Support Center will host LinkedIn 101. \nTime/date:  June 25\, 1-3 p.m. \nLocation:  Fort Sam Houston Family Support Center \nRead more:  MILTrac offers free virtual LinkedIn course.  Please click on graphic below to learn more. \n \n* \nShare this:Post
URL:https://miltrac.org/event/linkedin-101-6/
CATEGORIES:JBSA,Texas,Texas Event
ATTACH;FMTTYPE=image/png:https://miltrac.org/wp-content/uploads/2024/08/Linkedin.1.png
END:VEVENT
BEGIN:VEVENT
DTSTART;TZID=America/Chicago:20250625T120000
DTEND;TZID=America/Chicago:20250625T133000
DTSTAMP:20260423T191206
CREATED:20250510T152447Z
LAST-MODIFIED:20250510T152821Z
UID:10001331-1750852800-1750858200@miltrac.org
SUMMARY:Real Talk:  Life & Love With PTSD
DESCRIPTION:The Veterans spouse Network hosts this virtual meeting. \nTime:  May 14\, noon \nRegistration link:  Please click on the graphic below to register. \n \n  \nShare this:Post
URL:https://miltrac.org/event/real-talk-life-love-with-ptsd/2025-06-25/
CATEGORIES:Aviation,Georgia,Georgia Event,JBSA,Texas,Texas Event
END:VEVENT
BEGIN:VEVENT
DTSTART;TZID=America/Chicago:20250625T090000
DTEND;TZID=America/Chicago:20250625T120000
DTSTAMP:20260423T191206
CREATED:20250608T201043Z
LAST-MODIFIED:20250608T201043Z
UID:10001639-1750842000-1750852800@miltrac.org
SUMMARY:What to Expect When You Have an Aging Parent
DESCRIPTION:The Randolph AFB Family Support Center will host a workshop on how to how to assist elderly parents. \nTime:  June 25\,  9 a.m.-noon \nLocation:  Randolph AFB Family support Center \nShare this:Post
URL:https://miltrac.org/event/what-to-expect-when-you-have-an-aging-parent/
ATTACH;FMTTYPE=image/jpeg:https://miltrac.org/wp-content/uploads/2025/06/aging.parents.jpg
END:VEVENT
BEGIN:VEVENT
DTSTART;TZID=America/Chicago:20250624T180000
DTEND;TZID=America/Chicago:20250624T190000
DTSTAMP:20260423T191206
CREATED:20250602T104728Z
LAST-MODIFIED:20250614T124217Z
UID:10001609-1750788000-1750791600@miltrac.org
SUMMARY:A Vet S.O.S. podcast with Michael Haltman
DESCRIPTION:Join Shawn Welsh\, the host of Vet S.O.S. as he interviews Michael Haltman\, the board chair of the Heroes to Heroes Foundation. \nTime:  June 24\, 6 p.m. \nZoom link:  https://www.linkedin.com/safety/go?url=https%3A%2F%2Fyoutu.be%2FVyLA_bvDa_o&trk=flagship-messaging-web&messageThreadUrn=urn%3Ali%3AmessagingThread%3A2-Y2FlMjBlNTUtZWRhNy00ZThhLThiYjctOTVjOWFlYjlkMTIyXzAxMg%3D%3D&lipi=urn%3Ali%3Apage%3Ad_flagship3_messaging_conversation_detail%3BXiipuvfzTPmbtEVN5DrNMQ%3D%3D \nShare this:Post
URL:https://miltrac.org/event/a-s-o-s-podcast-with-michael-haltman/
CATEGORIES:Georgia,Georgia Event,JBSA,Texas,Texas Event
ATTACH;FMTTYPE=image/png:https://miltrac.org/wp-content/uploads/2025/06/Michael.haltman.final_.png
END:VEVENT
BEGIN:VEVENT
DTSTART;TZID=America/Chicago:20250624T090000
DTEND;TZID=America/Chicago:20250624T110000
DTSTAMP:20260423T191206
CREATED:20240820T210953Z
LAST-MODIFIED:20240902T173818Z
UID:10000472-1750755600-1750762800@miltrac.org
SUMMARY:Doughnuts\, coffee and fellowship
DESCRIPTION:Post 593 hosts veterans and their families for doughnuts\, coffee and fellowship every Tuesday.   According to the post organizers\, this weekly event is designed to get veterans out of the house and mingling with others who have served in the military. \nDate:  Tuesdays\, 9 to 11 a.m. \nAddress:  326 Legion Drive\,  Converse \nShare this:Post
URL:https://miltrac.org/event/doughnuts-and-fellowship/2025-06-24/
ATTACH;FMTTYPE=image/png:https://miltrac.org/wp-content/uploads/2024/08/doughnut.png
END:VEVENT
BEGIN:VEVENT
DTSTART;TZID=America/Chicago:20250623T100000
DTEND;TZID=America/Chicago:20250623T140000
DTSTAMP:20260423T191206
CREATED:20250608T200039Z
LAST-MODIFIED:20250608T200258Z
UID:10001638-1750672800-1750687200@miltrac.org
SUMMARY:JBSA Education Fair
DESCRIPTION:The JBSA Education Services will host an education fair.  Representative from 60 universities\, colleges\, technical institutions and career schools will have booths. \nTime:  June 23\, 10 a.m.-2 p.m. \nLocation:  Arnold Hall\, Lackland AFB \nShare this:Post
URL:https://miltrac.org/event/jbsa-education-fair-2/
CATEGORIES:JBSA,Texas,Texas Event
ATTACH;FMTTYPE=image/png:https://miltrac.org/wp-content/uploads/2024/12/education.png
END:VEVENT
BEGIN:VEVENT
DTSTART;TZID=America/Chicago:20250623T100000
DTEND;TZID=America/Chicago:20250623T140000
DTSTAMP:20260423T191206
CREATED:20250509T121813Z
LAST-MODIFIED:20250509T121813Z
UID:10001310-1750672800-1750687200@miltrac.org
SUMMARY:JBSA Education Fair
DESCRIPTION:Representatives from 60 universities\, colleges\, technical institutions and career schools will have representatives for this event \nDate:  June 23\, 10 a.m. – 4 p.m. \nLocation:  Arnold Hall\, Bldg. 5606\, Lackland. \nShare this:Post
URL:https://miltrac.org/event/jbsa-education-fair/
CATEGORIES:JBSA,Texas,Texas Event
ATTACH;FMTTYPE=image/png:https://miltrac.org/wp-content/uploads/2024/12/education.png
END:VEVENT
BEGIN:VEVENT
DTSTART;TZID=America/Chicago:20250622T150000
DTEND;TZID=America/Chicago:20250622T170000
DTSTAMP:20260423T191206
CREATED:20241028T111339Z
LAST-MODIFIED:20241028T111339Z
UID:10000649-1750604400-1750611600@miltrac.org
SUMMARY:VFW Post 8541 Sick Call
DESCRIPTION:VFW Post 8541 hosts a sick call for homeless veterans. \nTime:  Nov. 3\, 3-5 p.m. \nLocation:  VFW Post 8541\, 2222 Austin Highway\, San Antonio \nShare this:Post
URL:https://miltrac.org/event/vfw-post-8541-sick-call/2025-06-22/
ATTACH;FMTTYPE=image/png:https://miltrac.org/wp-content/uploads/2024/10/sick.call_.png
END:VEVENT
BEGIN:VEVENT
DTSTART;TZID=America/Chicago:20250619T073000
DTEND;TZID=America/Chicago:20250619T080000
DTSTAMP:20260423T191206
CREATED:20250510T190717Z
LAST-MODIFIED:20250510T191001Z
UID:10001338-1750318200-1750320000@miltrac.org
SUMMARY:Morning breath workshop
DESCRIPTION:The Veteran Spouse Network hosts a virtual ‘Morning Breath Work” webinar. \nTime:  Each Thursday\, 7:30 p.m.  This program is geared for military spouses of active duty and retirees. \nRegistration:  Please click on the graphic below. \n \n  \nShare this:Post
URL:https://miltrac.org/event/morning-breath-work-workshop/2025-06-19/
END:VEVENT
BEGIN:VEVENT
DTSTART;TZID=America/Chicago:20250618T130000
DTEND;TZID=America/Chicago:20250618T150000
DTSTAMP:20260423T191206
CREATED:20250608T194213Z
LAST-MODIFIED:20250612T161215Z
UID:10001636-1750251600-1750258800@miltrac.org
SUMMARY:Acing the Interview
DESCRIPTION:The Fort Sam Houston Family Support Center will host “Acing the Interview” \nTime/Date: June 18\, 1-3 p.m. \nLocation:  Fort Sam Houston Family Support Center \nRead more:  Resources to help to prepare for your next interview.  For even more\, click here. \n \nShare this:Post
URL:https://miltrac.org/event/acing-the-interview-6/
ATTACH;FMTTYPE=image/png:https://miltrac.org/wp-content/uploads/2024/09/interview.png
END:VEVENT
BEGIN:VEVENT
DTSTART;TZID=America/Chicago:20250618T090000
DTEND;TZID=America/Chicago:20250618T130000
DTSTAMP:20260423T191206
CREATED:20250608T184500Z
LAST-MODIFIED:20250608T184500Z
UID:10001630-1750237200-1750251600@miltrac.org
SUMMARY:South Area Job Fair
DESCRIPTION:Workforce Solutions Rural Capital Area is hosting a monthly job fair. \nDate:  June 18\, 9 a.m.-1 p.m. \nLocation:  San Marcos Public Library\, 625 E. Hopkins \nThe event’s organizers suggest attendees bring copies of their resume\, dress professional and have their elevator pitch ready. \nRead more:  Elevator Pitch 101.  See graphic below for link to this MILTrac article. \n  \n \nShare this:Post
URL:https://miltrac.org/event/south-area-job-fair/2025-06-18/
CATEGORIES:JBSA,Texas,Texas Event
ATTACH;FMTTYPE=image/png:https://miltrac.org/wp-content/uploads/2024/08/job.fair_.2.png
END:VEVENT
BEGIN:VEVENT
DTSTART;TZID=America/Chicago:20250617T100000
DTEND;TZID=America/Chicago:20250617T150000
DTSTAMP:20260423T191206
CREATED:20250608T182908Z
LAST-MODIFIED:20250608T182908Z
UID:10001629-1750154400-1750172400@miltrac.org
SUMMARY:Fort Cavozos Mega Career Fair
DESCRIPTION:The Fort Cavozos Transition Assistance Program will host a career fair. \nTime/date:  June 17\, 10 a.m.-3 p.m. \nLocation:  Lone Star Convention Center\, Fort Cavazos \nRegistration:  Please use the Q/R code in the graphic below. \n  \nShare this:Post
URL:https://miltrac.org/event/fort-cavozos-mega-career-fair/
CATEGORIES:JBSA,Texas,Texas Event
ATTACH;FMTTYPE=image/png:https://miltrac.org/wp-content/uploads/2024/07/uiw.job-fair.png
END:VEVENT
BEGIN:VEVENT
DTSTART;TZID=America/Chicago:20250617T090000
DTEND;TZID=America/Chicago:20250617T110000
DTSTAMP:20260423T191206
CREATED:20240820T210953Z
LAST-MODIFIED:20240902T173818Z
UID:10000471-1750150800-1750158000@miltrac.org
SUMMARY:Doughnuts\, coffee and fellowship
DESCRIPTION:Post 593 hosts veterans and their families for doughnuts\, coffee and fellowship every Tuesday.   According to the post organizers\, this weekly event is designed to get veterans out of the house and mingling with others who have served in the military. \nDate:  Tuesdays\, 9 to 11 a.m. \nAddress:  326 Legion Drive\,  Converse \nShare this:Post
URL:https://miltrac.org/event/doughnuts-and-fellowship/2025-06-17/
ATTACH;FMTTYPE=image/png:https://miltrac.org/wp-content/uploads/2024/08/doughnut.png
END:VEVENT
BEGIN:VEVENT
DTSTART;TZID=America/Chicago:20250615T150000
DTEND;TZID=America/Chicago:20250615T170000
DTSTAMP:20260423T191206
CREATED:20241028T111339Z
LAST-MODIFIED:20241028T111339Z
UID:10000648-1749999600-1750006800@miltrac.org
SUMMARY:VFW Post 8541 Sick Call
DESCRIPTION:VFW Post 8541 hosts a sick call for homeless veterans. \nTime:  Nov. 3\, 3-5 p.m. \nLocation:  VFW Post 8541\, 2222 Austin Highway\, San Antonio \nShare this:Post
URL:https://miltrac.org/event/vfw-post-8541-sick-call/2025-06-15/
ATTACH;FMTTYPE=image/png:https://miltrac.org/wp-content/uploads/2024/10/sick.call_.png
END:VEVENT
BEGIN:VEVENT
DTSTART;TZID=America/Chicago:20250614T150000
DTEND;TZID=America/Chicago:20250614T163000
DTSTAMP:20260423T191206
CREATED:20250609T112735Z
LAST-MODIFIED:20250609T112735Z
UID:10001640-1749913200-1749918600@miltrac.org
SUMMARY:Post 592 to celebrate Flag Day with a ceremony
DESCRIPTION:The American Legion Post 592 will observe Flag Day with an event open to all veterans and their families.  The post’s Son of American Legion will cook burgers after the event. \nRead more: https://www.legion.org/about/american-legion-family/sons-of-the-american-legion or click on the graphic below. \nDate:  June 14\, 3 p.m. \nLocation:  Post 592\, Harry Wurzbach Road\, San Antonio \n \nShare this:Post
URL:https://miltrac.org/event/post-592-to-celebrate-flag-day-with-a-ceremony/
CATEGORIES:Texas,Texas Event
ATTACH;FMTTYPE=image/png:https://miltrac.org/wp-content/uploads/2025/06/flag.day_.png
END:VEVENT
BEGIN:VEVENT
DTSTART;TZID=America/Chicago:20250612T193000
DTEND;TZID=America/Chicago:20250612T203000
DTSTAMP:20260423T191206
CREATED:20250612T112019Z
LAST-MODIFIED:20250612T112019Z
UID:10001641-1749756600-1749760200@miltrac.org
SUMMARY:Join the Military Transition Roundtable for this virtual MasterMind program
DESCRIPTION:The Military Transition Roundtable welcomes veterans in transition to join us. \nTime:  June 12\, 7:30 p.m. \nPlease click on the graphic below for the Zoom Link \n  \n \n  \nShare this:Post
URL:https://miltrac.org/event/join-the-military-transition-roundtable-for-this-virtual-mastermind-program/
CATEGORIES:Aviation,Georgia,Georgia Event,JBSA,Texas,Texas Event
ATTACH;FMTTYPE=image/png:https://miltrac.org/wp-content/uploads/2025/06/mtr.invite.png
END:VEVENT
BEGIN:VEVENT
DTSTART;TZID=America/Chicago:20250612T180000
DTEND;TZID=America/Chicago:20250612T200000
DTSTAMP:20260423T191206
CREATED:20250608T195516Z
LAST-MODIFIED:20250608T195516Z
UID:10001637-1749751200-1749758400@miltrac.org
SUMMARY:Giveback night to benefit Grace After Fire
DESCRIPTION:Chicken N Pickle is hosting a Giveback Night to support Grace After Fire.  The venue is giving 10-perent of all food and drink to the non-profit. \nTime:  June 12\, 6-8 p.m. \nLocation:  Chicken N Pickle \n \nShare this:Post
URL:https://miltrac.org/event/giveback-night-to-benefit-grace-after-fire/
CATEGORIES:JBSA,Texas,Texas Event
ATTACH;FMTTYPE=image/jpeg:https://miltrac.org/wp-content/uploads/2025/06/Grace.after_.fire_.jpg
END:VEVENT
BEGIN:VEVENT
DTSTART;TZID=America/Chicago:20250612T160000
DTEND;TZID=America/Chicago:20250612T190000
DTSTAMP:20260423T191206
CREATED:20250608T181944Z
LAST-MODIFIED:20250608T181944Z
UID:10001628-1749744000-1749754800@miltrac.org
SUMMARY:Jobfest 2025
DESCRIPTION:The San Antonio Ready to Work and the San Antonio Spurs is hosting Jobfest 2025. \nDate: June 12\, 4-7 p.m. \n  \nLocation:  Frost Bank Center\, \nRegistration:  Please use the Q/R code in the graphic below. \n \nShare this:Post
URL:https://miltrac.org/event/jobfest-2025/
CATEGORIES:JBSA,Texas,Texas Event
ATTACH;FMTTYPE=image/png:https://miltrac.org/wp-content/uploads/2025/05/job.fair_.png
END:VEVENT
BEGIN:VEVENT
DTSTART;TZID=America/Chicago:20250612T100000
DTEND;TZID=America/Chicago:20250612T160000
DTSTAMP:20260423T191206
CREATED:20250515T133550Z
LAST-MODIFIED:20250515T133910Z
UID:10001598-1749722400-1749744000@miltrac.org
SUMMARY:Google Veterans Career Week #3
DESCRIPTION:This is the last day of the Google event with a focus on interactive training skills. \nTime:  11 a.m.-4 p.m \nRegistration info:  https://miltrac.org/2025/05/15/google-announces-veteran-career-week/ \n  \nShare this:Post
URL:https://miltrac.org/event/google-veterans-career-week-3/
CATEGORIES:Georgia,Georgia Event,JBSA,Texas,Texas Event
ATTACH;FMTTYPE=image/png:https://miltrac.org/wp-content/uploads/2025/05/google.career.week_.png
END:VEVENT
BEGIN:VEVENT
DTSTART;TZID=America/Chicago:20250612T100000
DTEND;TZID=America/Chicago:20250612T130000
DTSTAMP:20260423T191206
CREATED:20250608T114126Z
LAST-MODIFIED:20250608T114126Z
UID:10001627-1749722400-1749733200@miltrac.org
SUMMARY:American GI Forum Job Fair
DESCRIPTION:The American GI Forum is hosting a job fair with employers on site. \nTime:  June 12\, 10 a.m.-1 p.m. \nLocation:  American GI Forum\, 610 N. Main Ave\, San Antonio \nRead More:  Elevator Pitch 101– a guide to making a pitch at a job fair.  For more on this\, please click on the graphic below. \n \nShare this:Post
URL:https://miltrac.org/event/american-gi-forum-job-fair-2/
CATEGORIES:JBSA,Texas,Texas Event
ATTACH;FMTTYPE=image/png:https://miltrac.org/wp-content/uploads/2024/07/uiw.job-fair.png
END:VEVENT
BEGIN:VEVENT
DTSTART;TZID=America/Chicago:20250612T073000
DTEND;TZID=America/Chicago:20250612T080000
DTSTAMP:20260423T191206
CREATED:20250510T190717Z
LAST-MODIFIED:20250510T191001Z
UID:10001337-1749713400-1749715200@miltrac.org
SUMMARY:Morning breath workshop
DESCRIPTION:The Veteran Spouse Network hosts a virtual ‘Morning Breath Work” webinar. \nTime:  Each Thursday\, 7:30 p.m.  This program is geared for military spouses of active duty and retirees. \nRegistration:  Please click on the graphic below. \n \n  \nShare this:Post
URL:https://miltrac.org/event/morning-breath-work-workshop/2025-06-12/
END:VEVENT
BEGIN:VEVENT
DTSTART;TZID=America/Chicago:20250611T180000
DTEND;TZID=America/Chicago:20250611T193000
DTSTAMP:20260423T191206
CREATED:20250527T131822Z
LAST-MODIFIED:20250527T140205Z
UID:10001606-1749664800-1749670200@miltrac.org
SUMMARY:KEY Community offer virtual webinar on resumes and VA ratings
DESCRIPTION:The KEY Community will host a virtual webinar with Sunny Shaffer and Sharron Stewart. \nRELATED:  Resume rules that work for those in transition. \nTime:  June 11\, 6 p.m.-7:30 p.m. \nRegistration:  Please click on the graphic below to obtain the Q/R code. \nShare this:Post
URL:https://miltrac.org/event/key-community-offer-virtual-webinar-on-resumes-and-va-ratings/
CATEGORIES:JBSA,Texas,Texas Event
ATTACH;FMTTYPE=image/jpeg:https://miltrac.org/wp-content/uploads/2025/05/key.11June.jpg
END:VEVENT
BEGIN:VEVENT
DTSTART;TZID=America/Chicago:20250611T150000
DTEND;TZID=America/Chicago:20250611T170000
DTSTAMP:20260423T191206
CREATED:20250606T172838Z
LAST-MODIFIED:20250606T172838Z
UID:10001612-1749654000-1749661200@miltrac.org
SUMMARY:Bexar County Reentry Center 2nd Chance Job Fair
DESCRIPTION:Bexar County will host this monthly Reentry Center 2nd Chance Job Fair. \nAccording to Brian Stevens\, the program’s mission has this mission statement:  “Empowering justice-impacted individuals for a better tomorrow.” \nDate:  June 11\, 3-5 p.m. \nLocation:  222 S. Comal Street\, San Antonio \nInfo:  Brian Stevens: 210-335-8283 \nShare this:Post
URL:https://miltrac.org/event/bexar-county-reentry-center-2nd-chance-job-fair/
CATEGORIES:JBSA,Texas,Texas Event
ATTACH;FMTTYPE=image/jpeg:https://miltrac.org/wp-content/uploads/2025/06/2nd.chance.jpg
END:VEVENT
BEGIN:VEVENT
DTSTART;TZID=America/Chicago:20250611T140000
DTEND;TZID=America/Chicago:20250611T150000
DTSTAMP:20260423T191206
CREATED:20250606T173656Z
LAST-MODIFIED:20250606T173656Z
UID:10001613-1749650400-1749654000@miltrac.org
SUMMARY:Salary negotiations workshop
DESCRIPTION:The JBSA Fort Sam Houston is hosting a salary negotiations workshop. \nTime:  June 11\, 2 p.m. \nLocation:  Fort Sam Houston Family Support Center \nRead more: Salary Negotiations for the Military Professional in Transition (See graphic below for our website link) \n \n  \nShare this:Post
URL:https://miltrac.org/event/salary-negotiations-workshop-3/
END:VEVENT
BEGIN:VEVENT
DTSTART;TZID=America/Chicago:20250611T120000
DTEND;TZID=America/Chicago:20250611T133000
DTSTAMP:20260423T191206
CREATED:20250510T152447Z
LAST-MODIFIED:20250510T152821Z
UID:10001326-1749643200-1749648600@miltrac.org
SUMMARY:Real Talk:  Life & Love With PTSD
DESCRIPTION:The Veterans spouse Network hosts this virtual meeting. \nTime:  May 14\, noon \nRegistration link:  Please click on the graphic below to register. \n \n  \nShare this:Post
URL:https://miltrac.org/event/real-talk-life-love-with-ptsd/2025-06-11/
CATEGORIES:Aviation,Georgia,Georgia Event,JBSA,Texas,Texas Event
END:VEVENT
BEGIN:VEVENT
DTSTART;TZID=America/Chicago:20250611T110000
DTEND;TZID=America/Chicago:20250611T150000
DTSTAMP:20260423T191206
CREATED:20250515T125553Z
LAST-MODIFIED:20250515T134209Z
UID:10001597-1749639600-1749654000@miltrac.org
SUMMARY:Google Veterans Career Week Day #2
DESCRIPTION:This is day two of a three-day virtual seminar sponsored by Google. \nTime:  June 11\, 10:30 a.m \nRegistration info:  https://miltrac.org/2025/05/15/google-announces-veteran-career-week/ \nShare this:Post
URL:https://miltrac.org/event/google-veterans-career-week-day-2/
CATEGORIES:Georgia,Georgia Event,JBSA,Texas,Texas Event
END:VEVENT
BEGIN:VEVENT
DTSTART;TZID=America/Chicago:20250611T100000
DTEND;TZID=America/Chicago:20250611T110000
DTSTAMP:20260423T191206
CREATED:20250522T121828Z
LAST-MODIFIED:20250522T121908Z
UID:10001605-1749636000-1749639600@miltrac.org
SUMMARY:The Military Effect offers virtual networking opportunity
DESCRIPTION:Our friends at The Military Effect are hosting a virtual networking roundtable.  Like our friends at Vets2Industry\, this gives veterans in transition and their families a chance to expand their connectins. \nTime:  June 11\, 10 a.m. \nNote:  Veterans can register for this event by clicking on the graphic below. \n \nShare this:Post
URL:https://miltrac.org/event/the-military-effect-offers-virtual-networking-opportunity/
CATEGORIES:Georgia,Georgia Event,JBSA,Texas,Texas Event
ATTACH;FMTTYPE=image/png:https://miltrac.org/wp-content/uploads/2024/12/networking.png
END:VEVENT
BEGIN:VEVENT
DTSTART;TZID=America/Chicago:20250610T190000
DTEND;TZID=America/Chicago:20250610T210000
DTSTAMP:20260423T191206
CREATED:20250430T233315Z
LAST-MODIFIED:20250430T233514Z
UID:10001239-1749582000-1749589200@miltrac.org
SUMMARY:American Legion riders meeting
DESCRIPTION:The American Legion Riders meet on the second Tuesday of the month from 7 to 9 p.m. at 326 Legion Drive W in Converse\, Texas. \nEd Richards\, an retired Army NCO\, said the Riders welcome veterans and others.  Veterans are asked to join an American Legion post.  Non-veterans can also join as an auxiliary member.  If they are the son or daughter of a veteran\, they can also join the post Sons of the American Legion as well. \nPost 593 address \nRELATED:  Legacy Run: Healing on the Run \n \n  \nShare this:Post
URL:https://miltrac.org/event/american-legion-riders-meeting/2025-06-10/
ATTACH;FMTTYPE=image/png:https://miltrac.org/wp-content/uploads/2025/04/american.legion.riders.png
END:VEVENT
BEGIN:VEVENT
DTSTART;TZID=America/Chicago:20250610T180000
DTEND;TZID=America/Chicago:20250610T190000
DTSTAMP:20260423T191206
CREATED:20250602T103506Z
LAST-MODIFIED:20250602T103506Z
UID:10001608-1749578400-1749582000@miltrac.org
SUMMARY:A S.O.S. podcast with Jai Salters
DESCRIPTION:Join Shawn Welsh\, the host of VET S.O.S. as he interviews Jai Salters\, the CEO of ACTNow Education. \nTime:  June 10\, 6 p.m. CST \nLink:  https://youtu.be/sZlOkGX3lIE \nShare this:Post
URL:https://miltrac.org/event/a-s-o-s-podcast-with-jai-salters/
CATEGORIES:Georgia,Georgia Event,JBSA,Texas,Texas Event
ATTACH;FMTTYPE=image/png:https://miltrac.org/wp-content/uploads/2025/06/jai.final_.png
END:VEVENT
BEGIN:VEVENT
DTSTART;TZID=America/Chicago:20250610T103000
DTEND;TZID=America/Chicago:20250610T170000
DTSTAMP:20260423T191206
CREATED:20250515T125235Z
LAST-MODIFIED:20250515T125235Z
UID:10001596-1749551400-1749574800@miltrac.org
SUMMARY:Google Veterans Career Week
DESCRIPTION:This is day one of a three-day virtual seminar sponsored by Google. \nTime:  June 10\, 10:30 a.m \nRegistration info:  https://miltrac.org/2025/05/15/google-announces-veteran-career-week/ \n  \nShare this:Post
URL:https://miltrac.org/event/google-veterans-career-week/
CATEGORIES:Georgia,Georgia Event,JBSA,Texas,Texas Event
ATTACH;FMTTYPE=image/png:https://miltrac.org/wp-content/uploads/2025/05/google.career.week_.png
END:VEVENT
END:VCALENDAR