BEGIN:VCALENDAR
VERSION:2.0
PRODID:-//MilTRAC - ECPv6.15.20//NONSGML v1.0//EN
CALSCALE:GREGORIAN
METHOD:PUBLISH
X-WR-CALNAME:MilTRAC
X-ORIGINAL-URL:https://miltrac.org
X-WR-CALDESC:Events for MilTRAC
REFRESH-INTERVAL;VALUE=DURATION:PT1H
X-Robots-Tag:noindex
X-PUBLISHED-TTL:PT1H
BEGIN:VTIMEZONE
TZID:America/Chicago
BEGIN:DAYLIGHT
TZOFFSETFROM:-0600
TZOFFSETTO:-0500
TZNAME:CDT
DTSTART:20240310T080000
END:DAYLIGHT
BEGIN:STANDARD
TZOFFSETFROM:-0500
TZOFFSETTO:-0600
TZNAME:CST
DTSTART:20241103T070000
END:STANDARD
BEGIN:DAYLIGHT
TZOFFSETFROM:-0600
TZOFFSETTO:-0500
TZNAME:CDT
DTSTART:20250309T080000
END:DAYLIGHT
BEGIN:STANDARD
TZOFFSETFROM:-0500
TZOFFSETTO:-0600
TZNAME:CST
DTSTART:20251102T070000
END:STANDARD
BEGIN:DAYLIGHT
TZOFFSETFROM:-0600
TZOFFSETTO:-0500
TZNAME:CDT
DTSTART:20260308T080000
END:DAYLIGHT
BEGIN:STANDARD
TZOFFSETFROM:-0500
TZOFFSETTO:-0600
TZNAME:CST
DTSTART:20261101T070000
END:STANDARD
END:VTIMEZONE
BEGIN:VEVENT
DTSTART;TZID=America/Chicago:20250924T100000
DTEND;TZID=America/Chicago:20250924T120000
DTSTAMP:20260419T193333
CREATED:20250816T115548Z
LAST-MODIFIED:20250816T115548Z
UID:10001977-1758708000-1758715200@miltrac.org
SUMMARY:OBTT Resume Basics
DESCRIPTION:The Department of Labor Off-Base Transition Training will host a resume basics workshop. \nThe program will teach its students to recognize the elements of an effective resume. \nDate: Sept 24 \nTime:  10 a.m.-noon \nLocation:  Workforce Solutions\,  3562 Blumel Road \nRegistration link:  dol.gov/obttworkshops \n  \nShare this:Post
URL:https://miltrac.org/event/obtt-resume-basics/
ATTACH;FMTTYPE=image/png:https://miltrac.org/wp-content/uploads/2025/05/resume.1.png
END:VEVENT
BEGIN:VEVENT
DTSTART;TZID=America/Chicago:20250924T120000
DTEND;TZID=America/Chicago:20250924T140000
DTSTAMP:20260419T193333
CREATED:20250816T120343Z
LAST-MODIFIED:20250816T120343Z
UID:10001978-1758715200-1758722400@miltrac.org
SUMMARY:OBTT Interview Skills
DESCRIPTION:The Department of Labor Off-Base Transition Training will offer a resume workshop. \nThe program will teach students how to craft a resume targeted to a specific job opening. \nDate:  Sept. 24 \nTime:  Noon-2 p.m. \nLocation:  Workforce Solutions Datapoint\, 3652 Bluemel Road \nRegistration:  dol.gov/obttworkshops \nShare this:Post
URL:https://miltrac.org/event/obtt-interview-skills/
ATTACH;FMTTYPE=image/jpeg:https://miltrac.org/wp-content/uploads/2024/06/fed.resume.jpg
END:VEVENT
BEGIN:VEVENT
DTSTART;TZID=America/Chicago:20250925T073000
DTEND;TZID=America/Chicago:20250925T080000
DTSTAMP:20260419T193333
CREATED:20250510T190717Z
LAST-MODIFIED:20250510T191001Z
UID:10001352-1758785400-1758787200@miltrac.org
SUMMARY:Morning breath workshop
DESCRIPTION:The Veteran Spouse Network hosts a virtual ‘Morning Breath Work” webinar. \nTime:  Each Thursday\, 7:30 p.m.  This program is geared for military spouses of active duty and retirees. \nRegistration:  Please click on the graphic below. \n \n  \nShare this:Post
URL:https://miltrac.org/event/morning-breath-work-workshop/2025-09-25/
END:VEVENT
BEGIN:VEVENT
DTSTART;TZID=America/Chicago:20250926T180000
DTEND;TZID=America/Chicago:20250926T210000
DTSTAMP:20260419T193333
CREATED:20240723T190904Z
LAST-MODIFIED:20240723T235556Z
UID:10000262-1758909600-1758920400@miltrac.org
SUMMARY:Please Join Us to support the American Legion Riders fund raiser
DESCRIPTION:The American Legion Riders at Post 309\, 8795 FM-1560 in Helotes\, will host a pork chop dinner to support their mission to help and honor veterans.  The cost for a one-inch pork chop\, with a baked potato\, a vegetable\, salad\, roll and desert is $20. \n  \nShare this:Post
URL:https://miltrac.org/event/please-join-us-to-support-the-american-legion-riders-program/2025-09-26/
ATTACH;FMTTYPE=image/png:https://miltrac.org/wp-content/uploads/2024/07/pork.choip_.png
END:VEVENT
BEGIN:VEVENT
DTSTART;TZID=America/Chicago:20250928T150000
DTEND;TZID=America/Chicago:20250928T170000
DTSTAMP:20260419T193333
CREATED:20241028T111339Z
LAST-MODIFIED:20241028T111339Z
UID:10000663-1759071600-1759078800@miltrac.org
SUMMARY:VFW Post 8541 Sick Call
DESCRIPTION:VFW Post 8541 hosts a sick call for homeless veterans. \nTime:  Nov. 3\, 3-5 p.m. \nLocation:  VFW Post 8541\, 2222 Austin Highway\, San Antonio \nShare this:Post
URL:https://miltrac.org/event/vfw-post-8541-sick-call/2025-09-28/
ATTACH;FMTTYPE=image/png:https://miltrac.org/wp-content/uploads/2024/10/sick.call_.png
END:VEVENT
BEGIN:VEVENT
DTSTART;TZID=America/Chicago:20250930T090000
DTEND;TZID=America/Chicago:20250930T110000
DTSTAMP:20260419T193333
CREATED:20240820T210953Z
LAST-MODIFIED:20240902T173818Z
UID:10000486-1759222800-1759230000@miltrac.org
SUMMARY:Doughnuts\, coffee and fellowship
DESCRIPTION:Post 593 hosts veterans and their families for doughnuts\, coffee and fellowship every Tuesday.   According to the post organizers\, this weekly event is designed to get veterans out of the house and mingling with others who have served in the military. \nDate:  Tuesdays\, 9 to 11 a.m. \nAddress:  326 Legion Drive\,  Converse \nShare this:Post
URL:https://miltrac.org/event/doughnuts-and-fellowship/2025-09-30/
ATTACH;FMTTYPE=image/png:https://miltrac.org/wp-content/uploads/2024/08/doughnut.png
END:VEVENT
BEGIN:VEVENT
DTSTART;TZID=America/Chicago:20250930T100000
DTEND;TZID=America/Chicago:20250930T140000
DTSTAMP:20260419T193333
CREATED:20250830T165902Z
LAST-MODIFIED:20250830T165955Z
UID:10001985-1759226400-1759240800@miltrac.org
SUMMARY:Alamo Workforce Solutions mobile transition services
DESCRIPTION:Alamo Workforce Solutions will bring their mobile transition services vehicle to Fort Sam Houston. \nDate:  Sept. 30 \nTime:  10 a.m.-2 p.m. \nLocation:  Fort Sam Houston Family Support Center\, 3060 Stanley Road\, Bldg. 2797 \nShare this:Post
URL:https://miltrac.org/event/alamo-workforce-solutions-mobile-transition-services/
ATTACH;FMTTYPE=image/jpeg:https://miltrac.org/wp-content/uploads/2025/08/workforce.mobile.1.jpg
END:VEVENT
BEGIN:VEVENT
DTSTART;TZID=America/Chicago:20251002T073000
DTEND;TZID=America/Chicago:20251002T080000
DTSTAMP:20260419T193333
CREATED:20250510T190717Z
LAST-MODIFIED:20250510T191001Z
UID:10001353-1759390200-1759392000@miltrac.org
SUMMARY:Morning breath workshop
DESCRIPTION:The Veteran Spouse Network hosts a virtual ‘Morning Breath Work” webinar. \nTime:  Each Thursday\, 7:30 p.m.  This program is geared for military spouses of active duty and retirees. \nRegistration:  Please click on the graphic below. \n \n  \nShare this:Post
URL:https://miltrac.org/event/morning-breath-work-workshop/2025-10-02/
END:VEVENT
BEGIN:VEVENT
DTSTART;TZID=America/Chicago:20251005T150000
DTEND;TZID=America/Chicago:20251005T170000
DTSTAMP:20260419T193333
CREATED:20241028T111339Z
LAST-MODIFIED:20241028T111339Z
UID:10000664-1759676400-1759683600@miltrac.org
SUMMARY:VFW Post 8541 Sick Call
DESCRIPTION:VFW Post 8541 hosts a sick call for homeless veterans. \nTime:  Nov. 3\, 3-5 p.m. \nLocation:  VFW Post 8541\, 2222 Austin Highway\, San Antonio \nShare this:Post
URL:https://miltrac.org/event/vfw-post-8541-sick-call/2025-10-05/
ATTACH;FMTTYPE=image/png:https://miltrac.org/wp-content/uploads/2024/10/sick.call_.png
END:VEVENT
BEGIN:VEVENT
DTSTART;TZID=America/Chicago:20251007T090000
DTEND;TZID=America/Chicago:20251007T110000
DTSTAMP:20260419T193333
CREATED:20240820T210953Z
LAST-MODIFIED:20240902T173818Z
UID:10000487-1759827600-1759834800@miltrac.org
SUMMARY:Doughnuts\, coffee and fellowship
DESCRIPTION:Post 593 hosts veterans and their families for doughnuts\, coffee and fellowship every Tuesday.   According to the post organizers\, this weekly event is designed to get veterans out of the house and mingling with others who have served in the military. \nDate:  Tuesdays\, 9 to 11 a.m. \nAddress:  326 Legion Drive\,  Converse \nShare this:Post
URL:https://miltrac.org/event/doughnuts-and-fellowship/2025-10-07/
ATTACH;FMTTYPE=image/png:https://miltrac.org/wp-content/uploads/2024/08/doughnut.png
END:VEVENT
BEGIN:VEVENT
DTSTART;TZID=America/Chicago:20251007T160000
DTEND;TZID=America/Chicago:20251007T180000
DTSTAMP:20260419T193333
CREATED:20251002T150126Z
LAST-MODIFIED:20251006T204642Z
UID:10002005-1759852800-1759860000@miltrac.org
SUMMARY:Vets2Industry host virtual networking event
DESCRIPTION:Vets2Industry will host a virtual networking event today.  Keyshauna Cole\, an employee engagement manager with NPower will serve as the program’s keynote speaker. \nTime:  3-5 p.m. EST \nDate:  Oct. 7 \nRegistration link: https://www.eventbrite.com/e/vets2industry-70th-virtual-networking-circuit-event-tickets-1747875605989?aff=oddtdtcreatorYou \n  \nShare this:Post
URL:https://miltrac.org/event/vets2industry-host-virtual-networking-event/
ATTACH;FMTTYPE=image/png:https://miltrac.org/wp-content/uploads/2025/10/vets2industry.ad_.png
END:VEVENT
BEGIN:VEVENT
DTSTART;TZID=America/Chicago:20251007T190000
DTEND;TZID=America/Chicago:20251007T210000
DTSTAMP:20260419T193333
CREATED:20250430T232451Z
LAST-MODIFIED:20250430T233707Z
UID:10001183-1759863600-1759870800@miltrac.org
SUMMARY:Join the American Legion riders in Bexar County
DESCRIPTION:Post 593 of the American Legion Riders meets the first and second Tuesday at the organization’s canteen. \nAccording to Ed Richards\, an active American Legion rider\, the post plans rallies and other rides throughout the year. \nRichards\, an Army NCO\, can attest to the value of these rides in what he calls roadside therapy for his PTSD conditions. \nRELATED:  Legacy Run:  Healing on the Road \nPost 593 directions \n\n  \nShare this:Post
URL:https://miltrac.org/event/join-the-american-legion-riders-in-bexar-county/2025-10-07/
ATTACH;FMTTYPE=image/png:https://miltrac.org/wp-content/uploads/2025/04/american.legion.riders.png
END:VEVENT
BEGIN:VEVENT
DTSTART;TZID=America/Chicago:20251008T100000
DTEND;TZID=America/Chicago:20251008T130000
DTSTAMP:20260419T193333
CREATED:20250715T180459Z
LAST-MODIFIED:20251006T204916Z
UID:10001950-1759917600-1759928400@miltrac.org
SUMMARY:JBSA TAP Employer Days
DESCRIPTION:JBSA Fort Sam Houston will host a TAP Employers Day.  The event is open to all DoD ID card holders.  The opportunity for military professionals to connect with employers and companies. \nDate:  Oct. 8 \nTime:  10 a.m.-1 p.m. \nLocation:  3931 Okubo Barracks\, Bldg. 3639\, Fort Sam Houston \nRELATED:   Elevator Pitch 101 \nShare this:Post
URL:https://miltrac.org/event/jbsa-tap-employer-days/
CATEGORIES:JBSA,Texas,Texas Event
ATTACH;FMTTYPE=image/png:https://miltrac.org/wp-content/uploads/2025/07/tap.employer.days_.final_.png
END:VEVENT
BEGIN:VEVENT
DTSTART;TZID=America/Chicago:20251008T100000
DTEND;TZID=America/Chicago:20251008T143000
DTSTAMP:20260419T193333
CREATED:20250919T205522Z
LAST-MODIFIED:20251006T204803Z
UID:10002002-1759917600-1759933800@miltrac.org
SUMMARY:OBTT Workshop
DESCRIPTION:Date: October 8\nLocation: Good Samaritan Veterans Outreach & Transition Center (GSVOTC) 202 Connelly Street San Antonio\, TX 78203 \nRegister online \nEVENTS: \nJob Fair Networking\nCraft your professional introduction and improve your networking skills. This one-hour seminar reveals how to maximize your time when you attend a job fair.\nTime: 10:00 – 11:00 a.m. \nJob Fair Strategies\nDig deeper into job fair strategies. This one-hour seminar demonstrates how to handle on-the-spot interviews like a pro and actions to take following the event.\nTime: 11:00 a.m. – 12:00 p.m. \nSalary Negotiation\nTake the mystery out of salary negotiation by understanding the factors that influence compensation. Sharpen your skills to achieve a positive outcome with your next job offer.\nTime: 12:15 – 2:15 p.m. \nShare this:Post
URL:https://miltrac.org/event/obtt-workshop/
ATTACH;FMTTYPE=image/png:https://miltrac.org/wp-content/uploads/2025/09/OBTT-1.png
END:VEVENT
BEGIN:VEVENT
DTSTART;TZID=America/Chicago:20251009T073000
DTEND;TZID=America/Chicago:20251009T080000
DTSTAMP:20260419T193333
CREATED:20250510T190717Z
LAST-MODIFIED:20250510T191001Z
UID:10001354-1759995000-1759996800@miltrac.org
SUMMARY:Morning breath workshop
DESCRIPTION:The Veteran Spouse Network hosts a virtual ‘Morning Breath Work” webinar. \nTime:  Each Thursday\, 7:30 p.m.  This program is geared for military spouses of active duty and retirees. \nRegistration:  Please click on the graphic below. \n \n  \nShare this:Post
URL:https://miltrac.org/event/morning-breath-work-workshop/2025-10-09/
END:VEVENT
BEGIN:VEVENT
DTSTART;TZID=America/Chicago:20251010T080000
DTEND;TZID=America/Chicago:20251010T170000
DTSTAMP:20260419T193333
CREATED:20251010T193908Z
LAST-MODIFIED:20251010T193908Z
UID:10002014-1760083200-1760115600@miltrac.org
SUMMARY:Job Fairs Strategies workshop
DESCRIPTION:Join the Department of Labor as they host this job fairs strategies workshop \nDate:  Nov.\, 6\, \nTime:  1:15-2:15 p.m. \nLocation:  Workforce Solutions Alamo Datapoint\, 3652 Bluemel Road \nRelated: Job Fair 101: A guide for military novices \nReservations:  210-608-1814 \nShare this:Post
URL:https://miltrac.org/event/job-fairs-strategies-workshop/
ATTACH;FMTTYPE=image/png:https://miltrac.org/wp-content/uploads/2024/08/job.fair_.2.png
END:VEVENT
BEGIN:VEVENT
DTSTART;TZID=America/Chicago:20251010T080000
DTEND;TZID=America/Chicago:20251010T170000
DTSTAMP:20260419T193333
CREATED:20251010T200232Z
LAST-MODIFIED:20251010T200232Z
UID:10002017-1760083200-1760115600@miltrac.org
SUMMARY:Federal Hiring Basics workshop
DESCRIPTION:Join the Department of Labor for this virtual federal resume workshop. \nDate:  Nov. 209 \nTime:  2-4 p.m. \nReservations:  210-608-1814 \n  \nShare this:Post
URL:https://miltrac.org/event/federal-hiring-basics-workshop/
ATTACH;FMTTYPE=image/png:https://miltrac.org/wp-content/uploads/2025/06/federal.resume.png
END:VEVENT
BEGIN:VEVENT
DTSTART;TZID=America/Chicago:20251010T100000
DTEND;TZID=America/Chicago:20251010T140000
DTSTAMP:20260419T193333
CREATED:20250830T170419Z
LAST-MODIFIED:20251006T204848Z
UID:10001986-1760090400-1760104800@miltrac.org
SUMMARY:Alamo Workforce Mobile Transition Van
DESCRIPTION:Come join Alamo Workforce Solutions as they bring their mobile transition van to Randolph. \nDate:  Oct. 10 \nTime:  10 a.m.-2 p.m. \nLocation:  Randolph AFB Main Exchange\, 630 3rd Street West\, Build 1068 \n  \nShare this:Post
URL:https://miltrac.org/event/alamo-workforce-mobile-transition-van/
ATTACH;FMTTYPE=image/jpeg:https://miltrac.org/wp-content/uploads/2025/08/workforce.mobile.1.jpg
END:VEVENT
BEGIN:VEVENT
DTSTART;TZID=America/Chicago:20251012T080000
DTEND;TZID=America/Chicago:20251012T170000
DTSTAMP:20260419T193333
CREATED:20240723T112312Z
LAST-MODIFIED:20240723T112312Z
UID:10000142-1760256000-1760288400@miltrac.org
SUMMARY:It's time for a Buddy Check
DESCRIPTION:If  you served in the military\, you had a friend who had your back.  This was someone you could vent about things\, when something happened to upset  you. \nThe military\, as a rule\, doesn’t allow us to vent\, except for what our Navy colleagues call “shipmate” or Air Force term as their “wing man.” \nThat’s why we at MilTRAC are setting aside the second Sunday of every month to call those comrades in arm. \n  \nShare this:Post
URL:https://miltrac.org/event/its-time-for-a-buddy-check/2025-10-12/
ATTACH;FMTTYPE=image/png:https://miltrac.org/wp-content/uploads/2024/07/mentor.png
END:VEVENT
BEGIN:VEVENT
DTSTART;TZID=America/Chicago:20251012T150000
DTEND;TZID=America/Chicago:20251012T170000
DTSTAMP:20260419T193333
CREATED:20241028T111339Z
LAST-MODIFIED:20241028T111339Z
UID:10000665-1760281200-1760288400@miltrac.org
SUMMARY:VFW Post 8541 Sick Call
DESCRIPTION:VFW Post 8541 hosts a sick call for homeless veterans. \nTime:  Nov. 3\, 3-5 p.m. \nLocation:  VFW Post 8541\, 2222 Austin Highway\, San Antonio \nShare this:Post
URL:https://miltrac.org/event/vfw-post-8541-sick-call/2025-10-12/
ATTACH;FMTTYPE=image/png:https://miltrac.org/wp-content/uploads/2024/10/sick.call_.png
END:VEVENT
BEGIN:VEVENT
DTSTART;TZID=America/Chicago:20251014T090000
DTEND;TZID=America/Chicago:20251014T110000
DTSTAMP:20260419T193333
CREATED:20240820T210953Z
LAST-MODIFIED:20240902T173818Z
UID:10000488-1760432400-1760439600@miltrac.org
SUMMARY:Doughnuts\, coffee and fellowship
DESCRIPTION:Post 593 hosts veterans and their families for doughnuts\, coffee and fellowship every Tuesday.   According to the post organizers\, this weekly event is designed to get veterans out of the house and mingling with others who have served in the military. \nDate:  Tuesdays\, 9 to 11 a.m. \nAddress:  326 Legion Drive\,  Converse \nShare this:Post
URL:https://miltrac.org/event/doughnuts-and-fellowship/2025-10-14/
ATTACH;FMTTYPE=image/png:https://miltrac.org/wp-content/uploads/2024/08/doughnut.png
END:VEVENT
BEGIN:VEVENT
DTSTART;TZID=America/Chicago:20251014T190000
DTEND;TZID=America/Chicago:20251014T210000
DTSTAMP:20260419T193333
CREATED:20250430T233315Z
LAST-MODIFIED:20250430T233514Z
UID:10001243-1760468400-1760475600@miltrac.org
SUMMARY:American Legion riders meeting
DESCRIPTION:The American Legion Riders meet on the second Tuesday of the month from 7 to 9 p.m. at 326 Legion Drive W in Converse\, Texas. \nEd Richards\, an retired Army NCO\, said the Riders welcome veterans and others.  Veterans are asked to join an American Legion post.  Non-veterans can also join as an auxiliary member.  If they are the son or daughter of a veteran\, they can also join the post Sons of the American Legion as well. \nPost 593 address \nRELATED:  Legacy Run: Healing on the Run \n \n  \nShare this:Post
URL:https://miltrac.org/event/american-legion-riders-meeting/2025-10-14/
ATTACH;FMTTYPE=image/png:https://miltrac.org/wp-content/uploads/2025/04/american.legion.riders.png
END:VEVENT
BEGIN:VEVENT
DTSTART;TZID=America/Chicago:20251016T073000
DTEND;TZID=America/Chicago:20251016T080000
DTSTAMP:20260419T193333
CREATED:20250510T190717Z
LAST-MODIFIED:20250510T191001Z
UID:10001355-1760599800-1760601600@miltrac.org
SUMMARY:Morning breath workshop
DESCRIPTION:The Veteran Spouse Network hosts a virtual ‘Morning Breath Work” webinar. \nTime:  Each Thursday\, 7:30 p.m.  This program is geared for military spouses of active duty and retirees. \nRegistration:  Please click on the graphic below. \n \n  \nShare this:Post
URL:https://miltrac.org/event/morning-breath-work-workshop/2025-10-16/
END:VEVENT
BEGIN:VEVENT
DTSTART;TZID=America/Chicago:20251016T100000
DTEND;TZID=America/Chicago:20251016T130000
DTSTAMP:20260419T193333
CREATED:20250830T164250Z
LAST-MODIFIED:20251006T204835Z
UID:10001983-1760608800-1760619600@miltrac.org
SUMMARY:Career Expo
DESCRIPTION:Join others in the military for this career fair. \nDate:  Oct. 16 \nTime: 10 a.ml-1 p.m. \nLocation:  8000 IH-10 West\, Floor L\, Suite 204\, San Antonio \n  \n  \nShare this:Post
URL:https://miltrac.org/event/career-expo/
ATTACH;FMTTYPE=image/png:https://miltrac.org/wp-content/uploads/2025/02/job.fair_.101.png
END:VEVENT
BEGIN:VEVENT
DTSTART;TZID=America/Chicago:20251018T163000
DTEND;TZID=America/Chicago:20251018T200000
DTSTAMP:20260419T193333
CREATED:20251010T202716Z
LAST-MODIFIED:20251010T202744Z
UID:10002020-1760805000-1760817600@miltrac.org
SUMMARY:UIW hosts military for free tickets for Oct. 18 game
DESCRIPTION:The University of Incarnate Word will provide free football tickets for all veterans\, active-duty veterans and first responders. \nUIW will host East Texas A&M. \nf:  Oct\, 18 \nTime:  4:30 p.m. \nLocation:  Tom Benson Stadium\, \nShare this:Post
URL:https://miltrac.org/event/uiw-hosts-military-for-free-tickets-for-oct-18-game/
ATTACH;FMTTYPE=image/png:https://miltrac.org/wp-content/uploads/2025/10/football.png
END:VEVENT
BEGIN:VEVENT
DTSTART;TZID=America/Chicago:20251019T150000
DTEND;TZID=America/Chicago:20251019T170000
DTSTAMP:20260419T193333
CREATED:20241028T111339Z
LAST-MODIFIED:20241028T111339Z
UID:10000666-1760886000-1760893200@miltrac.org
SUMMARY:VFW Post 8541 Sick Call
DESCRIPTION:VFW Post 8541 hosts a sick call for homeless veterans. \nTime:  Nov. 3\, 3-5 p.m. \nLocation:  VFW Post 8541\, 2222 Austin Highway\, San Antonio \nShare this:Post
URL:https://miltrac.org/event/vfw-post-8541-sick-call/2025-10-19/
ATTACH;FMTTYPE=image/png:https://miltrac.org/wp-content/uploads/2024/10/sick.call_.png
END:VEVENT
BEGIN:VEVENT
DTSTART;TZID=America/Chicago:20251021T090000
DTEND;TZID=America/Chicago:20251021T110000
DTSTAMP:20260419T193333
CREATED:20240820T210953Z
LAST-MODIFIED:20240902T173818Z
UID:10000489-1761037200-1761044400@miltrac.org
SUMMARY:Doughnuts\, coffee and fellowship
DESCRIPTION:Post 593 hosts veterans and their families for doughnuts\, coffee and fellowship every Tuesday.   According to the post organizers\, this weekly event is designed to get veterans out of the house and mingling with others who have served in the military. \nDate:  Tuesdays\, 9 to 11 a.m. \nAddress:  326 Legion Drive\,  Converse \nShare this:Post
URL:https://miltrac.org/event/doughnuts-and-fellowship/2025-10-21/
ATTACH;FMTTYPE=image/png:https://miltrac.org/wp-content/uploads/2024/08/doughnut.png
END:VEVENT
BEGIN:VEVENT
DTSTART;TZID=America/Chicago:20251023T073000
DTEND;TZID=America/Chicago:20251023T080000
DTSTAMP:20260419T193333
CREATED:20250510T190717Z
LAST-MODIFIED:20250510T191001Z
UID:10001356-1761204600-1761206400@miltrac.org
SUMMARY:Morning breath workshop
DESCRIPTION:The Veteran Spouse Network hosts a virtual ‘Morning Breath Work” webinar. \nTime:  Each Thursday\, 7:30 p.m.  This program is geared for military spouses of active duty and retirees. \nRegistration:  Please click on the graphic below. \n \n  \nShare this:Post
URL:https://miltrac.org/event/morning-breath-work-workshop/2025-10-23/
END:VEVENT
BEGIN:VEVENT
DTSTART;TZID=America/Chicago:20251023T120000
DTEND;TZID=America/Chicago:20251023T140000
DTSTAMP:20260419T193333
CREATED:20251011T154504Z
LAST-MODIFIED:20251011T154504Z
UID:10002021-1761220800-1761228000@miltrac.org
SUMMARY:Agent Orange 101:  An Introduction for Vietnam Era Veterans
DESCRIPTION:For veterans who were exposed to Agent Orange 101\, this virtual workshop is something to put on your schedule. \nDate:  Oct 23 \nTime:  12:30-2 p.m. \nRegistration:  ttps://veteransaffairs.webex.com/weblink/register/ r2b18f514716f8154c8cd5e35ebface06 \n  \nShare this:Post
URL:https://miltrac.org/event/agent-orange-101-an-introduction-for-vietnam-era-veterans/
ATTACH;FMTTYPE=image/png:https://miltrac.org/wp-content/uploads/2025/10/agent.orange.png
END:VEVENT
BEGIN:VEVENT
DTSTART;TZID=America/Chicago:20251024T180000
DTEND;TZID=America/Chicago:20251024T210000
DTSTAMP:20260419T193333
CREATED:20240723T190904Z
LAST-MODIFIED:20240723T235556Z
UID:10000263-1761328800-1761339600@miltrac.org
SUMMARY:Please Join Us to support the American Legion Riders fund raiser
DESCRIPTION:The American Legion Riders at Post 309\, 8795 FM-1560 in Helotes\, will host a pork chop dinner to support their mission to help and honor veterans.  The cost for a one-inch pork chop\, with a baked potato\, a vegetable\, salad\, roll and desert is $20. \n  \nShare this:Post
URL:https://miltrac.org/event/please-join-us-to-support-the-american-legion-riders-program/2025-10-24/
ATTACH;FMTTYPE=image/png:https://miltrac.org/wp-content/uploads/2024/07/pork.choip_.png
END:VEVENT
END:VCALENDAR