BEGIN:VCALENDAR
VERSION:2.0
PRODID:-//MilTRAC - ECPv6.15.20//NONSGML v1.0//EN
CALSCALE:GREGORIAN
METHOD:PUBLISH
X-WR-CALNAME:MilTRAC
X-ORIGINAL-URL:https://miltrac.org
X-WR-CALDESC:Events for MilTRAC
REFRESH-INTERVAL;VALUE=DURATION:PT1H
X-Robots-Tag:noindex
X-PUBLISHED-TTL:PT1H
BEGIN:VTIMEZONE
TZID:America/Chicago
BEGIN:DAYLIGHT
TZOFFSETFROM:-0600
TZOFFSETTO:-0500
TZNAME:CDT
DTSTART:20240310T080000
END:DAYLIGHT
BEGIN:STANDARD
TZOFFSETFROM:-0500
TZOFFSETTO:-0600
TZNAME:CST
DTSTART:20241103T070000
END:STANDARD
BEGIN:DAYLIGHT
TZOFFSETFROM:-0600
TZOFFSETTO:-0500
TZNAME:CDT
DTSTART:20250309T080000
END:DAYLIGHT
BEGIN:STANDARD
TZOFFSETFROM:-0500
TZOFFSETTO:-0600
TZNAME:CST
DTSTART:20251102T070000
END:STANDARD
BEGIN:DAYLIGHT
TZOFFSETFROM:-0600
TZOFFSETTO:-0500
TZNAME:CDT
DTSTART:20260308T080000
END:DAYLIGHT
BEGIN:STANDARD
TZOFFSETFROM:-0500
TZOFFSETTO:-0600
TZNAME:CST
DTSTART:20261101T070000
END:STANDARD
END:VTIMEZONE
BEGIN:VEVENT
DTSTART;TZID=America/Chicago:20250813T130000
DTEND;TZID=America/Chicago:20250813T170000
DTSTAMP:20260419T110627
CREATED:20250619T101326Z
LAST-MODIFIED:20250619T101326Z
UID:10001919-1755090000-1755104400@miltrac.org
SUMMARY:Post 592 weekly darts tourney
DESCRIPTION:Post 592 hosts a weekly darts tourney every Wednesday at 1:15 p.m. \nEntry fee is $10 per person.  Kevin Winchowski\, the post’s first vice commander\, said the event is open to veterans and their families. \nThe event is a double-elimination best of three contest with both a 301 game and a cricket format. \nRelated:  The American Legion home page. \nLocation: Post 592\, 1147 Wurzbach Road \nShare this:Post
URL:https://miltrac.org/event/post-592-weekly-darts-tourney/2025-08-13/
CATEGORIES:JBSA,Texas,Texas Event
ATTACH;FMTTYPE=image/png:https://miltrac.org/wp-content/uploads/2025/06/darts.png
END:VEVENT
BEGIN:VEVENT
DTSTART;TZID=America/Chicago:20250813T170000
DTEND;TZID=America/Chicago:20250813T190000
DTSTAMP:20260419T110627
CREATED:20250614T181545Z
LAST-MODIFIED:20250614T181545Z
UID:10001647-1755104400-1755111600@miltrac.org
SUMMARY:JBSA Career Summit Networking Reception
DESCRIPTION:HIring our Heroes and the JBSA Transition Alliance will host a career summit networking reception. \nTime:  Aug. 13\, 5-7 p.m. \nRead more:  Elevator Pitch 101 – a guide to making a pitcvh at a job fair \nLocation:  University of Incarnate Word Sky Room \n \n  \nShare this:Post
URL:https://miltrac.org/event/jbsa-career-summit-networking-reception/
CATEGORIES:JBSA,Texas,Texas Event
ATTACH;FMTTYPE=image/png:https://miltrac.org/wp-content/uploads/2024/08/job.fair_.png
END:VEVENT
BEGIN:VEVENT
DTSTART;TZID=America/Chicago:20250813T170000
DTEND;TZID=America/Chicago:20250813T190000
DTSTAMP:20260419T110627
CREATED:20250704T120301Z
LAST-MODIFIED:20250704T120321Z
UID:10001934-1755104400-1755111600@miltrac.org
SUMMARY:JBSA Career Summit Networking Event
DESCRIPTION:Hiring Our Heroes and JBSA will host a networking reception\, 5-7 p.m. as part of the JBSA San Antonio Career Summit \nLocation:  University of Incarnate Word Skyroom\, 847 E. Hildebrand Avenue \nTime:  Aug. 13\, 5-7 p.m. \nREAD MORE:  The Power of Networking \n  \nShare this:Post
URL:https://miltrac.org/event/jbsa-career-summit-networking-event/
CATEGORIES:JBSA,Texas,Texas Event
ATTACH;FMTTYPE=image/jpeg:https://miltrac.org/wp-content/uploads/2025/07/jbsa.career.summit.jpg
END:VEVENT
BEGIN:VEVENT
DTSTART;TZID=America/Chicago:20250814T073000
DTEND;TZID=America/Chicago:20250814T080000
DTSTAMP:20260419T110627
CREATED:20250510T190717Z
LAST-MODIFIED:20250510T191001Z
UID:10001346-1755156600-1755158400@miltrac.org
SUMMARY:Morning breath workshop
DESCRIPTION:The Veteran Spouse Network hosts a virtual ‘Morning Breath Work” webinar. \nTime:  Each Thursday\, 7:30 p.m.  This program is geared for military spouses of active duty and retirees. \nRegistration:  Please click on the graphic below. \n \n  \nShare this:Post
URL:https://miltrac.org/event/morning-breath-work-workshop/2025-08-14/
END:VEVENT
BEGIN:VEVENT
DTSTART;TZID=America/Chicago:20250814T080000
DTEND;TZID=America/Chicago:20250814T170000
DTSTAMP:20260419T110627
CREATED:20250509T114300Z
LAST-MODIFIED:20250509T114520Z
UID:10001306-1755158400-1755190800@miltrac.org
SUMMARY:Trails and Tales -- a tour of historic Fort Sam Houston
DESCRIPTION:The Fort Sam Houston Military &Family Readiness Center\, 3060 Stanley Road\, conducts a monthly tour of the base’s historic buildings and locations . \nThe tour begins at 9 a.m. for all those with a valid military ID.  Registration:  210-221-2705. \n \nShare this:Post
URL:https://miltrac.org/event/trails-and-tales-a-tour-of-historic-fort-sam-houston/2025-08-14/
CATEGORIES:JBSA,Texas Event
ATTACH;FMTTYPE=image/jpeg:https://miltrac.org/wp-content/uploads/2025/05/fort.sam_.tours_.jpg
END:VEVENT
BEGIN:VEVENT
DTSTART;TZID=America/Chicago:20250814T090000
DTEND;TZID=America/Chicago:20250814T163000
DTSTAMP:20260419T110627
CREATED:20250704T121218Z
LAST-MODIFIED:20250704T121218Z
UID:10001935-1755162000-1755189000@miltrac.org
SUMMARY:JBSA Career Summit
DESCRIPTION:With over 70 employers\, the JBSA Career Summit serves as one of the best local hiring events and job fairs. \nDate:  Aug. 14\, 9 a.m.-4:30 p.m. \nLocation:  UIW SkyRoom\, 847 E. HIldebrand \nREAD MORE: Elevator Pitch 101 – A Guide to Making a Pitch at a Job Fair \nShare this:Post
URL:https://miltrac.org/event/jbsa-career-summit/
ATTACH;FMTTYPE=image/jpeg:https://miltrac.org/wp-content/uploads/2025/07/jbsa.career.summit.jpg
END:VEVENT
BEGIN:VEVENT
DTSTART;TZID=America/Chicago:20250817T150000
DTEND;TZID=America/Chicago:20250817T170000
DTSTAMP:20260419T110627
CREATED:20241028T111339Z
LAST-MODIFIED:20241028T111339Z
UID:10000657-1755442800-1755450000@miltrac.org
SUMMARY:VFW Post 8541 Sick Call
DESCRIPTION:VFW Post 8541 hosts a sick call for homeless veterans. \nTime:  Nov. 3\, 3-5 p.m. \nLocation:  VFW Post 8541\, 2222 Austin Highway\, San Antonio \nShare this:Post
URL:https://miltrac.org/event/vfw-post-8541-sick-call/2025-08-17/
ATTACH;FMTTYPE=image/png:https://miltrac.org/wp-content/uploads/2024/10/sick.call_.png
END:VEVENT
BEGIN:VEVENT
DTSTART;TZID=America/Chicago:20250819T090000
DTEND;TZID=America/Chicago:20250819T110000
DTSTAMP:20260419T110627
CREATED:20240820T210953Z
LAST-MODIFIED:20240902T173818Z
UID:10000480-1755594000-1755601200@miltrac.org
SUMMARY:Doughnuts\, coffee and fellowship
DESCRIPTION:Post 593 hosts veterans and their families for doughnuts\, coffee and fellowship every Tuesday.   According to the post organizers\, this weekly event is designed to get veterans out of the house and mingling with others who have served in the military. \nDate:  Tuesdays\, 9 to 11 a.m. \nAddress:  326 Legion Drive\,  Converse \nShare this:Post
URL:https://miltrac.org/event/doughnuts-and-fellowship/2025-08-19/
ATTACH;FMTTYPE=image/png:https://miltrac.org/wp-content/uploads/2024/08/doughnut.png
END:VEVENT
BEGIN:VEVENT
DTSTART;TZID=America/Chicago:20250819T100000
DTEND;TZID=America/Chicago:20250819T150000
DTSTAMP:20260419T110627
CREATED:20250715T210249Z
LAST-MODIFIED:20250715T210249Z
UID:10001952-1755597600-1755615600@miltrac.org
SUMMARY:VETConnect Day
DESCRIPTION:Combined Arms\, the Texas Veterans Network and the Texas Veterans Leadership Program will host a VetConnect Day.  “From service to success — network\, explore and land your next mission at VETconnect. \nDate:  Aug. 19 \nTime:  10 a.m-3 p.m. \nLocation:  Wayland Baptist University\, 8300 Pat Booker Road \nRegistration:  Please click on the Q/R link in the flyer below. \n \nShare this:Post
URL:https://miltrac.org/event/vetconnect-day/
CATEGORIES:JBSA,Texas,Texas Event
ATTACH;FMTTYPE=image/png:https://miltrac.org/wp-content/uploads/2024/08/job.fair_.2.png
END:VEVENT
BEGIN:VEVENT
DTSTART;TZID=America/Chicago:20250819T113000
DTEND;TZID=America/Chicago:20250819T130000
DTSTAMP:20260419T110627
CREATED:20250816T112116Z
LAST-MODIFIED:20250816T112924Z
UID:10001973-1755603000-1755608400@miltrac.org
SUMMARY:AFCEA chapter hosts luncheon on warrant officer paths
DESCRIPTION:Join Alamo AFCEA for an engaging panel discussion including Army and Air Force warrant officers from across the JBSA community sharing their unique experiences\, leadership insights\, and career pathways. Discover how these vital leaders bridge technical expertise and command to drive mission success. \nAt the Military Transition Resources and Calendar\, we find this non-profit a wonderful way to build a post-military network. \nTime:  11:30 a.m. \nLocation:  San Antonio Marriott Northwest Medical Center \nRegistration link: https://www.alamoafcea.org/events/register.aspx?id=1928729&itemid=4e9f141c-32b9-46c5-85b2-e6f890ab51d6: \nShare this:Post
URL:https://miltrac.org/event/afcea-chapter-hosts-luncheon-on-warrant-officer-paths/
ATTACH;FMTTYPE=image/png:https://miltrac.org/wp-content/uploads/2025/08/networking.png
END:VEVENT
BEGIN:VEVENT
DTSTART;TZID=America/Chicago:20250820T130000
DTEND;TZID=America/Chicago:20250820T170000
DTSTAMP:20260419T110627
CREATED:20250619T101326Z
LAST-MODIFIED:20250619T101326Z
UID:10001920-1755694800-1755709200@miltrac.org
SUMMARY:Post 592 weekly darts tourney
DESCRIPTION:Post 592 hosts a weekly darts tourney every Wednesday at 1:15 p.m. \nEntry fee is $10 per person.  Kevin Winchowski\, the post’s first vice commander\, said the event is open to veterans and their families. \nThe event is a double-elimination best of three contest with both a 301 game and a cricket format. \nRelated:  The American Legion home page. \nLocation: Post 592\, 1147 Wurzbach Road \nShare this:Post
URL:https://miltrac.org/event/post-592-weekly-darts-tourney/2025-08-20/
CATEGORIES:JBSA,Texas,Texas Event
ATTACH;FMTTYPE=image/png:https://miltrac.org/wp-content/uploads/2025/06/darts.png
END:VEVENT
BEGIN:VEVENT
DTSTART;TZID=America/Chicago:20250821T073000
DTEND;TZID=America/Chicago:20250821T080000
DTSTAMP:20260419T110627
CREATED:20250510T190717Z
LAST-MODIFIED:20250510T191001Z
UID:10001347-1755761400-1755763200@miltrac.org
SUMMARY:Morning breath workshop
DESCRIPTION:The Veteran Spouse Network hosts a virtual ‘Morning Breath Work” webinar. \nTime:  Each Thursday\, 7:30 p.m.  This program is geared for military spouses of active duty and retirees. \nRegistration:  Please click on the graphic below. \n \n  \nShare this:Post
URL:https://miltrac.org/event/morning-breath-work-workshop/2025-08-21/
END:VEVENT
BEGIN:VEVENT
DTSTART;TZID=America/Chicago:20250821T090000
DTEND;TZID=America/Chicago:20250821T130000
DTSTAMP:20260419T110627
CREATED:20250726T185116Z
LAST-MODIFIED:20250726T185116Z
UID:10001970-1755766800-1755781200@miltrac.org
SUMMARY:South Area job fair
DESCRIPTION:Recruit Military and the Disabled American Vets will host a military community hiring event. \nDate:  Aug. 21 \nTime:  11 a.m.-3 p.m. \nLocation:  San Antonio Shrine Auditorium\, 901 N. Loop 1604 W \nShare this:Post
URL:https://miltrac.org/event/south-area-job-fair-2/
CATEGORIES:JBSA,Texas,Texas Event
ATTACH;FMTTYPE=image/png:https://miltrac.org/wp-content/uploads/2025/05/job.fair_.png
END:VEVENT
BEGIN:VEVENT
DTSTART;TZID=America/Chicago:20250822T180000
DTEND;TZID=America/Chicago:20250822T210000
DTSTAMP:20260419T110627
CREATED:20240723T190904Z
LAST-MODIFIED:20240723T235556Z
UID:10000261-1755885600-1755896400@miltrac.org
SUMMARY:Please Join Us to support the American Legion Riders fund raiser
DESCRIPTION:The American Legion Riders at Post 309\, 8795 FM-1560 in Helotes\, will host a pork chop dinner to support their mission to help and honor veterans.  The cost for a one-inch pork chop\, with a baked potato\, a vegetable\, salad\, roll and desert is $20. \n  \nShare this:Post
URL:https://miltrac.org/event/please-join-us-to-support-the-american-legion-riders-program/2025-08-22/
ATTACH;FMTTYPE=image/png:https://miltrac.org/wp-content/uploads/2024/07/pork.choip_.png
END:VEVENT
BEGIN:VEVENT
DTSTART;TZID=America/Chicago:20250824T150000
DTEND;TZID=America/Chicago:20250824T170000
DTSTAMP:20260419T110627
CREATED:20241028T111339Z
LAST-MODIFIED:20241028T111339Z
UID:10000658-1756047600-1756054800@miltrac.org
SUMMARY:VFW Post 8541 Sick Call
DESCRIPTION:VFW Post 8541 hosts a sick call for homeless veterans. \nTime:  Nov. 3\, 3-5 p.m. \nLocation:  VFW Post 8541\, 2222 Austin Highway\, San Antonio \nShare this:Post
URL:https://miltrac.org/event/vfw-post-8541-sick-call/2025-08-24/
ATTACH;FMTTYPE=image/png:https://miltrac.org/wp-content/uploads/2024/10/sick.call_.png
END:VEVENT
BEGIN:VEVENT
DTSTART;TZID=America/Chicago:20250826T090000
DTEND;TZID=America/Chicago:20250826T110000
DTSTAMP:20260419T110627
CREATED:20240820T210953Z
LAST-MODIFIED:20240902T173818Z
UID:10000481-1756198800-1756206000@miltrac.org
SUMMARY:Doughnuts\, coffee and fellowship
DESCRIPTION:Post 593 hosts veterans and their families for doughnuts\, coffee and fellowship every Tuesday.   According to the post organizers\, this weekly event is designed to get veterans out of the house and mingling with others who have served in the military. \nDate:  Tuesdays\, 9 to 11 a.m. \nAddress:  326 Legion Drive\,  Converse \nShare this:Post
URL:https://miltrac.org/event/doughnuts-and-fellowship/2025-08-26/
ATTACH;FMTTYPE=image/png:https://miltrac.org/wp-content/uploads/2024/08/doughnut.png
END:VEVENT
BEGIN:VEVENT
DTSTART;TZID=America/Chicago:20250826T113000
DTEND;TZID=America/Chicago:20250826T130000
DTSTAMP:20260419T110627
CREATED:20250816T112734Z
LAST-MODIFIED:20250816T112734Z
UID:10001974-1756207800-1756213200@miltrac.org
SUMMARY:AFCEA Luncheon offers opportunity to learn about Amazon Web Services
DESCRIPTION:Join AWS Solutions Architects for a comprehensive overview of AWS Cloud fundamentals tailored specifically for Department of Defense stakeholders. This session will cover the full spectrum of AWS offerings for defense\, including our support for Impact Levels 2\, 4\, and 5\, as well as our dedicated AWS Secret Region for Impact Level 6 and Top-Secret Region. We will highlight AWS’s unwavering commitment to DoD missions\, emphasizing our continuous investment in security\, compliance\, and innovation for defense customers. \nDrawing from extensive experience supporting defense customers\, our Solutions Architects will break down core AWS concepts and services while addressing the unique requirements of the defense environment. We’ll explore not only the technical foundations but also navigate the critical path of cloud acquisition – from contracting vehicles to procurement best practices. \nWhether you’re a program manager\, contracting officer\, or technical lead\, you’ll gain practical insights into both the technological and procurement aspects of AWS Cloud adoption within the DoD ecosystem. Learn how to effectively initiate and scale your cloud journey while maintaining compliance with defense requirements and leveraging AWS’s dedicated resources for mission-critical operations. \nAt the Military Transition Roundtable\, we find these programs of value to build a network. \nTime:  11 a.m.-1 p.m. \nDate:  Aug. 26 \nLocation:  Gateway Club\, Lackland \n  \nShare this:Post
URL:https://miltrac.org/event/afcea-luncheon-offers-opportunity-to-learn-about-amazon-web-services/
ATTACH;FMTTYPE=image/png:https://miltrac.org/wp-content/uploads/2025/08/networking.png
END:VEVENT
BEGIN:VEVENT
DTSTART;TZID=America/Chicago:20250827T100000
DTEND;TZID=America/Chicago:20250827T120000
DTSTAMP:20260419T110627
CREATED:20250718T214233Z
LAST-MODIFIED:20250718T214233Z
UID:10001968-1756288800-1756296000@miltrac.org
SUMMARY:OBTT Workshop: Interview Skills
DESCRIPTION:You have an interview request! Now what? In this workshop\, you will prepare for those hard-to-answer questions and gain the know-how to interview with confidence. \nDate: 8/27/2025\nTime: 10 am – 12 pm (CST)\nLocation: Good Samaritan Veteran & Outreach Center 202 Connelly St. San Antonio\, TX 78203\n\nRegister Online \nFor more information on interview skills: Interviewing for a job? Use these sample questions to prepare for this encounter\n \nShare this:Post
URL:https://miltrac.org/event/obtt-workshop-interview-skills-2/
ATTACH;FMTTYPE=image/png:https://miltrac.org/wp-content/uploads/2025/07/Screenshot-2025-07-18-4.20.58-PM.png
END:VEVENT
BEGIN:VEVENT
DTSTART;TZID=America/Chicago:20250827T121500
DTEND;TZID=America/Chicago:20250827T141500
DTSTAMP:20260419T110627
CREATED:20250718T214923Z
LAST-MODIFIED:20250718T214923Z
UID:10001969-1756296900-1756304100@miltrac.org
SUMMARY:OBTT Workshop: My Next Career Move
DESCRIPTION:Explore factors that influence career choice and understand the outlook of your desired occupation. This workshop provides the basic tools needed to begin career exploration. \nDate: 8/27/2025\nTime: 12:15 – 2:15 pm (CST)\nLocation: Good Samaritan Veteran & Outreach Center 202 Connelly St. San Antonio\, TX 78203\n\nRegister Online \nFor more informattion on career planning: How Mentors Can Help You In Transition \nShare this:Post
URL:https://miltrac.org/event/obtt-workshop-my-next-career-move/
CATEGORIES:Texas,Texas Event
ATTACH;FMTTYPE=image/png:https://miltrac.org/wp-content/uploads/2025/07/Screenshot-2025-07-18-4.20.58-PM.png
END:VEVENT
BEGIN:VEVENT
DTSTART;TZID=America/Chicago:20250827T130000
DTEND;TZID=America/Chicago:20250827T170000
DTSTAMP:20260419T110627
CREATED:20250619T101326Z
LAST-MODIFIED:20250619T101326Z
UID:10001921-1756299600-1756314000@miltrac.org
SUMMARY:Post 592 weekly darts tourney
DESCRIPTION:Post 592 hosts a weekly darts tourney every Wednesday at 1:15 p.m. \nEntry fee is $10 per person.  Kevin Winchowski\, the post’s first vice commander\, said the event is open to veterans and their families. \nThe event is a double-elimination best of three contest with both a 301 game and a cricket format. \nRelated:  The American Legion home page. \nLocation: Post 592\, 1147 Wurzbach Road \nShare this:Post
URL:https://miltrac.org/event/post-592-weekly-darts-tourney/2025-08-27/
CATEGORIES:JBSA,Texas,Texas Event
ATTACH;FMTTYPE=image/png:https://miltrac.org/wp-content/uploads/2025/06/darts.png
END:VEVENT
BEGIN:VEVENT
DTSTART;TZID=America/Chicago:20250828T073000
DTEND;TZID=America/Chicago:20250828T080000
DTSTAMP:20260419T110627
CREATED:20250510T190717Z
LAST-MODIFIED:20250510T191001Z
UID:10001348-1756366200-1756368000@miltrac.org
SUMMARY:Morning breath workshop
DESCRIPTION:The Veteran Spouse Network hosts a virtual ‘Morning Breath Work” webinar. \nTime:  Each Thursday\, 7:30 p.m.  This program is geared for military spouses of active duty and retirees. \nRegistration:  Please click on the graphic below. \n \n  \nShare this:Post
URL:https://miltrac.org/event/morning-breath-work-workshop/2025-08-28/
END:VEVENT
BEGIN:VEVENT
DTSTART;TZID=America/Chicago:20250831T060000
DTEND;TZID=America/Chicago:20250831T060000
DTSTAMP:20260419T110627
CREATED:20250428T102421Z
LAST-MODIFIED:20250428T103410Z
UID:10001145-1756620000-1756620000@miltrac.org
SUMMARY:MILCountry Meetup
DESCRIPTION:Live outside of San Antonio near Bulverde and New Braunfels and want to network with other military professionals? \nJoin others at MILCountry Meetup.  The event is held  at the District\, 15000 Texas-46 on the last Friday of every month. \n“This is where the Military City USA meets the Texas Hill Country\,” said Stephan Porter\, the event’s organizer noted in a post. \nTime:  May 30\, 7 to 10 p.m. \nAddress:  15000 Texas 46\, Spring Branch \n  \nShare this:Post
URL:https://miltrac.org/event/milcountry-meetup-2/2025-08-31/
CATEGORIES:JBSA,Texas
ATTACH;FMTTYPE=image/png:https://miltrac.org/wp-content/uploads/2025/04/milcountry.in_.png
END:VEVENT
BEGIN:VEVENT
DTSTART;TZID=America/Chicago:20250831T150000
DTEND;TZID=America/Chicago:20250831T170000
DTSTAMP:20260419T110627
CREATED:20241028T111339Z
LAST-MODIFIED:20241028T111339Z
UID:10000659-1756652400-1756659600@miltrac.org
SUMMARY:VFW Post 8541 Sick Call
DESCRIPTION:VFW Post 8541 hosts a sick call for homeless veterans. \nTime:  Nov. 3\, 3-5 p.m. \nLocation:  VFW Post 8541\, 2222 Austin Highway\, San Antonio \nShare this:Post
URL:https://miltrac.org/event/vfw-post-8541-sick-call/2025-08-31/
ATTACH;FMTTYPE=image/png:https://miltrac.org/wp-content/uploads/2024/10/sick.call_.png
END:VEVENT
BEGIN:VEVENT
DTSTART;TZID=America/Chicago:20250902T090000
DTEND;TZID=America/Chicago:20250902T110000
DTSTAMP:20260419T110627
CREATED:20240820T210953Z
LAST-MODIFIED:20240902T173818Z
UID:10000482-1756803600-1756810800@miltrac.org
SUMMARY:Doughnuts\, coffee and fellowship
DESCRIPTION:Post 593 hosts veterans and their families for doughnuts\, coffee and fellowship every Tuesday.   According to the post organizers\, this weekly event is designed to get veterans out of the house and mingling with others who have served in the military. \nDate:  Tuesdays\, 9 to 11 a.m. \nAddress:  326 Legion Drive\,  Converse \nShare this:Post
URL:https://miltrac.org/event/doughnuts-and-fellowship/2025-09-02/
ATTACH;FMTTYPE=image/png:https://miltrac.org/wp-content/uploads/2024/08/doughnut.png
END:VEVENT
BEGIN:VEVENT
DTSTART;TZID=America/Chicago:20250902T190000
DTEND;TZID=America/Chicago:20250902T210000
DTSTAMP:20260419T110627
CREATED:20250430T232451Z
LAST-MODIFIED:20250430T233707Z
UID:10001182-1756839600-1756846800@miltrac.org
SUMMARY:Join the American Legion riders in Bexar County
DESCRIPTION:Post 593 of the American Legion Riders meets the first and second Tuesday at the organization’s canteen. \nAccording to Ed Richards\, an active American Legion rider\, the post plans rallies and other rides throughout the year. \nRichards\, an Army NCO\, can attest to the value of these rides in what he calls roadside therapy for his PTSD conditions. \nRELATED:  Legacy Run:  Healing on the Road \nPost 593 directions \n\n  \nShare this:Post
URL:https://miltrac.org/event/join-the-american-legion-riders-in-bexar-county/2025-09-02/
ATTACH;FMTTYPE=image/png:https://miltrac.org/wp-content/uploads/2025/04/american.legion.riders.png
END:VEVENT
BEGIN:VEVENT
DTSTART;TZID=America/Chicago:20250904T073000
DTEND;TZID=America/Chicago:20250904T080000
DTSTAMP:20260419T110627
CREATED:20250510T190717Z
LAST-MODIFIED:20250510T191001Z
UID:10001349-1756971000-1756972800@miltrac.org
SUMMARY:Morning breath workshop
DESCRIPTION:The Veteran Spouse Network hosts a virtual ‘Morning Breath Work” webinar. \nTime:  Each Thursday\, 7:30 p.m.  This program is geared for military spouses of active duty and retirees. \nRegistration:  Please click on the graphic below. \n \n  \nShare this:Post
URL:https://miltrac.org/event/morning-breath-work-workshop/2025-09-04/
END:VEVENT
BEGIN:VEVENT
DTSTART;TZID=America/Chicago:20250904T183000
DTEND;TZID=America/Chicago:20250904T200000
DTSTAMP:20260419T110627
CREATED:20241105T143455Z
LAST-MODIFIED:20241105T143455Z
UID:10000906-1757010600-1757016000@miltrac.org
SUMMARY:
DESCRIPTION:  \n  \nReady to elevate your health game? Join us for the KEY Virtual Health & Fitness Workshop\, led by renowned fitness coach Anthony Yon\, every 1st Thursday of the month starting December 5\, 2024\, from 6:30 p.m. – 8:00 p.m. CST! This FREE monthly session is a high-energy\, motivational experience that goes beyond typical workouts\, diving deep into fitness techniques\, nutrition tips\, and lifestyle strategies to help you reach your wellness goals. \nDate: Dec. 5 \nRegistration link: https://www.eventbrite.com/e/key-virtual-health-fitness-workshop-120524-tickets-1071374001479?aff=oddtdtcreator \nShare this:Post
URL:https://miltrac.org/event/9353/2025-09-04/
ATTACH;FMTTYPE=image/png:https://miltrac.org/wp-content/uploads/2024/11/key.healthy.png
END:VEVENT
BEGIN:VEVENT
DTSTART;TZID=America/Chicago:20250907T150000
DTEND;TZID=America/Chicago:20250907T170000
DTSTAMP:20260419T110627
CREATED:20241028T111339Z
LAST-MODIFIED:20241028T111339Z
UID:10000660-1757257200-1757264400@miltrac.org
SUMMARY:VFW Post 8541 Sick Call
DESCRIPTION:VFW Post 8541 hosts a sick call for homeless veterans. \nTime:  Nov. 3\, 3-5 p.m. \nLocation:  VFW Post 8541\, 2222 Austin Highway\, San Antonio \nShare this:Post
URL:https://miltrac.org/event/vfw-post-8541-sick-call/2025-09-07/
ATTACH;FMTTYPE=image/png:https://miltrac.org/wp-content/uploads/2024/10/sick.call_.png
END:VEVENT
BEGIN:VEVENT
DTSTART;TZID=America/Chicago:20250907T173000
DTEND;TZID=America/Chicago:20250907T200000
DTSTAMP:20260419T110627
CREATED:20250827T183000Z
LAST-MODIFIED:20250827T183246Z
UID:10001981-1757266200-1757275200@miltrac.org
SUMMARY:Missions offer free tickets for veterans and active duty military
DESCRIPTION:The San Antonio Missions will offer free tickets for all active and retired military professional on Sept. 7 at 6 p.m.  The San Diego Padre AA franchise will host the Corpus Christi Hooks.  Note:  please scan the Q/R code in the flyer below. \nDate:  Sept. 7 \nTime:  6 p.m. \n \n  \n  \nShare this:Post
URL:https://miltrac.org/event/missions-offer-free-tickets-for-veterans-and-active-duty-military/
ATTACH;FMTTYPE=image/png:https://miltrac.org/wp-content/uploads/2025/08/baseball.image_.png
END:VEVENT
BEGIN:VEVENT
DTSTART;TZID=America/Chicago:20250909T090000
DTEND;TZID=America/Chicago:20250909T110000
DTSTAMP:20260419T110627
CREATED:20240820T210953Z
LAST-MODIFIED:20240902T173818Z
UID:10000483-1757408400-1757415600@miltrac.org
SUMMARY:Doughnuts\, coffee and fellowship
DESCRIPTION:Post 593 hosts veterans and their families for doughnuts\, coffee and fellowship every Tuesday.   According to the post organizers\, this weekly event is designed to get veterans out of the house and mingling with others who have served in the military. \nDate:  Tuesdays\, 9 to 11 a.m. \nAddress:  326 Legion Drive\,  Converse \nShare this:Post
URL:https://miltrac.org/event/doughnuts-and-fellowship/2025-09-09/
ATTACH;FMTTYPE=image/png:https://miltrac.org/wp-content/uploads/2024/08/doughnut.png
END:VEVENT
END:VCALENDAR