BEGIN:VCALENDAR
VERSION:2.0
PRODID:-//MilTRAC - ECPv6.15.20//NONSGML v1.0//EN
CALSCALE:GREGORIAN
METHOD:PUBLISH
X-WR-CALNAME:MilTRAC
X-ORIGINAL-URL:https://miltrac.org
X-WR-CALDESC:Events for MilTRAC
REFRESH-INTERVAL;VALUE=DURATION:PT1H
X-Robots-Tag:noindex
X-PUBLISHED-TTL:PT1H
BEGIN:VTIMEZONE
TZID:America/Chicago
BEGIN:DAYLIGHT
TZOFFSETFROM:-0600
TZOFFSETTO:-0500
TZNAME:CDT
DTSTART:20230312T080000
END:DAYLIGHT
BEGIN:STANDARD
TZOFFSETFROM:-0500
TZOFFSETTO:-0600
TZNAME:CST
DTSTART:20231105T070000
END:STANDARD
BEGIN:DAYLIGHT
TZOFFSETFROM:-0600
TZOFFSETTO:-0500
TZNAME:CDT
DTSTART:20240310T080000
END:DAYLIGHT
BEGIN:STANDARD
TZOFFSETFROM:-0500
TZOFFSETTO:-0600
TZNAME:CST
DTSTART:20241103T070000
END:STANDARD
BEGIN:DAYLIGHT
TZOFFSETFROM:-0600
TZOFFSETTO:-0500
TZNAME:CDT
DTSTART:20250309T080000
END:DAYLIGHT
BEGIN:STANDARD
TZOFFSETFROM:-0500
TZOFFSETTO:-0600
TZNAME:CST
DTSTART:20251102T070000
END:STANDARD
END:VTIMEZONE
BEGIN:VEVENT
DTSTART;TZID=America/Chicago:20240811T080000
DTEND;TZID=America/Chicago:20240811T170000
DTSTAMP:20260421T192959
CREATED:20240723T112312Z
LAST-MODIFIED:20240723T112312Z
UID:10000128-1723363200-1723395600@miltrac.org
SUMMARY:It's time for a Buddy Check
DESCRIPTION:If  you served in the military\, you had a friend who had your back.  This was someone you could vent about things\, when something happened to upset  you. \nThe military\, as a rule\, doesn’t allow us to vent\, except for what our Navy colleagues call “shipmate” or Air Force term as their “wing man.” \nThat’s why we at MilTRAC are setting aside the second Sunday of every month to call those comrades in arm. \n  \nShare this:Post
URL:https://miltrac.org/event/its-time-for-a-buddy-check/2024-08-11/
ATTACH;FMTTYPE=image/png:https://miltrac.org/wp-content/uploads/2024/07/mentor.png
END:VEVENT
BEGIN:VEVENT
DTSTART;TZID=America/Chicago:20240815T153000
DTEND;TZID=America/Chicago:20240815T163000
DTSTAMP:20260421T192959
CREATED:20240814T144643Z
LAST-MODIFIED:20240814T144643Z
UID:10000398-1723735800-1723739400@miltrac.org
SUMMARY:A roadmap to transition success
DESCRIPTION:If you are within two years of separation\,  you do not want to miss this interactive Zoom event\, featuring transition subject matter experts like Lori Norris\, Keith Cassant\, Lucas R. Connolly\, Todd Nelson\, David Schantz\, Joe Valesquez and Scott Abram. \nTime:  3:30 p.m.\, Aug. 15\, \nZoom registration. \nShare this:Post
URL:https://miltrac.org/event/a-roadmap-to-transition-success/
ATTACH;FMTTYPE=image/jpeg:https://miltrac.org/wp-content/uploads/2024/08/aug.15.jpg
END:VEVENT
BEGIN:VEVENT
DTSTART;TZID=America/Chicago:20240817T080000
DTEND;TZID=America/Chicago:20240817T170000
DTSTAMP:20260421T192959
CREATED:20240817T233816Z
LAST-MODIFIED:20240817T233816Z
UID:10000403-1723881600-1723914000@miltrac.org
SUMMARY:LinkedIn Job Search
DESCRIPTION:Building on the first workshop\, this workshop explains how to proactively use LinkedIn for job searches and the\ntools LinkedIn provides to help find better employment matches and fit. \nTime:  11:15 a.m.-1:15 p.m. \nLocation:  Steven Cohen Clinic\,  6333 DeZavala \nRegistration:  \nShare this:Post
URL:https://miltrac.org/event/linkedin-job-search-2/
ATTACH;FMTTYPE=image/png:https://miltrac.org/wp-content/uploads/2024/08/Linkedin.search.png
END:VEVENT
BEGIN:VEVENT
DTSTART;TZID=America/Chicago:20240819T000000
DTEND;TZID=America/Chicago:20240819T000000
DTSTAMP:20260421T192959
CREATED:20240818T213710Z
LAST-MODIFIED:20240819T094420Z
UID:10000410-1724025600-1724025600@miltrac.org
SUMMARY:Tulsa Toastmasters hosts virtual meeting for transitioning veterans
DESCRIPTION:Dr. Robby Hedricks\, one of our MilTRAC board of advisor and colleague\, believes Toastmasters International provides a wonderful opportunity to listen\, speak and manage meetings.  Most people think Toastmasters is about giving speeches\, but it’s also provides an opportunity to manage a meeting and to listen for “ahs.” \nFor military professionals in transition\, Toastmasters provides a wonderful opportunity to improve on a variety of communication skills. \nHis Tulsa\, Okla.\, group meets virtually and has visitors from all over the world take part. \nWant to know more about Toastmasters?  You can find out more at this link. \nMeanwhile\, Hedricks welcomes military members and their families to his Monday event.  (Note:  Zoom link is below.) \nTime:  Mondays\, (except holidays)  6:30 p.m. \nZoom link. \n  \nShare this:Post
URL:https://miltrac.org/event/toastmasters-acts-as-a-good-training-point-for-those-in-transition/2024-08-19/
ATTACH;FMTTYPE=image/png:https://miltrac.org/wp-content/uploads/2024/08/toastmasters.png
END:VEVENT
BEGIN:VEVENT
DTSTART;TZID=America/Chicago:20240820T110000
DTEND;TZID=America/Chicago:20240820T130000
DTSTAMP:20260421T192959
CREATED:20240810T195824Z
LAST-MODIFIED:20240810T195940Z
UID:10000395-1724151600-1724158800@miltrac.org
SUMMARY:AFCEA hosts luncheon for IT\, Comm and Cyber community
DESCRIPTION:The Alamo AFCEA brings together DoD and industry partners from across Joint Base  San Antonio with the IT\,\, communications and networking.  If  you are a military professional in transition\, this luncheon provides a great opportunity to build a professional network. \n  \nDate:  Aug. 20\, 11 a.m.-1 p.m. \nLocation: San Antonio Marriott\, 3233 NW Loop 410 \nOnsite registration link \n  \nShare this:Post
URL:https://miltrac.org/event/afcea-hosts-luncheon-for-it-comm-and-cyber-community/
ATTACH;FMTTYPE=image/png:https://miltrac.org/wp-content/uploads/2024/08/AFCEA.tech_.x.png
END:VEVENT
BEGIN:VEVENT
DTSTART;TZID=America/Chicago:20240821T130000
DTEND;TZID=America/Chicago:20240821T133000
DTSTAMP:20260421T192959
CREATED:20240727T211202Z
LAST-MODIFIED:20240727T211254Z
UID:10000312-1724245200-1724247000@miltrac.org
SUMMARY:JBSA to host webinar on maintenance opportunities
DESCRIPTION:Every Wednesday\, the JBSA Skillbridge team holds a CSP Showcase via Teams.   Military professionals in transition #MPITS should register at this link.   Space is limited to the first 25 people. \nA representative from Advanced Technology Services will speak at this event. \nContact Jose Ontiveros via email if registration is full. \nShare this:Post
URL:https://miltrac.org/event/7954/
ATTACH;FMTTYPE=image/png:https://miltrac.org/wp-content/uploads/2024/07/Skillbridge-opportunities.png
END:VEVENT
BEGIN:VEVENT
DTSTART;TZID=America/Chicago:20240821T130000
DTEND;TZID=America/Chicago:20240821T133000
DTSTAMP:20260421T192959
CREATED:20240727T210413Z
LAST-MODIFIED:20240727T210413Z
UID:10000311-1724245200-1724247000@miltrac.org
SUMMARY:JBSA to host webinar on automotive opportunities for Skillbridge
DESCRIPTION:Every Wednesday\, the JBSA Skillbridge team holds a CSP Showcase via Teams.   Military professionals in transition #MPITS should register at this link.   Space is limited to the first 25 people. \nA representative at Shifting Gears\, a General Motors Automotive Technician Training\, will speak at this webinar. \nContact Jose Ontiveros via email if registration is full. \nShare this:Post
URL:https://miltrac.org/event/jbsa-to-host-webinar-on-automotive-opportunities-for-skillbridge/
ATTACH;FMTTYPE=image/png:https://miltrac.org/wp-content/uploads/2024/07/Skillbridge-opportunities.png
END:VEVENT
BEGIN:VEVENT
DTSTART;TZID=America/Chicago:20240823T110000
DTEND;TZID=America/Chicago:20240823T150000
DTSTAMP:20260421T192959
CREATED:20240815T132352Z
LAST-MODIFIED:20240815T132511Z
UID:10000400-1724410800-1724425200@miltrac.org
SUMMARY:Bexar County Military & Veterans Services - Benefits Workshop
DESCRIPTION:Are you a veteran or know someone who could use guidance on VA claims? Join us for a FREE Benefits Workshop\, where our Veteran Service Officers will walk you through the basics of filing a VA claim and explain how Bexar County can assist you! \nLocation: The Original Rudy’s\, 24152 W. IH-10 \nTime:  Aug. 23\, 11 a.m. to 1 p.m. \nShare this:Post
URL:https://miltrac.org/event/bexar-county-military-veterans-services-benefits-workshop/
ATTACH;FMTTYPE=image/png:https://miltrac.org/wp-content/uploads/2024/08/va.claims.png
END:VEVENT
BEGIN:VEVENT
DTSTART;TZID=America/Chicago:20240823T180000
DTEND;TZID=America/Chicago:20240823T210000
DTSTAMP:20260421T192959
CREATED:20240723T190904Z
LAST-MODIFIED:20240723T235556Z
UID:10000249-1724436000-1724446800@miltrac.org
SUMMARY:Please Join Us to support the American Legion Riders fund raiser
DESCRIPTION:The American Legion Riders at Post 309\, 8795 FM-1560 in Helotes\, will host a pork chop dinner to support their mission to help and honor veterans.  The cost for a one-inch pork chop\, with a baked potato\, a vegetable\, salad\, roll and desert is $20. \n  \nShare this:Post
URL:https://miltrac.org/event/please-join-us-to-support-the-american-legion-riders-program/2024-08-23/
ATTACH;FMTTYPE=image/png:https://miltrac.org/wp-content/uploads/2024/07/pork.choip_.png
END:VEVENT
BEGIN:VEVENT
DTSTART;TZID=America/Chicago:20240824T100000
DTEND;TZID=America/Chicago:20240824T113000
DTSTAMP:20260421T192959
CREATED:20240730T105711Z
LAST-MODIFIED:20240730T105711Z
UID:10000371-1724493600-1724499000@miltrac.org
SUMMARY:JBSA to host military retiree town hall meeting
DESCRIPTION:The JBSA-Fort Sam Houston Military and Family Readiness Center will host a military retiree town hall meeting Aug.24\, 10 to 11:40 a.m. at Bldg. 2797\, 3060 Stanley Road. \nShare this:Post
URL:https://miltrac.org/event/jbsa-to-host-military-retiree-town-hall-meeting/
ATTACH;FMTTYPE=image/png:https://miltrac.org/wp-content/uploads/2024/07/aug.24.png
END:VEVENT
BEGIN:VEVENT
DTSTART;TZID=America/Chicago:20240826T000000
DTEND;TZID=America/Chicago:20240826T000000
DTSTAMP:20260421T192959
CREATED:20240818T213710Z
LAST-MODIFIED:20240819T094420Z
UID:10000411-1724630400-1724630400@miltrac.org
SUMMARY:Tulsa Toastmasters hosts virtual meeting for transitioning veterans
DESCRIPTION:Dr. Robby Hedricks\, one of our MilTRAC board of advisor and colleague\, believes Toastmasters International provides a wonderful opportunity to listen\, speak and manage meetings.  Most people think Toastmasters is about giving speeches\, but it’s also provides an opportunity to manage a meeting and to listen for “ahs.” \nFor military professionals in transition\, Toastmasters provides a wonderful opportunity to improve on a variety of communication skills. \nHis Tulsa\, Okla.\, group meets virtually and has visitors from all over the world take part. \nWant to know more about Toastmasters?  You can find out more at this link. \nMeanwhile\, Hedricks welcomes military members and their families to his Monday event.  (Note:  Zoom link is below.) \nTime:  Mondays\, (except holidays)  6:30 p.m. \nZoom link. \n  \nShare this:Post
URL:https://miltrac.org/event/toastmasters-acts-as-a-good-training-point-for-those-in-transition/2024-08-26/
ATTACH;FMTTYPE=image/png:https://miltrac.org/wp-content/uploads/2024/08/toastmasters.png
END:VEVENT
BEGIN:VEVENT
DTSTART;TZID=America/Chicago:20240827T090000
DTEND;TZID=America/Chicago:20240827T110000
DTSTAMP:20260421T192959
CREATED:20240820T210953Z
LAST-MODIFIED:20240902T173818Z
UID:10000429-1724749200-1724756400@miltrac.org
SUMMARY:Doughnuts\, coffee and fellowship
DESCRIPTION:Post 593 hosts veterans and their families for doughnuts\, coffee and fellowship every Tuesday.   According to the post organizers\, this weekly event is designed to get veterans out of the house and mingling with others who have served in the military. \nDate:  Tuesdays\, 9 to 11 a.m. \nAddress:  326 Legion Drive\,  Converse \nShare this:Post
URL:https://miltrac.org/event/doughnuts-and-fellowship/2024-08-27/
ATTACH;FMTTYPE=image/png:https://miltrac.org/wp-content/uploads/2024/08/doughnut.png
END:VEVENT
BEGIN:VEVENT
DTSTART;TZID=America/Chicago:20240827T090000
DTEND;TZID=America/Chicago:20240827T110000
DTSTAMP:20260421T192959
CREATED:20240806T204218Z
LAST-MODIFIED:20240806T211025Z
UID:10000388-1724749200-1724756400@miltrac.org
SUMMARY:Update your LinkedIn profile
DESCRIPTION:The Department of Labor  and the Wounded Warrior Project are hosting a virtual LinkedIn workshop Tuesday\, Aug. 27 at 9 a.m. \nThe workshop walks attendees how to create a compelling profile that can convey a professional brand and highlight one’s experience.  This workshop is open to veterans\, veterans currently serving in the National Guard/Reserve and spouses. \nTo enroll in this workshop\, please click on the Q/R link below or online. \n \n  \n  \nShare this:Post
URL:https://miltrac.org/event/update-your-linkedin-profile/
ATTACH;FMTTYPE=image/png:https://miltrac.org/wp-content/uploads/2024/08/Linkedin.1.png
END:VEVENT
BEGIN:VEVENT
DTSTART;TZID=America/Chicago:20240827T113000
DTEND;TZID=America/Chicago:20240827T133000
DTSTAMP:20260421T192959
CREATED:20240806T205158Z
LAST-MODIFIED:20240806T210534Z
UID:10000389-1724758200-1724765400@miltrac.org
SUMMARY:LinkedIn Job Search
DESCRIPTION:The Department of Labor  and the Wounded Warrior Project are hosting a virtual LinkedIn workshop Tuesday\, Aug. 27 at 11:30 a.m. \nThe workshop shows attendees how to proactively use LinkedIn for job searches.  (Note:  it’s a good idea to attend the first class set for 9 a.m. today.  This workshop is open to veterans\, veterans currently serving in the National Guard/Reserve and spouses. \nTo enroll in this workshop\, please click on the Q/R link below or register online. \n \nShare this:Post
URL:https://miltrac.org/event/linkedin-job-search/
ATTACH;FMTTYPE=image/png:https://miltrac.org/wp-content/uploads/2024/08/Linkedin.search.png
END:VEVENT
BEGIN:VEVENT
DTSTART;TZID=America/Chicago:20240829T110000
DTEND;TZID=America/Chicago:20240829T130000
DTSTAMP:20260421T192959
CREATED:20240810T202748Z
LAST-MODIFIED:20240810T202748Z
UID:10000396-1724929200-1724936400@miltrac.org
SUMMARY:AFCEA lunch and learn to host Peter Di Giorgio
DESCRIPTION:Peter Di Giorgio\,  a retired Army cyber officer\, will speak on how his company\, Security Onion\, will speak on how his firm detects and investigate  malicious cyber attacks.  This is a great event for military professionals in transition to build a network in the IT\, cyber and comms field.   Attendees must also have a valid base identification card. \nDate:  Aug 29\, 11 a.m.-1 pm \nLocation:  Lackland Gateway Club\, 16580 Kenly Avenue \nReservations:  Please use this link \nShare this:Post
URL:https://miltrac.org/event/afcea-lunch-and-learn-to-host-peter-di-giorgio/
ATTACH;FMTTYPE=image/png:https://miltrac.org/wp-content/uploads/2024/08/AFCEA.tech_.x.png
END:VEVENT
BEGIN:VEVENT
DTSTART;TZID=America/Chicago:20240902T000000
DTEND;TZID=America/Chicago:20240902T000000
DTSTAMP:20260421T192959
CREATED:20240818T213710Z
LAST-MODIFIED:20240819T094420Z
UID:10000412-1725235200-1725235200@miltrac.org
SUMMARY:Tulsa Toastmasters hosts virtual meeting for transitioning veterans
DESCRIPTION:Dr. Robby Hedricks\, one of our MilTRAC board of advisor and colleague\, believes Toastmasters International provides a wonderful opportunity to listen\, speak and manage meetings.  Most people think Toastmasters is about giving speeches\, but it’s also provides an opportunity to manage a meeting and to listen for “ahs.” \nFor military professionals in transition\, Toastmasters provides a wonderful opportunity to improve on a variety of communication skills. \nHis Tulsa\, Okla.\, group meets virtually and has visitors from all over the world take part. \nWant to know more about Toastmasters?  You can find out more at this link. \nMeanwhile\, Hedricks welcomes military members and their families to his Monday event.  (Note:  Zoom link is below.) \nTime:  Mondays\, (except holidays)  6:30 p.m. \nZoom link. \n  \nShare this:Post
URL:https://miltrac.org/event/toastmasters-acts-as-a-good-training-point-for-those-in-transition/2024-09-02/
ATTACH;FMTTYPE=image/png:https://miltrac.org/wp-content/uploads/2024/08/toastmasters.png
END:VEVENT
BEGIN:VEVENT
DTSTART;TZID=America/Chicago:20240903T090000
DTEND;TZID=America/Chicago:20240903T110000
DTSTAMP:20260421T192959
CREATED:20240820T210953Z
LAST-MODIFIED:20240902T173818Z
UID:10000430-1725354000-1725361200@miltrac.org
SUMMARY:Doughnuts\, coffee and fellowship
DESCRIPTION:Post 593 hosts veterans and their families for doughnuts\, coffee and fellowship every Tuesday.   According to the post organizers\, this weekly event is designed to get veterans out of the house and mingling with others who have served in the military. \nDate:  Tuesdays\, 9 to 11 a.m. \nAddress:  326 Legion Drive\,  Converse \nShare this:Post
URL:https://miltrac.org/event/doughnuts-and-fellowship/2024-09-03/
ATTACH;FMTTYPE=image/png:https://miltrac.org/wp-content/uploads/2024/08/doughnut.png
END:VEVENT
BEGIN:VEVENT
DTSTART;TZID=America/Chicago:20240904T080000
DTEND;TZID=America/Chicago:20240904T170000
DTSTAMP:20260421T192959
CREATED:20240904T121747Z
LAST-MODIFIED:20240904T121747Z
UID:10000500-1725436800-1725469200@miltrac.org
SUMMARY:Podcast to feature Chris McGhee\, a veterans advocate
DESCRIPTION:Join Shawn Welsh\, as he interviews Chris McGhee\, Falcon Forward Law Group. \n  \nYou can find this podcast at this link. \nShare this:Post
URL:https://miltrac.org/event/podcast-to-feature-chris-mcghee-a-veterans-advocate/
ATTACH;FMTTYPE=image/png:https://miltrac.org/wp-content/uploads/2024/09/cover.1-1.png
END:VEVENT
BEGIN:VEVENT
DTSTART;TZID=America/Chicago:20240904T130000
DTEND;TZID=America/Chicago:20240904T133000
DTSTAMP:20260421T192959
CREATED:20240727T213603Z
LAST-MODIFIED:20240727T213617Z
UID:10000369-1725454800-1725456600@miltrac.org
SUMMARY:Skillbridge to host webinar on "Veterans in Piping"
DESCRIPTION:Every Wednesday\, the JBSA Skillbridge team holds a CSP Showcase via Teams.   Military professionals in transition #MPITS should register at this link.   Space is limited to the first 25 people. \nA representative from Veterans in Piping will speak on the event. \nContact Jose Ontiveros via email if registration is full. \nShare this:Post
URL:https://miltrac.org/event/skillbridge-to-host-webinar-on-veterans-in-piping/
ATTACH;FMTTYPE=image/png:https://miltrac.org/wp-content/uploads/2024/07/Skillbridge-opportunities.png
END:VEVENT
BEGIN:VEVENT
DTSTART;TZID=America/Chicago:20240904T180000
DTEND;TZID=America/Chicago:20240904T190000
DTSTAMP:20260421T192959
CREATED:20240904T114106Z
LAST-MODIFIED:20240904T114129Z
UID:10000495-1725472800-1725476400@miltrac.org
SUMMARY:VET S.O.S. Podcast with Mathew Snyder
DESCRIPTION:VET S.O.S. Veteran Entrepreneurial Spotlight (Highlight veteran and veteran spouse entrepreneurs and their journey.  This week\, host Shawn Welsh will interview Mathew Snyder\, Remedy Guard. \nViewers and listeners can find this episode at this link. \nShare this:Post
URL:https://miltrac.org/event/vet-s-o-s-podcast-with-mathew-syder/
ATTACH;FMTTYPE=image/png:https://miltrac.org/wp-content/uploads/2024/09/cover.1-1.png
END:VEVENT
BEGIN:VEVENT
DTSTART;TZID=America/Chicago:20240905T183000
DTEND;TZID=America/Chicago:20240905T210000
DTSTAMP:20260421T192959
CREATED:20240902T142602Z
LAST-MODIFIED:20240902T142602Z
UID:10000491-1725561000-1725570000@miltrac.org
SUMMARY:Family Connect Event
DESCRIPTION:The San Antonio Key Community is hosting a networking event at 8514 TX-151. \nThe venue will sell food and beverages at this venue.  For military professionals in transition and their families\, this ongoing event is an excellent place to build a network. \nTime:  Sept. 5\, 6:30-9 p.m. \nLocation:  8514 TX-151 \nShare this:Post
URL:https://miltrac.org/event/family-connect-event/
ATTACH;FMTTYPE=image/jpeg:https://miltrac.org/wp-content/uploads/2024/04/Key-Source.jpeg
END:VEVENT
BEGIN:VEVENT
DTSTART;TZID=America/Chicago:20240906T090000
DTEND;TZID=America/Chicago:20240906T103000
DTSTAMP:20260421T192959
CREATED:20240801T125327Z
LAST-MODIFIED:20250226T205825Z
UID:10000379-1725613200-1725618600@miltrac.org
SUMMARY:VFBA\, American Legion to host Updates to Medicare brief
DESCRIPTION:Post 460 of the American Legion in Castroville\, Texas\, will host a “Update to Medicare” briefing at  1305 Florella Street AT 9 a.m.   This is a chance for Medicare-eligible veterans and their families to learn about their options and costs for this government-funded program. \nLocation: American Legion Post 460\, 1305 Fiorella St\, Castroville\, TX 78009\nDate: 9/6/2024\, 9 – 10:30 am. \nShare this:Post
URL:https://miltrac.org/event/vfba-american-legion-to-host-updates-to-medicare-brief/
CATEGORIES:Texas Event
ATTACH;FMTTYPE=image/png:https://miltrac.org/wp-content/uploads/2024/08/medicare.png
END:VEVENT
BEGIN:VEVENT
DTSTART;TZID=America/Chicago:20240906T163000
DTEND;TZID=America/Chicago:20240906T173000
DTSTAMP:20260421T192959
CREATED:20240801T125755Z
LAST-MODIFIED:20240809T233722Z
UID:10000380-1725640200-1725643800@miltrac.org
SUMMARY:American Legion Post #2 to host Medicare briefing.
DESCRIPTION:Post 2 of the American  Legion will host an “Updates to Medicare” briefing at 4:30 p.m.  Veterans and their spouses who want more information should join the post at 3518 Fredericksburg Road. \nLocation: 3518 Fredericksburg Rd\, San Antonio\, TX 78201\nDate: 9/6/2024\, 4:30 – 5:30 pm \nShare this:Post
URL:https://miltrac.org/event/american-legion-post-2-to-host-medicare-briefing/
ATTACH;FMTTYPE=image/png:https://miltrac.org/wp-content/uploads/2024/08/medicare.png
END:VEVENT
BEGIN:VEVENT
DTSTART;TZID=America/Chicago:20240907T080000
DTEND;TZID=America/Chicago:20240907T170000
DTSTAMP:20260421T192959
CREATED:20240815T131450Z
LAST-MODIFIED:20240817T112828Z
UID:10000120-1725696000-1725728400@miltrac.org
SUMMARY:Join the American Legion for our monthly meeting
DESCRIPTION:The American Legion Post 10 will host its monthly breakfast meeting at 9 a.m.  The post meets at Lupe Tortilla Mexican Restaurant at 21103 US 281.  The post sponsors the community’s youth program including Scouting and the local junior ROTC program. \nTime:  Sept. 7\, 9 a.m. \nEvent address:  Lupe Tortilla Mexican Restaurant at 21103 US 281 \nShare this:Post
URL:https://miltrac.org/event/join-the-american-legion-for-our-monthly-meeting-2-2/
ATTACH;FMTTYPE=image/png:https://miltrac.org/wp-content/uploads/2024/07/press.release.png
END:VEVENT
BEGIN:VEVENT
DTSTART;TZID=America/Chicago:20240907T110000
DTEND;TZID=America/Chicago:20240907T120000
DTSTAMP:20260421T192959
CREATED:20240801T130316Z
LAST-MODIFIED:20240809T233901Z
UID:10000381-1725706800-1725710400@miltrac.org
SUMMARY:Post 828 to host "Medicare Benefits Update"
DESCRIPTION:Post 828 of the American  Legion will host an “Updates to Medicare” briefing at 4:30 p.m.  Veterans and their spouses who want more information should join the post at 3415 Martin Luther King Dr. \nLocation: American Legion Post 828\, 3415 Martin Luther King Dr\, San Antonio\, TX 78220\nDate: 9/7/2024\, 11 am – 12 pm \nShare this:Post
URL:https://miltrac.org/event/post-828-to-host-medicare-benefits-update/
ATTACH;FMTTYPE=image/png:https://miltrac.org/wp-content/uploads/2024/08/medicare.png
END:VEVENT
BEGIN:VEVENT
DTSTART;TZID=America/Chicago:20240907T113000
DTEND;TZID=America/Chicago:20240907T123000
DTSTAMP:20260421T192959
CREATED:20240801T130733Z
LAST-MODIFIED:20240809T235345Z
UID:10000382-1725708600-1725712200@miltrac.org
SUMMARY:Post 539 to host briefing on Medicare updates
DESCRIPTION:Post 539 of the American  Legion will host an “Updates to Medicare” briefing at 4:30 p.m.  Veterans and their spouses who want more information should join the post  at 14290 FM 1346. \nLocation: 14290 FM 1346\, St Hedwig\, TX 78152 \nDate: 9/07/2024\, 11:30 am – 12:30 pm \nShare this:Post
URL:https://miltrac.org/event/post-539-to-host-briefing-on-medicare-updates/
ATTACH;FMTTYPE=image/png:https://miltrac.org/wp-content/uploads/2024/08/medicare.png
END:VEVENT
BEGIN:VEVENT
DTSTART;TZID=America/Chicago:20240907T120000
DTEND;TZID=America/Chicago:20240907T160000
DTSTAMP:20260421T192959
CREATED:20240902T163053Z
LAST-MODIFIED:20240902T163053Z
UID:10000492-1725710400-1725724800@miltrac.org
SUMMARY:Free legacy photo offered to vets
DESCRIPTION:Join photographer Eric Bowden as he offers Veteran Legacy opportunities for those who have served in the military. \n“My hope is to honor those men and women who have served the military with a high-resolution photo to share with their families\,” Bowden said.  “In time\, I want to have a website and then a coffee table book.  Every veteran have made a difference.” \nVeterans can visit Eric Sept. 7 from 1-4 p.m. at Teddy Morse’s Cowboy Harley-Davidson\, 11005 I-35 Frontage Road\, San Antonio. \nTime:  Sept. 7\, noon-4 p.m. \nLocation:  Teddy Morse Cowboy Harley-Davidson\, 11005 I-35 Frontage Road. \nShare this:Post
URL:https://miltrac.org/event/free-legacy-photo-offered-to-vets/
ATTACH;FMTTYPE=image/png:https://miltrac.org/wp-content/uploads/2024/09/matt.v2.png
END:VEVENT
BEGIN:VEVENT
DTSTART;TZID=America/Chicago:20240908T080000
DTEND;TZID=America/Chicago:20240908T170000
DTSTAMP:20260421T192959
CREATED:20240723T112312Z
LAST-MODIFIED:20240723T112312Z
UID:10000129-1725782400-1725814800@miltrac.org
SUMMARY:It's time for a Buddy Check
DESCRIPTION:If  you served in the military\, you had a friend who had your back.  This was someone you could vent about things\, when something happened to upset  you. \nThe military\, as a rule\, doesn’t allow us to vent\, except for what our Navy colleagues call “shipmate” or Air Force term as their “wing man.” \nThat’s why we at MilTRAC are setting aside the second Sunday of every month to call those comrades in arm. \n  \nShare this:Post
URL:https://miltrac.org/event/its-time-for-a-buddy-check/2024-09-08/
ATTACH;FMTTYPE=image/png:https://miltrac.org/wp-content/uploads/2024/07/mentor.png
END:VEVENT
BEGIN:VEVENT
DTSTART;TZID=America/Chicago:20240908T130000
DTEND;TZID=America/Chicago:20240908T160000
DTSTAMP:20260421T192959
CREATED:20240902T164217Z
LAST-MODIFIED:20240902T164252Z
UID:10000493-1725800400-1725811200@miltrac.org
SUMMARY:Photographer offering free legacy photos for veterans
DESCRIPTION:Join photographer Eric Bowden as he is offering free photos for veterans. \nBowden wants to honor his father\, a vet\, who was murdered several years ago. \n“My hope is to honor those men and women who have served the military with a high-resolution photo to share with their families\,” Bowden said.  “In time\, I want to have a website and then a coffee table book.  Every veteran have made a difference.” \nVeterans can visit Eric Sept 8 from 1-4 p.m. at Caliente Harley Davidson\, 7230 Loop 410. \nShare this:Post
URL:https://miltrac.org/event/photographer-offering-free-legacy-photos-for-veterans/
ATTACH;FMTTYPE=image/png:https://miltrac.org/wp-content/uploads/2024/09/matt.v2.png
END:VEVENT
BEGIN:VEVENT
DTSTART;TZID=America/Chicago:20240909T000000
DTEND;TZID=America/Chicago:20240909T000000
DTSTAMP:20260421T192959
CREATED:20240818T213710Z
LAST-MODIFIED:20240819T094420Z
UID:10000413-1725840000-1725840000@miltrac.org
SUMMARY:Tulsa Toastmasters hosts virtual meeting for transitioning veterans
DESCRIPTION:Dr. Robby Hedricks\, one of our MilTRAC board of advisor and colleague\, believes Toastmasters International provides a wonderful opportunity to listen\, speak and manage meetings.  Most people think Toastmasters is about giving speeches\, but it’s also provides an opportunity to manage a meeting and to listen for “ahs.” \nFor military professionals in transition\, Toastmasters provides a wonderful opportunity to improve on a variety of communication skills. \nHis Tulsa\, Okla.\, group meets virtually and has visitors from all over the world take part. \nWant to know more about Toastmasters?  You can find out more at this link. \nMeanwhile\, Hedricks welcomes military members and their families to his Monday event.  (Note:  Zoom link is below.) \nTime:  Mondays\, (except holidays)  6:30 p.m. \nZoom link. \n  \nShare this:Post
URL:https://miltrac.org/event/toastmasters-acts-as-a-good-training-point-for-those-in-transition/2024-09-09/
ATTACH;FMTTYPE=image/png:https://miltrac.org/wp-content/uploads/2024/08/toastmasters.png
END:VEVENT
END:VCALENDAR