BEGIN:VCALENDAR
VERSION:2.0
PRODID:-//MilTRAC - ECPv6.15.20//NONSGML v1.0//EN
CALSCALE:GREGORIAN
METHOD:PUBLISH
X-ORIGINAL-URL:https://miltrac.org
X-WR-CALDESC:Events for MilTRAC
REFRESH-INTERVAL;VALUE=DURATION:PT1H
X-Robots-Tag:noindex
X-PUBLISHED-TTL:PT1H
BEGIN:VTIMEZONE
TZID:America/Chicago
BEGIN:DAYLIGHT
TZOFFSETFROM:-0600
TZOFFSETTO:-0500
TZNAME:CDT
DTSTART:20260308T080000
END:DAYLIGHT
BEGIN:STANDARD
TZOFFSETFROM:-0500
TZOFFSETTO:-0600
TZNAME:CST
DTSTART:20261101T070000
END:STANDARD
BEGIN:DAYLIGHT
TZOFFSETFROM:-0600
TZOFFSETTO:-0500
TZNAME:CDT
DTSTART:20270314T080000
END:DAYLIGHT
BEGIN:STANDARD
TZOFFSETFROM:-0500
TZOFFSETTO:-0600
TZNAME:CST
DTSTART:20271107T070000
END:STANDARD
BEGIN:DAYLIGHT
TZOFFSETFROM:-0600
TZOFFSETTO:-0500
TZNAME:CDT
DTSTART:20280312T080000
END:DAYLIGHT
BEGIN:STANDARD
TZOFFSETFROM:-0500
TZOFFSETTO:-0600
TZNAME:CST
DTSTART:20281105T070000
END:STANDARD
END:VTIMEZONE
BEGIN:VEVENT
DTSTART;TZID=America/Chicago:20270831T060000
DTEND;TZID=America/Chicago:20270831T060000
DTSTAMP:20260422T232314
CREATED:20250428T102421Z
LAST-MODIFIED:20250428T103410Z
UID:10001159-1819692000-1819692000@miltrac.org
SUMMARY:MILCountry Meetup
DESCRIPTION:Live outside of San Antonio near Bulverde and New Braunfels and want to network with other military professionals? \nJoin others at MILCountry Meetup.  The event is held  at the District\, 15000 Texas-46 on the last Friday of every month. \n“This is where the Military City USA meets the Texas Hill Country\,” said Stephan Porter\, the event’s organizer noted in a post. \nTime:  May 30\, 7 to 10 p.m. \nAddress:  15000 Texas 46\, Spring Branch \n  \nShare this:Post
URL:https://miltrac.org/event/milcountry-meetup-2/2027-08-31/
CATEGORIES:JBSA,Texas
ATTACH;FMTTYPE=image/png:https://miltrac.org/wp-content/uploads/2025/04/milcountry.in_.png
END:VEVENT
BEGIN:VEVENT
DTSTART;TZID=America/Chicago:20270902T073000
DTEND;TZID=America/Chicago:20270902T080000
DTSTAMP:20260422T232314
CREATED:20250510T190717Z
LAST-MODIFIED:20250510T191001Z
UID:10001453-1819870200-1819872000@miltrac.org
SUMMARY:Morning breath workshop
DESCRIPTION:The Veteran Spouse Network hosts a virtual ‘Morning Breath Work” webinar. \nTime:  Each Thursday\, 7:30 p.m.  This program is geared for military spouses of active duty and retirees. \nRegistration:  Please click on the graphic below. \n \n  \nShare this:Post
URL:https://miltrac.org/event/morning-breath-work-workshop/2027-09-02/
END:VEVENT
BEGIN:VEVENT
DTSTART;TZID=America/Chicago:20270905T150000
DTEND;TZID=America/Chicago:20270905T170000
DTSTAMP:20260422T232314
CREATED:20241028T111339Z
LAST-MODIFIED:20241028T111339Z
UID:10000764-1820156400-1820163600@miltrac.org
SUMMARY:VFW Post 8541 Sick Call
DESCRIPTION:VFW Post 8541 hosts a sick call for homeless veterans. \nTime:  Nov. 3\, 3-5 p.m. \nLocation:  VFW Post 8541\, 2222 Austin Highway\, San Antonio \nShare this:Post
URL:https://miltrac.org/event/vfw-post-8541-sick-call/2027-09-05/
ATTACH;FMTTYPE=image/png:https://miltrac.org/wp-content/uploads/2024/10/sick.call_.png
END:VEVENT
BEGIN:VEVENT
DTSTART;TZID=America/Chicago:20270907T190000
DTEND;TZID=America/Chicago:20270907T210000
DTSTAMP:20260422T232314
CREATED:20250430T232451Z
LAST-MODIFIED:20250430T233707Z
UID:10001206-1820343600-1820350800@miltrac.org
SUMMARY:Join the American Legion riders in Bexar County
DESCRIPTION:Post 593 of the American Legion Riders meets the first and second Tuesday at the organization’s canteen. \nAccording to Ed Richards\, an active American Legion rider\, the post plans rallies and other rides throughout the year. \nRichards\, an Army NCO\, can attest to the value of these rides in what he calls roadside therapy for his PTSD conditions. \nRELATED:  Legacy Run:  Healing on the Road \nPost 593 directions \n\n  \nShare this:Post
URL:https://miltrac.org/event/join-the-american-legion-riders-in-bexar-county/2027-09-07/
ATTACH;FMTTYPE=image/png:https://miltrac.org/wp-content/uploads/2025/04/american.legion.riders.png
END:VEVENT
BEGIN:VEVENT
DTSTART;TZID=America/Chicago:20270909T073000
DTEND;TZID=America/Chicago:20270909T080000
DTSTAMP:20260422T232314
CREATED:20250510T190717Z
LAST-MODIFIED:20250510T191001Z
UID:10001454-1820475000-1820476800@miltrac.org
SUMMARY:Morning breath workshop
DESCRIPTION:The Veteran Spouse Network hosts a virtual ‘Morning Breath Work” webinar. \nTime:  Each Thursday\, 7:30 p.m.  This program is geared for military spouses of active duty and retirees. \nRegistration:  Please click on the graphic below. \n \n  \nShare this:Post
URL:https://miltrac.org/event/morning-breath-work-workshop/2027-09-09/
END:VEVENT
BEGIN:VEVENT
DTSTART;TZID=America/Chicago:20270912T080000
DTEND;TZID=America/Chicago:20270912T170000
DTSTAMP:20260422T232314
CREATED:20240723T112312Z
LAST-MODIFIED:20240723T112312Z
UID:10000165-1820736000-1820768400@miltrac.org
SUMMARY:It's time for a Buddy Check
DESCRIPTION:If  you served in the military\, you had a friend who had your back.  This was someone you could vent about things\, when something happened to upset  you. \nThe military\, as a rule\, doesn’t allow us to vent\, except for what our Navy colleagues call “shipmate” or Air Force term as their “wing man.” \nThat’s why we at MilTRAC are setting aside the second Sunday of every month to call those comrades in arm. \n  \nShare this:Post
URL:https://miltrac.org/event/its-time-for-a-buddy-check/2027-09-12/
ATTACH;FMTTYPE=image/png:https://miltrac.org/wp-content/uploads/2024/07/mentor.png
END:VEVENT
BEGIN:VEVENT
DTSTART;TZID=America/Chicago:20270912T150000
DTEND;TZID=America/Chicago:20270912T170000
DTSTAMP:20260422T232314
CREATED:20241028T111339Z
LAST-MODIFIED:20241028T111339Z
UID:10000765-1820761200-1820768400@miltrac.org
SUMMARY:VFW Post 8541 Sick Call
DESCRIPTION:VFW Post 8541 hosts a sick call for homeless veterans. \nTime:  Nov. 3\, 3-5 p.m. \nLocation:  VFW Post 8541\, 2222 Austin Highway\, San Antonio \nShare this:Post
URL:https://miltrac.org/event/vfw-post-8541-sick-call/2027-09-12/
ATTACH;FMTTYPE=image/png:https://miltrac.org/wp-content/uploads/2024/10/sick.call_.png
END:VEVENT
BEGIN:VEVENT
DTSTART;TZID=America/Chicago:20270914T190000
DTEND;TZID=America/Chicago:20270914T210000
DTSTAMP:20260422T232314
CREATED:20250430T233315Z
LAST-MODIFIED:20250430T233514Z
UID:10001266-1820948400-1820955600@miltrac.org
SUMMARY:American Legion riders meeting
DESCRIPTION:The American Legion Riders meet on the second Tuesday of the month from 7 to 9 p.m. at 326 Legion Drive W in Converse\, Texas. \nEd Richards\, an retired Army NCO\, said the Riders welcome veterans and others.  Veterans are asked to join an American Legion post.  Non-veterans can also join as an auxiliary member.  If they are the son or daughter of a veteran\, they can also join the post Sons of the American Legion as well. \nPost 593 address \nRELATED:  Legacy Run: Healing on the Run \n \n  \nShare this:Post
URL:https://miltrac.org/event/american-legion-riders-meeting/2027-09-14/
ATTACH;FMTTYPE=image/png:https://miltrac.org/wp-content/uploads/2025/04/american.legion.riders.png
END:VEVENT
BEGIN:VEVENT
DTSTART;TZID=America/Chicago:20270916T073000
DTEND;TZID=America/Chicago:20270916T080000
DTSTAMP:20260422T232314
CREATED:20250510T190717Z
LAST-MODIFIED:20250510T191001Z
UID:10001455-1821079800-1821081600@miltrac.org
SUMMARY:Morning breath workshop
DESCRIPTION:The Veteran Spouse Network hosts a virtual ‘Morning Breath Work” webinar. \nTime:  Each Thursday\, 7:30 p.m.  This program is geared for military spouses of active duty and retirees. \nRegistration:  Please click on the graphic below. \n \n  \nShare this:Post
URL:https://miltrac.org/event/morning-breath-work-workshop/2027-09-16/
END:VEVENT
BEGIN:VEVENT
DTSTART;TZID=America/Chicago:20270919T150000
DTEND;TZID=America/Chicago:20270919T170000
DTSTAMP:20260422T232314
CREATED:20241028T111339Z
LAST-MODIFIED:20241028T111339Z
UID:10000766-1821366000-1821373200@miltrac.org
SUMMARY:VFW Post 8541 Sick Call
DESCRIPTION:VFW Post 8541 hosts a sick call for homeless veterans. \nTime:  Nov. 3\, 3-5 p.m. \nLocation:  VFW Post 8541\, 2222 Austin Highway\, San Antonio \nShare this:Post
URL:https://miltrac.org/event/vfw-post-8541-sick-call/2027-09-19/
ATTACH;FMTTYPE=image/png:https://miltrac.org/wp-content/uploads/2024/10/sick.call_.png
END:VEVENT
BEGIN:VEVENT
DTSTART;TZID=America/Chicago:20270923T073000
DTEND;TZID=America/Chicago:20270923T080000
DTSTAMP:20260422T232314
CREATED:20250510T190717Z
LAST-MODIFIED:20250510T191001Z
UID:10001456-1821684600-1821686400@miltrac.org
SUMMARY:Morning breath workshop
DESCRIPTION:The Veteran Spouse Network hosts a virtual ‘Morning Breath Work” webinar. \nTime:  Each Thursday\, 7:30 p.m.  This program is geared for military spouses of active duty and retirees. \nRegistration:  Please click on the graphic below. \n \n  \nShare this:Post
URL:https://miltrac.org/event/morning-breath-work-workshop/2027-09-23/
END:VEVENT
BEGIN:VEVENT
DTSTART;TZID=America/Chicago:20270924T180000
DTEND;TZID=America/Chicago:20270924T210000
DTSTAMP:20260422T232314
CREATED:20240723T190904Z
LAST-MODIFIED:20240723T235556Z
UID:10000286-1821808800-1821819600@miltrac.org
SUMMARY:Please Join Us to support the American Legion Riders fund raiser
DESCRIPTION:The American Legion Riders at Post 309\, 8795 FM-1560 in Helotes\, will host a pork chop dinner to support their mission to help and honor veterans.  The cost for a one-inch pork chop\, with a baked potato\, a vegetable\, salad\, roll and desert is $20. \n  \nShare this:Post
URL:https://miltrac.org/event/please-join-us-to-support-the-american-legion-riders-program/2027-09-24/
ATTACH;FMTTYPE=image/png:https://miltrac.org/wp-content/uploads/2024/07/pork.choip_.png
END:VEVENT
BEGIN:VEVENT
DTSTART;TZID=America/Chicago:20270926T150000
DTEND;TZID=America/Chicago:20270926T170000
DTSTAMP:20260422T232314
CREATED:20241028T111339Z
LAST-MODIFIED:20241028T111339Z
UID:10000767-1821970800-1821978000@miltrac.org
SUMMARY:VFW Post 8541 Sick Call
DESCRIPTION:VFW Post 8541 hosts a sick call for homeless veterans. \nTime:  Nov. 3\, 3-5 p.m. \nLocation:  VFW Post 8541\, 2222 Austin Highway\, San Antonio \nShare this:Post
URL:https://miltrac.org/event/vfw-post-8541-sick-call/2027-09-26/
ATTACH;FMTTYPE=image/png:https://miltrac.org/wp-content/uploads/2024/10/sick.call_.png
END:VEVENT
BEGIN:VEVENT
DTSTART;TZID=America/Chicago:20270930T073000
DTEND;TZID=America/Chicago:20270930T080000
DTSTAMP:20260422T232314
CREATED:20250510T190717Z
LAST-MODIFIED:20250510T191001Z
UID:10001457-1822289400-1822291200@miltrac.org
SUMMARY:Morning breath workshop
DESCRIPTION:The Veteran Spouse Network hosts a virtual ‘Morning Breath Work” webinar. \nTime:  Each Thursday\, 7:30 p.m.  This program is geared for military spouses of active duty and retirees. \nRegistration:  Please click on the graphic below. \n \n  \nShare this:Post
URL:https://miltrac.org/event/morning-breath-work-workshop/2027-09-30/
END:VEVENT
BEGIN:VEVENT
DTSTART;TZID=America/Chicago:20271003T150000
DTEND;TZID=America/Chicago:20271003T170000
DTSTAMP:20260422T232314
CREATED:20241028T111339Z
LAST-MODIFIED:20241028T111339Z
UID:10000768-1822575600-1822582800@miltrac.org
SUMMARY:VFW Post 8541 Sick Call
DESCRIPTION:VFW Post 8541 hosts a sick call for homeless veterans. \nTime:  Nov. 3\, 3-5 p.m. \nLocation:  VFW Post 8541\, 2222 Austin Highway\, San Antonio \nShare this:Post
URL:https://miltrac.org/event/vfw-post-8541-sick-call/2027-10-03/
ATTACH;FMTTYPE=image/png:https://miltrac.org/wp-content/uploads/2024/10/sick.call_.png
END:VEVENT
BEGIN:VEVENT
DTSTART;TZID=America/Chicago:20271005T190000
DTEND;TZID=America/Chicago:20271005T210000
DTSTAMP:20260422T232314
CREATED:20250430T232451Z
LAST-MODIFIED:20250430T233707Z
UID:10001207-1822762800-1822770000@miltrac.org
SUMMARY:Join the American Legion riders in Bexar County
DESCRIPTION:Post 593 of the American Legion Riders meets the first and second Tuesday at the organization’s canteen. \nAccording to Ed Richards\, an active American Legion rider\, the post plans rallies and other rides throughout the year. \nRichards\, an Army NCO\, can attest to the value of these rides in what he calls roadside therapy for his PTSD conditions. \nRELATED:  Legacy Run:  Healing on the Road \nPost 593 directions \n\n  \nShare this:Post
URL:https://miltrac.org/event/join-the-american-legion-riders-in-bexar-county/2027-10-05/
ATTACH;FMTTYPE=image/png:https://miltrac.org/wp-content/uploads/2025/04/american.legion.riders.png
END:VEVENT
BEGIN:VEVENT
DTSTART;TZID=America/Chicago:20271007T073000
DTEND;TZID=America/Chicago:20271007T080000
DTSTAMP:20260422T232314
CREATED:20250510T190717Z
LAST-MODIFIED:20250510T191001Z
UID:10001458-1822894200-1822896000@miltrac.org
SUMMARY:Morning breath workshop
DESCRIPTION:The Veteran Spouse Network hosts a virtual ‘Morning Breath Work” webinar. \nTime:  Each Thursday\, 7:30 p.m.  This program is geared for military spouses of active duty and retirees. \nRegistration:  Please click on the graphic below. \n \n  \nShare this:Post
URL:https://miltrac.org/event/morning-breath-work-workshop/2027-10-07/
END:VEVENT
BEGIN:VEVENT
DTSTART;TZID=America/Chicago:20271010T080000
DTEND;TZID=America/Chicago:20271010T170000
DTSTAMP:20260422T232314
CREATED:20240723T112312Z
LAST-MODIFIED:20240723T112312Z
UID:10000166-1823155200-1823187600@miltrac.org
SUMMARY:It's time for a Buddy Check
DESCRIPTION:If  you served in the military\, you had a friend who had your back.  This was someone you could vent about things\, when something happened to upset  you. \nThe military\, as a rule\, doesn’t allow us to vent\, except for what our Navy colleagues call “shipmate” or Air Force term as their “wing man.” \nThat’s why we at MilTRAC are setting aside the second Sunday of every month to call those comrades in arm. \n  \nShare this:Post
URL:https://miltrac.org/event/its-time-for-a-buddy-check/2027-10-10/
ATTACH;FMTTYPE=image/png:https://miltrac.org/wp-content/uploads/2024/07/mentor.png
END:VEVENT
BEGIN:VEVENT
DTSTART;TZID=America/Chicago:20271010T150000
DTEND;TZID=America/Chicago:20271010T170000
DTSTAMP:20260422T232314
CREATED:20241028T111339Z
LAST-MODIFIED:20241028T111339Z
UID:10000769-1823180400-1823187600@miltrac.org
SUMMARY:VFW Post 8541 Sick Call
DESCRIPTION:VFW Post 8541 hosts a sick call for homeless veterans. \nTime:  Nov. 3\, 3-5 p.m. \nLocation:  VFW Post 8541\, 2222 Austin Highway\, San Antonio \nShare this:Post
URL:https://miltrac.org/event/vfw-post-8541-sick-call/2027-10-10/
ATTACH;FMTTYPE=image/png:https://miltrac.org/wp-content/uploads/2024/10/sick.call_.png
END:VEVENT
BEGIN:VEVENT
DTSTART;TZID=America/Chicago:20271012T190000
DTEND;TZID=America/Chicago:20271012T210000
DTSTAMP:20260422T232314
CREATED:20250430T233315Z
LAST-MODIFIED:20250430T233514Z
UID:10001267-1823367600-1823374800@miltrac.org
SUMMARY:American Legion riders meeting
DESCRIPTION:The American Legion Riders meet on the second Tuesday of the month from 7 to 9 p.m. at 326 Legion Drive W in Converse\, Texas. \nEd Richards\, an retired Army NCO\, said the Riders welcome veterans and others.  Veterans are asked to join an American Legion post.  Non-veterans can also join as an auxiliary member.  If they are the son or daughter of a veteran\, they can also join the post Sons of the American Legion as well. \nPost 593 address \nRELATED:  Legacy Run: Healing on the Run \n \n  \nShare this:Post
URL:https://miltrac.org/event/american-legion-riders-meeting/2027-10-12/
ATTACH;FMTTYPE=image/png:https://miltrac.org/wp-content/uploads/2025/04/american.legion.riders.png
END:VEVENT
BEGIN:VEVENT
DTSTART;TZID=America/Chicago:20271014T073000
DTEND;TZID=America/Chicago:20271014T080000
DTSTAMP:20260422T232314
CREATED:20250510T190717Z
LAST-MODIFIED:20250510T191001Z
UID:10001459-1823499000-1823500800@miltrac.org
SUMMARY:Morning breath workshop
DESCRIPTION:The Veteran Spouse Network hosts a virtual ‘Morning Breath Work” webinar. \nTime:  Each Thursday\, 7:30 p.m.  This program is geared for military spouses of active duty and retirees. \nRegistration:  Please click on the graphic below. \n \n  \nShare this:Post
URL:https://miltrac.org/event/morning-breath-work-workshop/2027-10-14/
END:VEVENT
BEGIN:VEVENT
DTSTART;TZID=America/Chicago:20271017T150000
DTEND;TZID=America/Chicago:20271017T170000
DTSTAMP:20260422T232314
CREATED:20241028T111339Z
LAST-MODIFIED:20241028T111339Z
UID:10000770-1823785200-1823792400@miltrac.org
SUMMARY:VFW Post 8541 Sick Call
DESCRIPTION:VFW Post 8541 hosts a sick call for homeless veterans. \nTime:  Nov. 3\, 3-5 p.m. \nLocation:  VFW Post 8541\, 2222 Austin Highway\, San Antonio \nShare this:Post
URL:https://miltrac.org/event/vfw-post-8541-sick-call/2027-10-17/
ATTACH;FMTTYPE=image/png:https://miltrac.org/wp-content/uploads/2024/10/sick.call_.png
END:VEVENT
BEGIN:VEVENT
DTSTART;TZID=America/Chicago:20271021T073000
DTEND;TZID=America/Chicago:20271021T080000
DTSTAMP:20260422T232314
CREATED:20250510T190717Z
LAST-MODIFIED:20250510T191001Z
UID:10001460-1824103800-1824105600@miltrac.org
SUMMARY:Morning breath workshop
DESCRIPTION:The Veteran Spouse Network hosts a virtual ‘Morning Breath Work” webinar. \nTime:  Each Thursday\, 7:30 p.m.  This program is geared for military spouses of active duty and retirees. \nRegistration:  Please click on the graphic below. \n \n  \nShare this:Post
URL:https://miltrac.org/event/morning-breath-work-workshop/2027-10-21/
END:VEVENT
BEGIN:VEVENT
DTSTART;TZID=America/Chicago:20271022T180000
DTEND;TZID=America/Chicago:20271022T210000
DTSTAMP:20260422T232314
CREATED:20240723T190904Z
LAST-MODIFIED:20240723T235556Z
UID:10000287-1824228000-1824238800@miltrac.org
SUMMARY:Please Join Us to support the American Legion Riders fund raiser
DESCRIPTION:The American Legion Riders at Post 309\, 8795 FM-1560 in Helotes\, will host a pork chop dinner to support their mission to help and honor veterans.  The cost for a one-inch pork chop\, with a baked potato\, a vegetable\, salad\, roll and desert is $20. \n  \nShare this:Post
URL:https://miltrac.org/event/please-join-us-to-support-the-american-legion-riders-program/2027-10-22/
ATTACH;FMTTYPE=image/png:https://miltrac.org/wp-content/uploads/2024/07/pork.choip_.png
END:VEVENT
BEGIN:VEVENT
DTSTART;TZID=America/Chicago:20271024T150000
DTEND;TZID=America/Chicago:20271024T170000
DTSTAMP:20260422T232314
CREATED:20241028T111339Z
LAST-MODIFIED:20241028T111339Z
UID:10000771-1824390000-1824397200@miltrac.org
SUMMARY:VFW Post 8541 Sick Call
DESCRIPTION:VFW Post 8541 hosts a sick call for homeless veterans. \nTime:  Nov. 3\, 3-5 p.m. \nLocation:  VFW Post 8541\, 2222 Austin Highway\, San Antonio \nShare this:Post
URL:https://miltrac.org/event/vfw-post-8541-sick-call/2027-10-24/
ATTACH;FMTTYPE=image/png:https://miltrac.org/wp-content/uploads/2024/10/sick.call_.png
END:VEVENT
BEGIN:VEVENT
DTSTART;TZID=America/Chicago:20271028T073000
DTEND;TZID=America/Chicago:20271028T080000
DTSTAMP:20260422T232314
CREATED:20250510T190717Z
LAST-MODIFIED:20250510T191001Z
UID:10001461-1824708600-1824710400@miltrac.org
SUMMARY:Morning breath workshop
DESCRIPTION:The Veteran Spouse Network hosts a virtual ‘Morning Breath Work” webinar. \nTime:  Each Thursday\, 7:30 p.m.  This program is geared for military spouses of active duty and retirees. \nRegistration:  Please click on the graphic below. \n \n  \nShare this:Post
URL:https://miltrac.org/event/morning-breath-work-workshop/2027-10-28/
END:VEVENT
BEGIN:VEVENT
DTSTART;TZID=America/Chicago:20271031T060000
DTEND;TZID=America/Chicago:20271031T060000
DTSTAMP:20260422T232314
CREATED:20250428T102421Z
LAST-MODIFIED:20250428T103410Z
UID:10001160-1824962400-1824962400@miltrac.org
SUMMARY:MILCountry Meetup
DESCRIPTION:Live outside of San Antonio near Bulverde and New Braunfels and want to network with other military professionals? \nJoin others at MILCountry Meetup.  The event is held  at the District\, 15000 Texas-46 on the last Friday of every month. \n“This is where the Military City USA meets the Texas Hill Country\,” said Stephan Porter\, the event’s organizer noted in a post. \nTime:  May 30\, 7 to 10 p.m. \nAddress:  15000 Texas 46\, Spring Branch \n  \nShare this:Post
URL:https://miltrac.org/event/milcountry-meetup-2/2027-10-31/
CATEGORIES:JBSA,Texas
ATTACH;FMTTYPE=image/png:https://miltrac.org/wp-content/uploads/2025/04/milcountry.in_.png
END:VEVENT
BEGIN:VEVENT
DTSTART;TZID=America/Chicago:20271031T150000
DTEND;TZID=America/Chicago:20271031T170000
DTSTAMP:20260422T232314
CREATED:20241028T111339Z
LAST-MODIFIED:20241028T111339Z
UID:10000772-1824994800-1825002000@miltrac.org
SUMMARY:VFW Post 8541 Sick Call
DESCRIPTION:VFW Post 8541 hosts a sick call for homeless veterans. \nTime:  Nov. 3\, 3-5 p.m. \nLocation:  VFW Post 8541\, 2222 Austin Highway\, San Antonio \nShare this:Post
URL:https://miltrac.org/event/vfw-post-8541-sick-call/2027-10-31/
ATTACH;FMTTYPE=image/png:https://miltrac.org/wp-content/uploads/2024/10/sick.call_.png
END:VEVENT
BEGIN:VEVENT
DTSTART;TZID=America/Chicago:20271102T190000
DTEND;TZID=America/Chicago:20271102T210000
DTSTAMP:20260422T232314
CREATED:20250430T232451Z
LAST-MODIFIED:20250430T233707Z
UID:10001208-1825182000-1825189200@miltrac.org
SUMMARY:Join the American Legion riders in Bexar County
DESCRIPTION:Post 593 of the American Legion Riders meets the first and second Tuesday at the organization’s canteen. \nAccording to Ed Richards\, an active American Legion rider\, the post plans rallies and other rides throughout the year. \nRichards\, an Army NCO\, can attest to the value of these rides in what he calls roadside therapy for his PTSD conditions. \nRELATED:  Legacy Run:  Healing on the Road \nPost 593 directions \n\n  \nShare this:Post
URL:https://miltrac.org/event/join-the-american-legion-riders-in-bexar-county/2027-11-02/
ATTACH;FMTTYPE=image/png:https://miltrac.org/wp-content/uploads/2025/04/american.legion.riders.png
END:VEVENT
BEGIN:VEVENT
DTSTART;TZID=America/Chicago:20271104T073000
DTEND;TZID=America/Chicago:20271104T080000
DTSTAMP:20260422T232314
CREATED:20250510T190717Z
LAST-MODIFIED:20250510T191001Z
UID:10001462-1825313400-1825315200@miltrac.org
SUMMARY:Morning breath workshop
DESCRIPTION:The Veteran Spouse Network hosts a virtual ‘Morning Breath Work” webinar. \nTime:  Each Thursday\, 7:30 p.m.  This program is geared for military spouses of active duty and retirees. \nRegistration:  Please click on the graphic below. \n \n  \nShare this:Post
URL:https://miltrac.org/event/morning-breath-work-workshop/2027-11-04/
END:VEVENT
END:VCALENDAR