BEGIN:VCALENDAR
VERSION:2.0
PRODID:-//MilTRAC - ECPv6.15.20//NONSGML v1.0//EN
CALSCALE:GREGORIAN
METHOD:PUBLISH
X-WR-CALNAME:MilTRAC
X-ORIGINAL-URL:https://miltrac.org
X-WR-CALDESC:Events for MilTRAC
REFRESH-INTERVAL;VALUE=DURATION:PT1H
X-Robots-Tag:noindex
X-PUBLISHED-TTL:PT1H
BEGIN:VTIMEZONE
TZID:America/Chicago
BEGIN:DAYLIGHT
TZOFFSETFROM:-0600
TZOFFSETTO:-0500
TZNAME:CDT
DTSTART:20240310T080000
END:DAYLIGHT
BEGIN:STANDARD
TZOFFSETFROM:-0500
TZOFFSETTO:-0600
TZNAME:CST
DTSTART:20241103T070000
END:STANDARD
BEGIN:DAYLIGHT
TZOFFSETFROM:-0600
TZOFFSETTO:-0500
TZNAME:CDT
DTSTART:20250309T080000
END:DAYLIGHT
BEGIN:STANDARD
TZOFFSETFROM:-0500
TZOFFSETTO:-0600
TZNAME:CST
DTSTART:20251102T070000
END:STANDARD
BEGIN:DAYLIGHT
TZOFFSETFROM:-0600
TZOFFSETTO:-0500
TZNAME:CDT
DTSTART:20260308T080000
END:DAYLIGHT
BEGIN:STANDARD
TZOFFSETFROM:-0500
TZOFFSETTO:-0600
TZNAME:CST
DTSTART:20261101T070000
END:STANDARD
END:VTIMEZONE
BEGIN:VEVENT
DTSTART;TZID=America/Chicago:20251107T180000
DTEND;TZID=America/Chicago:20251107T210000
DTSTAMP:20260420T004454
CREATED:20250919T195350Z
LAST-MODIFIED:20250919T195350Z
UID:10001994-1762538400-1762549200@miltrac.org
SUMMARY:Spirit of America Dinner
DESCRIPTION:Date: Nov 7\nTime: 6:00 – 9:00 p.m.\nLocation: Tobin Center for the Performing Arts\, 100 Auditorium Circle\, San Antonio\, TX 78205\, \nJoin military and community members as we kick-off the 54th Annual Celebrate America’s Military events with the Greater San Antonio Chamber’s Spirit of America Dinner. Throughout this incredible evening\, we will honor the accomplishments and sacrifices of the U.S. Armed Forces and show a grateful nation’s appreciation for the past\, present\, and future Airmen\, Soldiers\, Sailors\, Marines\, Coast Guardsmen\, and Guardians. \nThis patriotic celebration includes a cocktail reception\, an elegant dinner\, entertainment\, and an inspiring keynote address from Ryan Manion\, CEO of the Travis Manion Foundation. \nYou won’t want to miss this opportunity to personally thank our service men\, women\, and veterans for their service to our nation and showcase your business support of them year-round. \nShare this:Post
URL:https://miltrac.org/event/spirit-of-america-dinner/
ATTACH;FMTTYPE=image/jpeg:https://miltrac.org/wp-content/uploads/2025/09/Soa-Dinner.jpg
END:VEVENT
BEGIN:VEVENT
DTSTART;TZID=America/Chicago:20251108T110000
DTEND;TZID=America/Chicago:20251108T180000
DTSTAMP:20260420T004454
CREATED:20250919T201125Z
LAST-MODIFIED:20250919T201125Z
UID:10001997-1762599600-1762624800@miltrac.org
SUMMARY:SA Veterans Day at Hemisfair
DESCRIPTION:Date: Nov 8\nTime: 11:00 a.m. – 6:00 p.m.\nLocation: Civic Park at Hemisfair\, 210 S Alamo St\, San Antonio\, TX 78205 \nThis free\, family-friendly event honors the veterans of today and tomorrow with live entertainment and interactive activities for the whole family. The day kicks off with a Fun Run 5K from 9:00 AM to 11:00 AM\, inviting participants of all ages to show their support ahead of the main festivities. \nAt 1:00 PM\, a special Veterans Day Ceremony will feature a presentation of the colors\, remarks from community leaders\, and a commemorative military flyover. \nThroughout the afternoon\, guests can enjoy live music\, great food and drinks\, and engaging entertainment\, all at no cost\, while connecting with veteran-supporting organizations offering resources and services. \nJoin Military City USA® in celebrating our veterans with a day of appreciation\, unity\, and gratitude in the heart of downtown San Antonio. \n\n\n\n\n\n\nShare this:Post
URL:https://miltrac.org/event/sa-veterans-day-at-hemisfair-2/
ATTACH;FMTTYPE=image/jpeg:https://miltrac.org/wp-content/uploads/2025/09/scaled_512-4.jpg
END:VEVENT
BEGIN:VEVENT
DTSTART;TZID=America/Chicago:20251108T120000
DTEND;TZID=America/Chicago:20251108T140000
DTSTAMP:20260420T004454
CREATED:20250919T202411Z
LAST-MODIFIED:20250919T202411Z
UID:10002000-1762603200-1762610400@miltrac.org
SUMMARY:San Antonio Veterans Day Parade
DESCRIPTION:Date: Nov 8\nTime: 12:00 – 2:00 p.m.\nLocation: Milam Park\, 500 West Commerce Street\, San Antonio\, TX 78207\, USA  \nWelcome to the United States Military Parade Association’s Veterans Day Parade \nWe proudly invite you to join us in honoring America’s heroes at the Veterans Day Parade on Saturday\, November 8\, 2025\, in the heart of San Antonio\, Texas. \nThis powerful tribute brings together veterans\, active-duty military\, families\, and patriotic citizens in a moving celebration of service\, sacrifice\, and unity. With colorful floats\, marching bands\, military units\, and community organizations\, the parade stands as a heartfelt salute to all who have served. \nWhether you’re participating\, attending\, or supporting from afar—your presence makes a difference. Together\, we stand strong in gratitude and respect for our nation’s defenders. \nMark your calendars. Rally your community. Celebrate our heroes. \nWelcome to a tradition of honor and pride. \nShare this:Post
URL:https://miltrac.org/event/san-antonio-veterans-day-parade/
ATTACH;FMTTYPE=image/jpeg:https://miltrac.org/wp-content/uploads/2025/09/scaled_512-6.jpg
END:VEVENT
BEGIN:VEVENT
DTSTART;TZID=America/Chicago:20251109T080000
DTEND;TZID=America/Chicago:20251109T170000
DTSTAMP:20260420T004454
CREATED:20240723T112312Z
LAST-MODIFIED:20240723T112312Z
UID:10000143-1762675200-1762707600@miltrac.org
SUMMARY:It's time for a Buddy Check
DESCRIPTION:If  you served in the military\, you had a friend who had your back.  This was someone you could vent about things\, when something happened to upset  you. \nThe military\, as a rule\, doesn’t allow us to vent\, except for what our Navy colleagues call “shipmate” or Air Force term as their “wing man.” \nThat’s why we at MilTRAC are setting aside the second Sunday of every month to call those comrades in arm. \n  \nShare this:Post
URL:https://miltrac.org/event/its-time-for-a-buddy-check/2025-11-09/
ATTACH;FMTTYPE=image/png:https://miltrac.org/wp-content/uploads/2024/07/mentor.png
END:VEVENT
BEGIN:VEVENT
DTSTART;TZID=America/Chicago:20251109T150000
DTEND;TZID=America/Chicago:20251109T170000
DTSTAMP:20260420T004454
CREATED:20241028T111339Z
LAST-MODIFIED:20241028T111339Z
UID:10000669-1762700400-1762707600@miltrac.org
SUMMARY:VFW Post 8541 Sick Call
DESCRIPTION:VFW Post 8541 hosts a sick call for homeless veterans. \nTime:  Nov. 3\, 3-5 p.m. \nLocation:  VFW Post 8541\, 2222 Austin Highway\, San Antonio \nShare this:Post
URL:https://miltrac.org/event/vfw-post-8541-sick-call/2025-11-09/
ATTACH;FMTTYPE=image/png:https://miltrac.org/wp-content/uploads/2024/10/sick.call_.png
END:VEVENT
BEGIN:VEVENT
DTSTART;TZID=America/Chicago:20251111T110000
DTEND;TZID=America/Chicago:20251111T113000
DTSTAMP:20260420T004454
CREATED:20250919T195840Z
LAST-MODIFIED:20250919T195840Z
UID:10001995-1762858800-1762860600@miltrac.org
SUMMARY:BEXAR COUNTY BUFFALO SOLDIERS ASSOCIATION 2025 VETERAN'S DAY COMMEMORATIVE CEREMONY
DESCRIPTION:Date: Nov 11\nTime: 11 – 11:30 a.m.\nLocation: San Antonio National Cemetery\, 517 Paso Hondo Street\, San Antonio\, TX 78203\, USA \n\n\n\n\n\nJoin us this Veterans Day as we honor the brave men and women who have served our nation with courage and distinction\, featuring guest speaker Brig. Gen. Freddy L. Adams II\, USA. \n\n\n\n\n\nShare this:Post
URL:https://miltrac.org/event/bexar-county-buffalo-soldiers-association-2025-veterans-day-commemorative-ceremony/
ATTACH;FMTTYPE=image/jpeg:https://miltrac.org/wp-content/uploads/2025/09/scaled_256.jpg
END:VEVENT
BEGIN:VEVENT
DTSTART;TZID=America/Chicago:20251111T140000
DTEND;TZID=America/Chicago:20251111T170000
DTSTAMP:20260420T004454
CREATED:20251005T214859Z
LAST-MODIFIED:20251005T215022Z
UID:10002006-1762869600-1762880400@miltrac.org
SUMMARY:Post 8541 to show Vietnam video on Veterans Day
DESCRIPTION:Post 8541 will show “50  Years After the Fall: From Saigon to San Antonio\,” a KSAT TV special on the end of the Vietnam War.  Produced by Steve Spriester\, the video shares the stories of Vietnam veterans who served in the conflict. \nDate:  Nov. 11 \nTime:  2 p.m. \nLocation:  Post 8541\, 2244 Austin HIghway. \nShare this:Post
URL:https://miltrac.org/event/post-8541-to-show-vietnam-video-on-veterans-day/
CATEGORIES:JBSA,Texas,Texas Event
ATTACH;FMTTYPE=image/png:https://miltrac.org/wp-content/uploads/2025/10/ksat.vets_.day_.png
END:VEVENT
BEGIN:VEVENT
DTSTART;TZID=America/Chicago:20251111T190000
DTEND;TZID=America/Chicago:20251111T210000
DTSTAMP:20260420T004454
CREATED:20250430T233315Z
LAST-MODIFIED:20250430T233514Z
UID:10001244-1762887600-1762894800@miltrac.org
SUMMARY:American Legion riders meeting
DESCRIPTION:The American Legion Riders meet on the second Tuesday of the month from 7 to 9 p.m. at 326 Legion Drive W in Converse\, Texas. \nEd Richards\, an retired Army NCO\, said the Riders welcome veterans and others.  Veterans are asked to join an American Legion post.  Non-veterans can also join as an auxiliary member.  If they are the son or daughter of a veteran\, they can also join the post Sons of the American Legion as well. \nPost 593 address \nRELATED:  Legacy Run: Healing on the Run \n \n  \nShare this:Post
URL:https://miltrac.org/event/american-legion-riders-meeting/2025-11-11/
ATTACH;FMTTYPE=image/png:https://miltrac.org/wp-content/uploads/2025/04/american.legion.riders.png
END:VEVENT
BEGIN:VEVENT
DTSTART;TZID=America/Chicago:20251113T073000
DTEND;TZID=America/Chicago:20251113T080000
DTSTAMP:20260420T004454
CREATED:20250510T190717Z
LAST-MODIFIED:20250510T191001Z
UID:10001359-1763019000-1763020800@miltrac.org
SUMMARY:Morning breath workshop
DESCRIPTION:The Veteran Spouse Network hosts a virtual ‘Morning Breath Work” webinar. \nTime:  Each Thursday\, 7:30 p.m.  This program is geared for military spouses of active duty and retirees. \nRegistration:  Please click on the graphic below. \n \n  \nShare this:Post
URL:https://miltrac.org/event/morning-breath-work-workshop/2025-11-13/
END:VEVENT
BEGIN:VEVENT
DTSTART;TZID=America/Chicago:20251113T090000
DTEND;TZID=America/Chicago:20251113T130000
DTSTAMP:20260420T004454
CREATED:20250919T201615Z
LAST-MODIFIED:20250919T201615Z
UID:10001998-1763024400-1763038800@miltrac.org
SUMMARY:Hiring Red\, White & You!
DESCRIPTION:Date: Nov 13\nTime: 9:00 a.m. – 1:00 p.m.\nLocation: Boeing Center at Tech Port\, 3331 General Hudnell Dr\, San Antonio\, TX 78226\n \nRegister Online \n\nEvery year in November Workforce Solutions Alamo hosts Hiring Red\, White & You! This is our largest Hiring Event of the year and is targeted towards Veterans\, Transitioning Service Members\, and Military Spouses. This event is also open to the General Public. \nThis event is in partnership with the Texas Workforce Commission\, the Texas Veteran’s Commission\, the Texas Medical Center\, the Governor’s Office\, and the 28 local Workforce Boards. \nShare this:Post
URL:https://miltrac.org/event/hiring-red-white-you/
ATTACH;FMTTYPE=image/jpeg:https://miltrac.org/wp-content/uploads/2025/09/https___cdn.evbuc_.com_images_575255639_271874944343_1_original.jpg
END:VEVENT
BEGIN:VEVENT
DTSTART;TZID=America/Chicago:20251113T173000
DTEND;TZID=America/Chicago:20251113T190000
DTSTAMP:20260420T004454
CREATED:20250919T194422Z
LAST-MODIFIED:20250919T194422Z
UID:10001992-1763055000-1763060400@miltrac.org
SUMMARY:Senior Non-Commissioned Officer (SNCO) Reception
DESCRIPTION:Date: Nov 13\nTime: 5:30 – 7:00 PM\nLocation: SeaWorld\, 10500 SeaWorld Drive\, San Antonio\, TX 78251\, USA \nJoin us on Thursday\, November 13\, 2025 as we host the CAM Senior Non-Commissioned Officer (SNCO) Reception to honor the SNCOs based in Military City\, USA. This annual CAM event features SNCOs from all services in a fun and festive atmosphere. \nThis event is free for active duty\, guard\, and reserve military service members and one (1) guest\, but registration is required. Civilian and community members have a nominal fee to register. \nShare this:Post
URL:https://miltrac.org/event/senior-non-commissioned-officer-snco-reception/
ATTACH;FMTTYPE=image/jpeg:https://miltrac.org/wp-content/uploads/2025/09/scaled_512-2.jpg
END:VEVENT
BEGIN:VEVENT
DTSTART;TZID=America/Chicago:20251114T120000
DTEND;TZID=America/Chicago:20251114T133000
DTSTAMP:20260420T004454
CREATED:20250919T204352Z
LAST-MODIFIED:20250919T204352Z
UID:10002001-1763121600-1763127000@miltrac.org
SUMMARY:ESGR Salute to Bosses Luncheon
DESCRIPTION:Date: Nov 14\nTime: 12:00 – 1:30 p.m.\nLocation: 602 E Commerce St\, San Antonio\, TX 78205 \nCelebrating and honoring employers for their support of the men and women serving in our Nation’s Reserve Components. \nThis event is by invitation only. If you are interested in attending\, please contact Caryl Hill\, Southern Region Director at \ncarylhill@satexas.com. \nShare this:Post
URL:https://miltrac.org/event/esgr-salute-to-bosses-luncheon/
END:VEVENT
BEGIN:VEVENT
DTSTART;TZID=America/Chicago:20251115T140000
DTEND;TZID=America/Chicago:20251115T180000
DTSTAMP:20260420T004454
CREATED:20251006T124619Z
LAST-MODIFIED:20251006T124619Z
UID:10002008-1763215200-1763229600@miltrac.org
SUMMARY:VETS2Industry virtual networking
DESCRIPTION:Join Vets2Industry for this virtual networking event. \nDate:  Nov. 15 \nTime:  2-6 p.m. \nRegistration iink: https://www.eventbrite.com/o/vets2industry-30000678938 \nShare this:Post
URL:https://miltrac.org/event/vets2industry-virtual-networking-2/
ATTACH;FMTTYPE=image/png:https://miltrac.org/wp-content/uploads/2025/10/vets2industry.prime_.png
END:VEVENT
BEGIN:VEVENT
DTSTART;TZID=America/Chicago:20251116T150000
DTEND;TZID=America/Chicago:20251116T170000
DTSTAMP:20260420T004454
CREATED:20241028T111339Z
LAST-MODIFIED:20241028T111339Z
UID:10000670-1763305200-1763312400@miltrac.org
SUMMARY:VFW Post 8541 Sick Call
DESCRIPTION:VFW Post 8541 hosts a sick call for homeless veterans. \nTime:  Nov. 3\, 3-5 p.m. \nLocation:  VFW Post 8541\, 2222 Austin Highway\, San Antonio \nShare this:Post
URL:https://miltrac.org/event/vfw-post-8541-sick-call/2025-11-16/
ATTACH;FMTTYPE=image/png:https://miltrac.org/wp-content/uploads/2024/10/sick.call_.png
END:VEVENT
BEGIN:VEVENT
DTSTART;TZID=America/Chicago:20251118T100000
DTEND;TZID=America/Chicago:20251118T120000
DTSTAMP:20260420T004454
CREATED:20251010T201149Z
LAST-MODIFIED:20251010T201149Z
UID:10002018-1763460000-1763467200@miltrac.org
SUMMARY:My next career move workshop
DESCRIPTION:Join the Department of Labor for this workshop. \nDate:  Nov. 18 \nTime: 10 a.m.-noon \nLocation:  Good Samaritan Workshop\, 202 Connelly Street \nReservations:  210-608-1814 \nShare this:Post
URL:https://miltrac.org/event/my-next-career-move-workshop/
ATTACH;FMTTYPE=image/png:https://miltrac.org/wp-content/uploads/2024/11/career.choice.png
END:VEVENT
BEGIN:VEVENT
DTSTART;TZID=America/Chicago:20251118T120000
DTEND;TZID=America/Chicago:20251118T140000
DTSTAMP:20260420T004454
CREATED:20251010T201552Z
LAST-MODIFIED:20251010T201552Z
UID:10002019-1763467200-1763474400@miltrac.org
SUMMARY:Resume basics workshop
DESCRIPTION:Join the Department of Labor for this resume basics workshop \nDate:  Nov. 18 \nTime: 12:15 pm.-2:15 p.m. \nLocation:  Good Samaritan Veteran Center 202 Connelly Street \nReservations:  210-608-1814 \nShare this:Post
URL:https://miltrac.org/event/resume-basics-workshop-4/
ATTACH;FMTTYPE=image/jpeg:https://miltrac.org/wp-content/uploads/2024/03/Event-1a-Image.jpg
END:VEVENT
BEGIN:VEVENT
DTSTART;TZID=America/Chicago:20251119T120000
DTEND;TZID=America/Chicago:20251119T133000
DTSTAMP:20260420T004454
CREATED:20251018T172357Z
LAST-MODIFIED:20251018T172421Z
UID:10002023-1763553600-1763559000@miltrac.org
SUMMARY:Wounded Warrior LinkedIn class
DESCRIPTION:Join Jacob Mousseau for this virtual LinkedIn class. \nHere’s what Jacob added in a recent LinkedIn post. \nYour LinkedIn profile is either opening doors or leaving you invisible. \nThat’s the reality check I’m dropping on your newsfeed today. \nAfter reviewing hundreds of veteran profiles this year\, I’ve noticed a pattern… \nMost military professionals either avoid LinkedIn entirely or have profiles collecting digital dust. \nNeither approach works in today’s job market. \nReservations are recommended.  Please use the flyer Q/R code below to register. \nwounded.warror.linkedin  \nShare this:Post
URL:https://miltrac.org/event/wounded-warrior-linkedin-class/
ATTACH;FMTTYPE=image/png:https://miltrac.org/wp-content/uploads/2024/08/Linkedin.1.png
END:VEVENT
BEGIN:VEVENT
DTSTART;TZID=America/Chicago:20251120T073000
DTEND;TZID=America/Chicago:20251120T080000
DTSTAMP:20260420T004454
CREATED:20250510T190717Z
LAST-MODIFIED:20250510T191001Z
UID:10001360-1763623800-1763625600@miltrac.org
SUMMARY:Morning breath workshop
DESCRIPTION:The Veteran Spouse Network hosts a virtual ‘Morning Breath Work” webinar. \nTime:  Each Thursday\, 7:30 p.m.  This program is geared for military spouses of active duty and retirees. \nRegistration:  Please click on the graphic below. \n \n  \nShare this:Post
URL:https://miltrac.org/event/morning-breath-work-workshop/2025-11-20/
END:VEVENT
BEGIN:VEVENT
DTSTART;TZID=America/Chicago:20251120T090000
DTEND;TZID=America/Chicago:20251120T110000
DTSTAMP:20260420T004454
CREATED:20251010T195558Z
LAST-MODIFIED:20251010T195558Z
UID:10002015-1763629200-1763636400@miltrac.org
SUMMARY:Resume basics workshop
DESCRIPTION:Join the Department of Labor for this virtual workshop \nDate:  Nov. 20 \nTime;  9 a.m.-11 a.m. \nReservations:  210-608-1814 \nShare this:Post
URL:https://miltrac.org/event/resume-basics-workshop-3/
ATTACH;FMTTYPE=image/png:https://miltrac.org/wp-content/uploads/2025/06/federal.resume.png
END:VEVENT
BEGIN:VEVENT
DTSTART;TZID=America/Chicago:20251120T110000
DTEND;TZID=America/Chicago:20251120T133000
DTSTAMP:20260420T004454
CREATED:20251010T195932Z
LAST-MODIFIED:20251010T195932Z
UID:10002016-1763636400-1763645400@miltrac.org
SUMMARY:Resume writing workshop
DESCRIPTION:Join the Department of Labor for this virtual resume writing resume. \nDate:  Nov. 20 \nTime:  11:30 a.m.-1:30 p.m. \nReservations:  210-608-1814 \nShare this:Post
URL:https://miltrac.org/event/resume-writing-workshop/
ATTACH;FMTTYPE=image/jpeg:https://miltrac.org/wp-content/uploads/2024/06/fed.resume.jpg
END:VEVENT
BEGIN:VEVENT
DTSTART;TZID=America/Chicago:20251123T150000
DTEND;TZID=America/Chicago:20251123T170000
DTSTAMP:20260420T004454
CREATED:20241028T111339Z
LAST-MODIFIED:20241028T111339Z
UID:10000671-1763910000-1763917200@miltrac.org
SUMMARY:VFW Post 8541 Sick Call
DESCRIPTION:VFW Post 8541 hosts a sick call for homeless veterans. \nTime:  Nov. 3\, 3-5 p.m. \nLocation:  VFW Post 8541\, 2222 Austin Highway\, San Antonio \nShare this:Post
URL:https://miltrac.org/event/vfw-post-8541-sick-call/2025-11-23/
ATTACH;FMTTYPE=image/png:https://miltrac.org/wp-content/uploads/2024/10/sick.call_.png
END:VEVENT
BEGIN:VEVENT
DTSTART;TZID=America/Chicago:20251127T073000
DTEND;TZID=America/Chicago:20251127T080000
DTSTAMP:20260420T004454
CREATED:20250510T190717Z
LAST-MODIFIED:20250510T191001Z
UID:10001361-1764228600-1764230400@miltrac.org
SUMMARY:Morning breath workshop
DESCRIPTION:The Veteran Spouse Network hosts a virtual ‘Morning Breath Work” webinar. \nTime:  Each Thursday\, 7:30 p.m.  This program is geared for military spouses of active duty and retirees. \nRegistration:  Please click on the graphic below. \n \n  \nShare this:Post
URL:https://miltrac.org/event/morning-breath-work-workshop/2025-11-27/
END:VEVENT
BEGIN:VEVENT
DTSTART;TZID=America/Chicago:20251128T180000
DTEND;TZID=America/Chicago:20251128T210000
DTSTAMP:20260420T004454
CREATED:20240723T190904Z
LAST-MODIFIED:20240723T235556Z
UID:10000264-1764352800-1764363600@miltrac.org
SUMMARY:Please Join Us to support the American Legion Riders fund raiser
DESCRIPTION:The American Legion Riders at Post 309\, 8795 FM-1560 in Helotes\, will host a pork chop dinner to support their mission to help and honor veterans.  The cost for a one-inch pork chop\, with a baked potato\, a vegetable\, salad\, roll and desert is $20. \n  \nShare this:Post
URL:https://miltrac.org/event/please-join-us-to-support-the-american-legion-riders-program/2025-11-28/
ATTACH;FMTTYPE=image/png:https://miltrac.org/wp-content/uploads/2024/07/pork.choip_.png
END:VEVENT
BEGIN:VEVENT
DTSTART;TZID=America/Chicago:20251130T150000
DTEND;TZID=America/Chicago:20251130T170000
DTSTAMP:20260420T004454
CREATED:20241028T111339Z
LAST-MODIFIED:20241028T111339Z
UID:10000672-1764514800-1764522000@miltrac.org
SUMMARY:VFW Post 8541 Sick Call
DESCRIPTION:VFW Post 8541 hosts a sick call for homeless veterans. \nTime:  Nov. 3\, 3-5 p.m. \nLocation:  VFW Post 8541\, 2222 Austin Highway\, San Antonio \nShare this:Post
URL:https://miltrac.org/event/vfw-post-8541-sick-call/2025-11-30/
ATTACH;FMTTYPE=image/png:https://miltrac.org/wp-content/uploads/2024/10/sick.call_.png
END:VEVENT
BEGIN:VEVENT
DTSTART;TZID=America/Chicago:20251202T190000
DTEND;TZID=America/Chicago:20251202T210000
DTSTAMP:20260420T004454
CREATED:20250430T232451Z
LAST-MODIFIED:20250430T233707Z
UID:10001185-1764702000-1764709200@miltrac.org
SUMMARY:Join the American Legion riders in Bexar County
DESCRIPTION:Post 593 of the American Legion Riders meets the first and second Tuesday at the organization’s canteen. \nAccording to Ed Richards\, an active American Legion rider\, the post plans rallies and other rides throughout the year. \nRichards\, an Army NCO\, can attest to the value of these rides in what he calls roadside therapy for his PTSD conditions. \nRELATED:  Legacy Run:  Healing on the Road \nPost 593 directions \n\n  \nShare this:Post
URL:https://miltrac.org/event/join-the-american-legion-riders-in-bexar-county/2025-12-02/
ATTACH;FMTTYPE=image/png:https://miltrac.org/wp-content/uploads/2025/04/american.legion.riders.png
END:VEVENT
BEGIN:VEVENT
DTSTART;TZID=America/Chicago:20251204T073000
DTEND;TZID=America/Chicago:20251204T080000
DTSTAMP:20260420T004454
CREATED:20250510T190717Z
LAST-MODIFIED:20250510T191001Z
UID:10001362-1764833400-1764835200@miltrac.org
SUMMARY:Morning breath workshop
DESCRIPTION:The Veteran Spouse Network hosts a virtual ‘Morning Breath Work” webinar. \nTime:  Each Thursday\, 7:30 p.m.  This program is geared for military spouses of active duty and retirees. \nRegistration:  Please click on the graphic below. \n \n  \nShare this:Post
URL:https://miltrac.org/event/morning-breath-work-workshop/2025-12-04/
END:VEVENT
BEGIN:VEVENT
DTSTART;TZID=America/Chicago:20251206T080000
DTEND;TZID=America/Chicago:20251206T170000
DTSTAMP:20260420T004454
CREATED:20251206T131009Z
LAST-MODIFIED:20251206T131009Z
UID:10002028-1765008000-1765040400@miltrac.org
SUMMARY:VETS2Industry to host last networking event of 2025
DESCRIPTION:For veterans and their families\, the VETS2Industry provide the opportunity to work on their elevator speech and meet others in a virtual setting. Dr. LaShanndra Lee will provide the keynote. \nThe non-profit will host an event from 2-4 p.m. \nRegister here:  https://www.eventbrite.com/e/vets2industry-73rd-virtual-networking-circuit-event-tickets-1971809835297?aff=oddtdtcreator \n  \nShare this:Post
URL:https://miltrac.org/event/vets2industry-to-host-last-networking-event-of-2025/
ATTACH;FMTTYPE=image/png:https://miltrac.org/wp-content/uploads/2025/12/vets2dec.png
END:VEVENT
BEGIN:VEVENT
DTSTART;TZID=America/Chicago:20251207T150000
DTEND;TZID=America/Chicago:20251207T170000
DTSTAMP:20260420T004454
CREATED:20241028T111339Z
LAST-MODIFIED:20241028T111339Z
UID:10000673-1765119600-1765126800@miltrac.org
SUMMARY:VFW Post 8541 Sick Call
DESCRIPTION:VFW Post 8541 hosts a sick call for homeless veterans. \nTime:  Nov. 3\, 3-5 p.m. \nLocation:  VFW Post 8541\, 2222 Austin Highway\, San Antonio \nShare this:Post
URL:https://miltrac.org/event/vfw-post-8541-sick-call/2025-12-07/
ATTACH;FMTTYPE=image/png:https://miltrac.org/wp-content/uploads/2024/10/sick.call_.png
END:VEVENT
BEGIN:VEVENT
DTSTART;TZID=America/Chicago:20251209T190000
DTEND;TZID=America/Chicago:20251209T210000
DTSTAMP:20260420T004454
CREATED:20250430T233315Z
LAST-MODIFIED:20250430T233514Z
UID:10001245-1765306800-1765314000@miltrac.org
SUMMARY:American Legion riders meeting
DESCRIPTION:The American Legion Riders meet on the second Tuesday of the month from 7 to 9 p.m. at 326 Legion Drive W in Converse\, Texas. \nEd Richards\, an retired Army NCO\, said the Riders welcome veterans and others.  Veterans are asked to join an American Legion post.  Non-veterans can also join as an auxiliary member.  If they are the son or daughter of a veteran\, they can also join the post Sons of the American Legion as well. \nPost 593 address \nRELATED:  Legacy Run: Healing on the Run \n \n  \nShare this:Post
URL:https://miltrac.org/event/american-legion-riders-meeting/2025-12-09/
ATTACH;FMTTYPE=image/png:https://miltrac.org/wp-content/uploads/2025/04/american.legion.riders.png
END:VEVENT
BEGIN:VEVENT
DTSTART;TZID=America/Chicago:20251210T100000
DTEND;TZID=America/Chicago:20251210T143000
DTSTAMP:20260420T004454
CREATED:20251203T175649Z
LAST-MODIFIED:20251204T231306Z
UID:10002025-1765360800-1765377000@miltrac.org
SUMMARY:OBTT Workshop
DESCRIPTION:Date: December 10\nLocation:  Workforce Solutions Alamo- Datapoint\, 3652 Bluemel Rd. San Antonio\, TX 78229 \nPoint of Contact:  (210) 608-1814 \n\nKnowledge is key in the job hunt. Whether it’s polishing your resume to attract hiring managers or building online networks on LinkedIn\, these skills can help you gain the edge.\n\nLinkedIn Profiles\n10:00 am- 12:00 pm \nExplore LinkedIn as a networking tool. Learn to create\na compelling profile that can market your professional\nbrand and highlight your experience. \nResume Basics\n12:15 – 2:15 pm\nLearn to recognize the elements of an effective resume.\nThis is your quick-start guide to building a resume that\nwill help you get noticed and hired.\n\nREGISTER ONLINE \n\nRelated Articles: \nLinkedIn serves as the ultimate networking tool \nIs there a limit on having too many resumes? \nShare this:Post
URL:https://miltrac.org/event/obtt-workshop-2/
ATTACH;FMTTYPE=image/png:https://miltrac.org/wp-content/uploads/2025/12/Untitled-design.png
END:VEVENT
END:VCALENDAR