BEGIN:VCALENDAR
VERSION:2.0
PRODID:-//MilTRAC - ECPv6.15.20//NONSGML v1.0//EN
CALSCALE:GREGORIAN
METHOD:PUBLISH
X-WR-CALNAME:MilTRAC
X-ORIGINAL-URL:https://miltrac.org
X-WR-CALDESC:Events for MilTRAC
REFRESH-INTERVAL;VALUE=DURATION:PT1H
X-Robots-Tag:noindex
X-PUBLISHED-TTL:PT1H
BEGIN:VTIMEZONE
TZID:America/Chicago
BEGIN:DAYLIGHT
TZOFFSETFROM:-0600
TZOFFSETTO:-0500
TZNAME:CDT
DTSTART:20260308T080000
END:DAYLIGHT
BEGIN:STANDARD
TZOFFSETFROM:-0500
TZOFFSETTO:-0600
TZNAME:CST
DTSTART:20261101T070000
END:STANDARD
BEGIN:DAYLIGHT
TZOFFSETFROM:-0600
TZOFFSETTO:-0500
TZNAME:CDT
DTSTART:20270314T080000
END:DAYLIGHT
BEGIN:STANDARD
TZOFFSETFROM:-0500
TZOFFSETTO:-0600
TZNAME:CST
DTSTART:20271107T070000
END:STANDARD
BEGIN:DAYLIGHT
TZOFFSETFROM:-0600
TZOFFSETTO:-0500
TZNAME:CDT
DTSTART:20280312T080000
END:DAYLIGHT
BEGIN:STANDARD
TZOFFSETFROM:-0500
TZOFFSETTO:-0600
TZNAME:CST
DTSTART:20281105T070000
END:STANDARD
END:VTIMEZONE
BEGIN:VEVENT
DTSTART;TZID=America/Chicago:20271024T150000
DTEND;TZID=America/Chicago:20271024T170000
DTSTAMP:20260423T004758
CREATED:20241028T111339Z
LAST-MODIFIED:20241028T111339Z
UID:10000771-1824390000-1824397200@miltrac.org
SUMMARY:VFW Post 8541 Sick Call
DESCRIPTION:VFW Post 8541 hosts a sick call for homeless veterans. \nTime:  Nov. 3\, 3-5 p.m. \nLocation:  VFW Post 8541\, 2222 Austin Highway\, San Antonio \nShare this:Post
URL:https://miltrac.org/event/vfw-post-8541-sick-call/2027-10-24/
ATTACH;FMTTYPE=image/png:https://miltrac.org/wp-content/uploads/2024/10/sick.call_.png
END:VEVENT
BEGIN:VEVENT
DTSTART;TZID=America/Chicago:20271028T073000
DTEND;TZID=America/Chicago:20271028T080000
DTSTAMP:20260423T004758
CREATED:20250510T190717Z
LAST-MODIFIED:20250510T191001Z
UID:10001461-1824708600-1824710400@miltrac.org
SUMMARY:Morning breath workshop
DESCRIPTION:The Veteran Spouse Network hosts a virtual ‘Morning Breath Work” webinar. \nTime:  Each Thursday\, 7:30 p.m.  This program is geared for military spouses of active duty and retirees. \nRegistration:  Please click on the graphic below. \n \n  \nShare this:Post
URL:https://miltrac.org/event/morning-breath-work-workshop/2027-10-28/
END:VEVENT
BEGIN:VEVENT
DTSTART;TZID=America/Chicago:20271031T060000
DTEND;TZID=America/Chicago:20271031T060000
DTSTAMP:20260423T004758
CREATED:20250428T102421Z
LAST-MODIFIED:20250428T103410Z
UID:10001160-1824962400-1824962400@miltrac.org
SUMMARY:MILCountry Meetup
DESCRIPTION:Live outside of San Antonio near Bulverde and New Braunfels and want to network with other military professionals? \nJoin others at MILCountry Meetup.  The event is held  at the District\, 15000 Texas-46 on the last Friday of every month. \n“This is where the Military City USA meets the Texas Hill Country\,” said Stephan Porter\, the event’s organizer noted in a post. \nTime:  May 30\, 7 to 10 p.m. \nAddress:  15000 Texas 46\, Spring Branch \n  \nShare this:Post
URL:https://miltrac.org/event/milcountry-meetup-2/2027-10-31/
CATEGORIES:JBSA,Texas
ATTACH;FMTTYPE=image/png:https://miltrac.org/wp-content/uploads/2025/04/milcountry.in_.png
END:VEVENT
BEGIN:VEVENT
DTSTART;TZID=America/Chicago:20271031T150000
DTEND;TZID=America/Chicago:20271031T170000
DTSTAMP:20260423T004758
CREATED:20241028T111339Z
LAST-MODIFIED:20241028T111339Z
UID:10000772-1824994800-1825002000@miltrac.org
SUMMARY:VFW Post 8541 Sick Call
DESCRIPTION:VFW Post 8541 hosts a sick call for homeless veterans. \nTime:  Nov. 3\, 3-5 p.m. \nLocation:  VFW Post 8541\, 2222 Austin Highway\, San Antonio \nShare this:Post
URL:https://miltrac.org/event/vfw-post-8541-sick-call/2027-10-31/
ATTACH;FMTTYPE=image/png:https://miltrac.org/wp-content/uploads/2024/10/sick.call_.png
END:VEVENT
BEGIN:VEVENT
DTSTART;TZID=America/Chicago:20271102T190000
DTEND;TZID=America/Chicago:20271102T210000
DTSTAMP:20260423T004758
CREATED:20250430T232451Z
LAST-MODIFIED:20250430T233707Z
UID:10001208-1825182000-1825189200@miltrac.org
SUMMARY:Join the American Legion riders in Bexar County
DESCRIPTION:Post 593 of the American Legion Riders meets the first and second Tuesday at the organization’s canteen. \nAccording to Ed Richards\, an active American Legion rider\, the post plans rallies and other rides throughout the year. \nRichards\, an Army NCO\, can attest to the value of these rides in what he calls roadside therapy for his PTSD conditions. \nRELATED:  Legacy Run:  Healing on the Road \nPost 593 directions \n\n  \nShare this:Post
URL:https://miltrac.org/event/join-the-american-legion-riders-in-bexar-county/2027-11-02/
ATTACH;FMTTYPE=image/png:https://miltrac.org/wp-content/uploads/2025/04/american.legion.riders.png
END:VEVENT
BEGIN:VEVENT
DTSTART;TZID=America/Chicago:20271104T073000
DTEND;TZID=America/Chicago:20271104T080000
DTSTAMP:20260423T004758
CREATED:20250510T190717Z
LAST-MODIFIED:20250510T191001Z
UID:10001462-1825313400-1825315200@miltrac.org
SUMMARY:Morning breath workshop
DESCRIPTION:The Veteran Spouse Network hosts a virtual ‘Morning Breath Work” webinar. \nTime:  Each Thursday\, 7:30 p.m.  This program is geared for military spouses of active duty and retirees. \nRegistration:  Please click on the graphic below. \n \n  \nShare this:Post
URL:https://miltrac.org/event/morning-breath-work-workshop/2027-11-04/
END:VEVENT
BEGIN:VEVENT
DTSTART;TZID=America/Chicago:20271107T150000
DTEND;TZID=America/Chicago:20271107T170000
DTSTAMP:20260423T004758
CREATED:20241028T111339Z
LAST-MODIFIED:20241028T111339Z
UID:10000773-1825599600-1825606800@miltrac.org
SUMMARY:VFW Post 8541 Sick Call
DESCRIPTION:VFW Post 8541 hosts a sick call for homeless veterans. \nTime:  Nov. 3\, 3-5 p.m. \nLocation:  VFW Post 8541\, 2222 Austin Highway\, San Antonio \nShare this:Post
URL:https://miltrac.org/event/vfw-post-8541-sick-call/2027-11-07/
ATTACH;FMTTYPE=image/png:https://miltrac.org/wp-content/uploads/2024/10/sick.call_.png
END:VEVENT
BEGIN:VEVENT
DTSTART;TZID=America/Chicago:20271109T190000
DTEND;TZID=America/Chicago:20271109T210000
DTSTAMP:20260423T004758
CREATED:20250430T233315Z
LAST-MODIFIED:20250430T233514Z
UID:10001268-1825786800-1825794000@miltrac.org
SUMMARY:American Legion riders meeting
DESCRIPTION:The American Legion Riders meet on the second Tuesday of the month from 7 to 9 p.m. at 326 Legion Drive W in Converse\, Texas. \nEd Richards\, an retired Army NCO\, said the Riders welcome veterans and others.  Veterans are asked to join an American Legion post.  Non-veterans can also join as an auxiliary member.  If they are the son or daughter of a veteran\, they can also join the post Sons of the American Legion as well. \nPost 593 address \nRELATED:  Legacy Run: Healing on the Run \n \n  \nShare this:Post
URL:https://miltrac.org/event/american-legion-riders-meeting/2027-11-09/
ATTACH;FMTTYPE=image/png:https://miltrac.org/wp-content/uploads/2025/04/american.legion.riders.png
END:VEVENT
BEGIN:VEVENT
DTSTART;TZID=America/Chicago:20271111T073000
DTEND;TZID=America/Chicago:20271111T080000
DTSTAMP:20260423T004758
CREATED:20250510T190717Z
LAST-MODIFIED:20250510T191001Z
UID:10001463-1825918200-1825920000@miltrac.org
SUMMARY:Morning breath workshop
DESCRIPTION:The Veteran Spouse Network hosts a virtual ‘Morning Breath Work” webinar. \nTime:  Each Thursday\, 7:30 p.m.  This program is geared for military spouses of active duty and retirees. \nRegistration:  Please click on the graphic below. \n \n  \nShare this:Post
URL:https://miltrac.org/event/morning-breath-work-workshop/2027-11-11/
END:VEVENT
BEGIN:VEVENT
DTSTART;TZID=America/Chicago:20271114T080000
DTEND;TZID=America/Chicago:20271114T170000
DTSTAMP:20260423T004758
CREATED:20240723T112312Z
LAST-MODIFIED:20240723T112312Z
UID:10000167-1826179200-1826211600@miltrac.org
SUMMARY:It's time for a Buddy Check
DESCRIPTION:If  you served in the military\, you had a friend who had your back.  This was someone you could vent about things\, when something happened to upset  you. \nThe military\, as a rule\, doesn’t allow us to vent\, except for what our Navy colleagues call “shipmate” or Air Force term as their “wing man.” \nThat’s why we at MilTRAC are setting aside the second Sunday of every month to call those comrades in arm. \n  \nShare this:Post
URL:https://miltrac.org/event/its-time-for-a-buddy-check/2027-11-14/
ATTACH;FMTTYPE=image/png:https://miltrac.org/wp-content/uploads/2024/07/mentor.png
END:VEVENT
BEGIN:VEVENT
DTSTART;TZID=America/Chicago:20271114T150000
DTEND;TZID=America/Chicago:20271114T170000
DTSTAMP:20260423T004758
CREATED:20241028T111339Z
LAST-MODIFIED:20241028T111339Z
UID:10000774-1826204400-1826211600@miltrac.org
SUMMARY:VFW Post 8541 Sick Call
DESCRIPTION:VFW Post 8541 hosts a sick call for homeless veterans. \nTime:  Nov. 3\, 3-5 p.m. \nLocation:  VFW Post 8541\, 2222 Austin Highway\, San Antonio \nShare this:Post
URL:https://miltrac.org/event/vfw-post-8541-sick-call/2027-11-14/
ATTACH;FMTTYPE=image/png:https://miltrac.org/wp-content/uploads/2024/10/sick.call_.png
END:VEVENT
BEGIN:VEVENT
DTSTART;TZID=America/Chicago:20271118T073000
DTEND;TZID=America/Chicago:20271118T080000
DTSTAMP:20260423T004758
CREATED:20250510T190717Z
LAST-MODIFIED:20250510T191001Z
UID:10001464-1826523000-1826524800@miltrac.org
SUMMARY:Morning breath workshop
DESCRIPTION:The Veteran Spouse Network hosts a virtual ‘Morning Breath Work” webinar. \nTime:  Each Thursday\, 7:30 p.m.  This program is geared for military spouses of active duty and retirees. \nRegistration:  Please click on the graphic below. \n \n  \nShare this:Post
URL:https://miltrac.org/event/morning-breath-work-workshop/2027-11-18/
END:VEVENT
BEGIN:VEVENT
DTSTART;TZID=America/Chicago:20271121T150000
DTEND;TZID=America/Chicago:20271121T170000
DTSTAMP:20260423T004758
CREATED:20241028T111339Z
LAST-MODIFIED:20241028T111339Z
UID:10000775-1826809200-1826816400@miltrac.org
SUMMARY:VFW Post 8541 Sick Call
DESCRIPTION:VFW Post 8541 hosts a sick call for homeless veterans. \nTime:  Nov. 3\, 3-5 p.m. \nLocation:  VFW Post 8541\, 2222 Austin Highway\, San Antonio \nShare this:Post
URL:https://miltrac.org/event/vfw-post-8541-sick-call/2027-11-21/
ATTACH;FMTTYPE=image/png:https://miltrac.org/wp-content/uploads/2024/10/sick.call_.png
END:VEVENT
BEGIN:VEVENT
DTSTART;TZID=America/Chicago:20271125T073000
DTEND;TZID=America/Chicago:20271125T080000
DTSTAMP:20260423T004758
CREATED:20250510T190717Z
LAST-MODIFIED:20250510T191001Z
UID:10001465-1827127800-1827129600@miltrac.org
SUMMARY:Morning breath workshop
DESCRIPTION:The Veteran Spouse Network hosts a virtual ‘Morning Breath Work” webinar. \nTime:  Each Thursday\, 7:30 p.m.  This program is geared for military spouses of active duty and retirees. \nRegistration:  Please click on the graphic below. \n \n  \nShare this:Post
URL:https://miltrac.org/event/morning-breath-work-workshop/2027-11-25/
END:VEVENT
BEGIN:VEVENT
DTSTART;TZID=America/Chicago:20271126T180000
DTEND;TZID=America/Chicago:20271126T210000
DTSTAMP:20260423T004758
CREATED:20240723T190904Z
LAST-MODIFIED:20240723T235556Z
UID:10000288-1827252000-1827262800@miltrac.org
SUMMARY:Please Join Us to support the American Legion Riders fund raiser
DESCRIPTION:The American Legion Riders at Post 309\, 8795 FM-1560 in Helotes\, will host a pork chop dinner to support their mission to help and honor veterans.  The cost for a one-inch pork chop\, with a baked potato\, a vegetable\, salad\, roll and desert is $20. \n  \nShare this:Post
URL:https://miltrac.org/event/please-join-us-to-support-the-american-legion-riders-program/2027-11-26/
ATTACH;FMTTYPE=image/png:https://miltrac.org/wp-content/uploads/2024/07/pork.choip_.png
END:VEVENT
BEGIN:VEVENT
DTSTART;TZID=America/Chicago:20271128T150000
DTEND;TZID=America/Chicago:20271128T170000
DTSTAMP:20260423T004758
CREATED:20241028T111339Z
LAST-MODIFIED:20241028T111339Z
UID:10000776-1827414000-1827421200@miltrac.org
SUMMARY:VFW Post 8541 Sick Call
DESCRIPTION:VFW Post 8541 hosts a sick call for homeless veterans. \nTime:  Nov. 3\, 3-5 p.m. \nLocation:  VFW Post 8541\, 2222 Austin Highway\, San Antonio \nShare this:Post
URL:https://miltrac.org/event/vfw-post-8541-sick-call/2027-11-28/
ATTACH;FMTTYPE=image/png:https://miltrac.org/wp-content/uploads/2024/10/sick.call_.png
END:VEVENT
BEGIN:VEVENT
DTSTART;TZID=America/Chicago:20271202T073000
DTEND;TZID=America/Chicago:20271202T080000
DTSTAMP:20260423T004758
CREATED:20250510T190717Z
LAST-MODIFIED:20250510T191001Z
UID:10001466-1827732600-1827734400@miltrac.org
SUMMARY:Morning breath workshop
DESCRIPTION:The Veteran Spouse Network hosts a virtual ‘Morning Breath Work” webinar. \nTime:  Each Thursday\, 7:30 p.m.  This program is geared for military spouses of active duty and retirees. \nRegistration:  Please click on the graphic below. \n \n  \nShare this:Post
URL:https://miltrac.org/event/morning-breath-work-workshop/2027-12-02/
END:VEVENT
BEGIN:VEVENT
DTSTART;TZID=America/Chicago:20271205T150000
DTEND;TZID=America/Chicago:20271205T170000
DTSTAMP:20260423T004758
CREATED:20241028T111339Z
LAST-MODIFIED:20241028T111339Z
UID:10000777-1828018800-1828026000@miltrac.org
SUMMARY:VFW Post 8541 Sick Call
DESCRIPTION:VFW Post 8541 hosts a sick call for homeless veterans. \nTime:  Nov. 3\, 3-5 p.m. \nLocation:  VFW Post 8541\, 2222 Austin Highway\, San Antonio \nShare this:Post
URL:https://miltrac.org/event/vfw-post-8541-sick-call/2027-12-05/
ATTACH;FMTTYPE=image/png:https://miltrac.org/wp-content/uploads/2024/10/sick.call_.png
END:VEVENT
BEGIN:VEVENT
DTSTART;TZID=America/Chicago:20271207T190000
DTEND;TZID=America/Chicago:20271207T210000
DTSTAMP:20260423T004758
CREATED:20250430T232451Z
LAST-MODIFIED:20250430T233707Z
UID:10001209-1828206000-1828213200@miltrac.org
SUMMARY:Join the American Legion riders in Bexar County
DESCRIPTION:Post 593 of the American Legion Riders meets the first and second Tuesday at the organization’s canteen. \nAccording to Ed Richards\, an active American Legion rider\, the post plans rallies and other rides throughout the year. \nRichards\, an Army NCO\, can attest to the value of these rides in what he calls roadside therapy for his PTSD conditions. \nRELATED:  Legacy Run:  Healing on the Road \nPost 593 directions \n\n  \nShare this:Post
URL:https://miltrac.org/event/join-the-american-legion-riders-in-bexar-county/2027-12-07/
ATTACH;FMTTYPE=image/png:https://miltrac.org/wp-content/uploads/2025/04/american.legion.riders.png
END:VEVENT
BEGIN:VEVENT
DTSTART;TZID=America/Chicago:20271209T073000
DTEND;TZID=America/Chicago:20271209T080000
DTSTAMP:20260423T004758
CREATED:20250510T190717Z
LAST-MODIFIED:20250510T191001Z
UID:10001467-1828337400-1828339200@miltrac.org
SUMMARY:Morning breath workshop
DESCRIPTION:The Veteran Spouse Network hosts a virtual ‘Morning Breath Work” webinar. \nTime:  Each Thursday\, 7:30 p.m.  This program is geared for military spouses of active duty and retirees. \nRegistration:  Please click on the graphic below. \n \n  \nShare this:Post
URL:https://miltrac.org/event/morning-breath-work-workshop/2027-12-09/
END:VEVENT
BEGIN:VEVENT
DTSTART;TZID=America/Chicago:20271212T080000
DTEND;TZID=America/Chicago:20271212T170000
DTSTAMP:20260423T004758
CREATED:20240723T112312Z
LAST-MODIFIED:20240723T112312Z
UID:10000168-1828598400-1828630800@miltrac.org
SUMMARY:It's time for a Buddy Check
DESCRIPTION:If  you served in the military\, you had a friend who had your back.  This was someone you could vent about things\, when something happened to upset  you. \nThe military\, as a rule\, doesn’t allow us to vent\, except for what our Navy colleagues call “shipmate” or Air Force term as their “wing man.” \nThat’s why we at MilTRAC are setting aside the second Sunday of every month to call those comrades in arm. \n  \nShare this:Post
URL:https://miltrac.org/event/its-time-for-a-buddy-check/2027-12-12/
ATTACH;FMTTYPE=image/png:https://miltrac.org/wp-content/uploads/2024/07/mentor.png
END:VEVENT
BEGIN:VEVENT
DTSTART;TZID=America/Chicago:20271212T150000
DTEND;TZID=America/Chicago:20271212T170000
DTSTAMP:20260423T004758
CREATED:20241028T111339Z
LAST-MODIFIED:20241028T111339Z
UID:10000778-1828623600-1828630800@miltrac.org
SUMMARY:VFW Post 8541 Sick Call
DESCRIPTION:VFW Post 8541 hosts a sick call for homeless veterans. \nTime:  Nov. 3\, 3-5 p.m. \nLocation:  VFW Post 8541\, 2222 Austin Highway\, San Antonio \nShare this:Post
URL:https://miltrac.org/event/vfw-post-8541-sick-call/2027-12-12/
ATTACH;FMTTYPE=image/png:https://miltrac.org/wp-content/uploads/2024/10/sick.call_.png
END:VEVENT
BEGIN:VEVENT
DTSTART;TZID=America/Chicago:20271214T190000
DTEND;TZID=America/Chicago:20271214T210000
DTSTAMP:20260423T004758
CREATED:20250430T233315Z
LAST-MODIFIED:20250430T233514Z
UID:10001269-1828810800-1828818000@miltrac.org
SUMMARY:American Legion riders meeting
DESCRIPTION:The American Legion Riders meet on the second Tuesday of the month from 7 to 9 p.m. at 326 Legion Drive W in Converse\, Texas. \nEd Richards\, an retired Army NCO\, said the Riders welcome veterans and others.  Veterans are asked to join an American Legion post.  Non-veterans can also join as an auxiliary member.  If they are the son or daughter of a veteran\, they can also join the post Sons of the American Legion as well. \nPost 593 address \nRELATED:  Legacy Run: Healing on the Run \n \n  \nShare this:Post
URL:https://miltrac.org/event/american-legion-riders-meeting/2027-12-14/
ATTACH;FMTTYPE=image/png:https://miltrac.org/wp-content/uploads/2025/04/american.legion.riders.png
END:VEVENT
BEGIN:VEVENT
DTSTART;TZID=America/Chicago:20271216T073000
DTEND;TZID=America/Chicago:20271216T080000
DTSTAMP:20260423T004758
CREATED:20250510T190717Z
LAST-MODIFIED:20250510T191001Z
UID:10001468-1828942200-1828944000@miltrac.org
SUMMARY:Morning breath workshop
DESCRIPTION:The Veteran Spouse Network hosts a virtual ‘Morning Breath Work” webinar. \nTime:  Each Thursday\, 7:30 p.m.  This program is geared for military spouses of active duty and retirees. \nRegistration:  Please click on the graphic below. \n \n  \nShare this:Post
URL:https://miltrac.org/event/morning-breath-work-workshop/2027-12-16/
END:VEVENT
BEGIN:VEVENT
DTSTART;TZID=America/Chicago:20271219T150000
DTEND;TZID=America/Chicago:20271219T170000
DTSTAMP:20260423T004758
CREATED:20241028T111339Z
LAST-MODIFIED:20241028T111339Z
UID:10000779-1829228400-1829235600@miltrac.org
SUMMARY:VFW Post 8541 Sick Call
DESCRIPTION:VFW Post 8541 hosts a sick call for homeless veterans. \nTime:  Nov. 3\, 3-5 p.m. \nLocation:  VFW Post 8541\, 2222 Austin Highway\, San Antonio \nShare this:Post
URL:https://miltrac.org/event/vfw-post-8541-sick-call/2027-12-19/
ATTACH;FMTTYPE=image/png:https://miltrac.org/wp-content/uploads/2024/10/sick.call_.png
END:VEVENT
BEGIN:VEVENT
DTSTART;TZID=America/Chicago:20271223T073000
DTEND;TZID=America/Chicago:20271223T080000
DTSTAMP:20260423T004758
CREATED:20250510T190717Z
LAST-MODIFIED:20250510T191001Z
UID:10001469-1829547000-1829548800@miltrac.org
SUMMARY:Morning breath workshop
DESCRIPTION:The Veteran Spouse Network hosts a virtual ‘Morning Breath Work” webinar. \nTime:  Each Thursday\, 7:30 p.m.  This program is geared for military spouses of active duty and retirees. \nRegistration:  Please click on the graphic below. \n \n  \nShare this:Post
URL:https://miltrac.org/event/morning-breath-work-workshop/2027-12-23/
END:VEVENT
BEGIN:VEVENT
DTSTART;TZID=America/Chicago:20271224T180000
DTEND;TZID=America/Chicago:20271224T210000
DTSTAMP:20260423T004758
CREATED:20240723T190904Z
LAST-MODIFIED:20240723T235556Z
UID:10000289-1829671200-1829682000@miltrac.org
SUMMARY:Please Join Us to support the American Legion Riders fund raiser
DESCRIPTION:The American Legion Riders at Post 309\, 8795 FM-1560 in Helotes\, will host a pork chop dinner to support their mission to help and honor veterans.  The cost for a one-inch pork chop\, with a baked potato\, a vegetable\, salad\, roll and desert is $20. \n  \nShare this:Post
URL:https://miltrac.org/event/please-join-us-to-support-the-american-legion-riders-program/2027-12-24/
ATTACH;FMTTYPE=image/png:https://miltrac.org/wp-content/uploads/2024/07/pork.choip_.png
END:VEVENT
BEGIN:VEVENT
DTSTART;TZID=America/Chicago:20271226T150000
DTEND;TZID=America/Chicago:20271226T170000
DTSTAMP:20260423T004758
CREATED:20241028T111339Z
LAST-MODIFIED:20241028T111339Z
UID:10000780-1829833200-1829840400@miltrac.org
SUMMARY:VFW Post 8541 Sick Call
DESCRIPTION:VFW Post 8541 hosts a sick call for homeless veterans. \nTime:  Nov. 3\, 3-5 p.m. \nLocation:  VFW Post 8541\, 2222 Austin Highway\, San Antonio \nShare this:Post
URL:https://miltrac.org/event/vfw-post-8541-sick-call/2027-12-26/
ATTACH;FMTTYPE=image/png:https://miltrac.org/wp-content/uploads/2024/10/sick.call_.png
END:VEVENT
BEGIN:VEVENT
DTSTART;TZID=America/Chicago:20271230T073000
DTEND;TZID=America/Chicago:20271230T080000
DTSTAMP:20260423T004758
CREATED:20250510T190717Z
LAST-MODIFIED:20250510T191001Z
UID:10001470-1830151800-1830153600@miltrac.org
SUMMARY:Morning breath workshop
DESCRIPTION:The Veteran Spouse Network hosts a virtual ‘Morning Breath Work” webinar. \nTime:  Each Thursday\, 7:30 p.m.  This program is geared for military spouses of active duty and retirees. \nRegistration:  Please click on the graphic below. \n \n  \nShare this:Post
URL:https://miltrac.org/event/morning-breath-work-workshop/2027-12-30/
END:VEVENT
BEGIN:VEVENT
DTSTART;TZID=America/Chicago:20271231T060000
DTEND;TZID=America/Chicago:20271231T060000
DTSTAMP:20260423T004758
CREATED:20250428T102421Z
LAST-MODIFIED:20250428T103410Z
UID:10001161-1830232800-1830232800@miltrac.org
SUMMARY:MILCountry Meetup
DESCRIPTION:Live outside of San Antonio near Bulverde and New Braunfels and want to network with other military professionals? \nJoin others at MILCountry Meetup.  The event is held  at the District\, 15000 Texas-46 on the last Friday of every month. \n“This is where the Military City USA meets the Texas Hill Country\,” said Stephan Porter\, the event’s organizer noted in a post. \nTime:  May 30\, 7 to 10 p.m. \nAddress:  15000 Texas 46\, Spring Branch \n  \nShare this:Post
URL:https://miltrac.org/event/milcountry-meetup-2/2027-12-31/
CATEGORIES:JBSA,Texas
ATTACH;FMTTYPE=image/png:https://miltrac.org/wp-content/uploads/2025/04/milcountry.in_.png
END:VEVENT
END:VCALENDAR